BEGIN:VCALENDAR
VERSION:2.0
PRODID:-//UCSF - Universidad Católica de Santa Fe - ECPv5.14.2.1//NONSGML v1.0//EN
CALSCALE:GREGORIAN
METHOD:PUBLISH
X-WR-CALNAME:UCSF - Universidad Católica de Santa Fe
X-ORIGINAL-URL:https://www.ucsf.edu.ar
X-WR-CALDESC:Events for UCSF - Universidad Católica de Santa Fe
REFRESH-INTERVAL;VALUE=DURATION:PT1H
X-Robots-Tag:noindex
X-PUBLISHED-TTL:PT1H
BEGIN:VTIMEZONE
TZID:America/Sao_Paulo
BEGIN:STANDARD
TZOFFSETFROM:-0200
TZOFFSETTO:-0300
TZNAME:-03
DTSTART:20180218T020000
END:STANDARD
BEGIN:DAYLIGHT
TZOFFSETFROM:-0300
TZOFFSETTO:-0200
TZNAME:-02
DTSTART:20181104T030000
END:DAYLIGHT
END:VTIMEZONE
BEGIN:VEVENT
DTSTART;TZID=America/Sao_Paulo:20181121T140000
DTEND;TZID=America/Sao_Paulo:20181121T150000
DTSTAMP:20260423T185508
CREATED:20181114T082842Z
LAST-MODIFIED:20181114T082842Z
UID:41461-1542808800-1542812400@www.ucsf.edu.ar
SUMMARY:Farmacia.Ingreso 2019: Conectate desde tu casa y sacate todas las dudas!
DESCRIPTION:Ingresá a bit.ly/ingresofarmacia \n para inscribirte y poder conectarte desde tu casa
URL:https://www.ucsf.edu.ar/evento/farmacia-2019-el-decano-responde-preguntas-encuentro-virtual-2/
LOCATION:UCSF Santa Fe\, Echagüe 7151\, Santa Fe\, Santa Fe\, Argentina
CATEGORIES:Santa Fe,Facultades,Ciencias de la Salud,Carreras de Grado,Rafaela,Sedes
GEO:-31.6069451;-60.6709418
X-APPLE-STRUCTURED-LOCATION;VALUE=URI;X-ADDRESS=UCSF Santa Fe Echagüe 7151 Santa Fe Santa Fe Argentina;X-APPLE-RADIUS=500;X-TITLE=Echagüe 7151:geo:-60.6709418,-31.6069451
END:VEVENT
BEGIN:VEVENT
DTSTART;TZID=America/Sao_Paulo:20181121T140000
DTEND;TZID=America/Sao_Paulo:20181121T150000
DTSTAMP:20260423T185508
CREATED:20181114T082842Z
LAST-MODIFIED:20181114T090405Z
UID:18829-1542808800-1542812400@www.ucsf.edu.ar
SUMMARY:Farmacia.Ingreso 2019: Conectate desde tu casa y sacate todas las dudas!
DESCRIPTION:Ingresá a bit.ly/ingresofarmacia \n para inscribirte y poder conectarte desde tu casa
URL:https://www.ucsf.edu.ar/evento/farmacia-2019-el-decano-responde-preguntas-encuentro-virtual/
LOCATION:UCSF Santa Fe\, Echagüe 7151\, Santa Fe\, Santa Fe\, Argentina
CATEGORIES:Santa Fe,Facultades,Ciencias de la Salud,Carreras de Grado,Rafaela,Sedes
GEO:-31.6069451;-60.6709418
X-APPLE-STRUCTURED-LOCATION;VALUE=URI;X-ADDRESS=UCSF Santa Fe Echagüe 7151 Santa Fe Santa Fe Argentina;X-APPLE-RADIUS=500;X-TITLE=Echagüe 7151:geo:-60.6709418,-31.6069451
END:VEVENT
BEGIN:VEVENT
DTSTART;TZID=America/Sao_Paulo:20181123T160000
DTEND;TZID=America/Sao_Paulo:20181123T180000
DTSTAMP:20260423T185508
CREATED:20181114T142633Z
LAST-MODIFIED:20181114T144249Z
UID:18835-1542988800-1542996000@www.ucsf.edu.ar
SUMMARY:2019: Fonoaudiologia en Humboldt. Clase preuniversitaria
DESCRIPTION:Clase Preuniversitaria. Ciclo Lectivo 2019 \nLic. Maria Eugenia Ferrando \nInscripciones.  \nMail: universidad@ichumboldt.edu.ar \nTeléfonos: 03496-480185/ 481265 \nmás información arriba  a la derecha: Url del evento
URL:https://www.ucsf.edu.ar/evento/2019-fonoaudiologia-en-humboldt-clase-preunviersitaria/
LOCATION:UCSF Santa Fe\, Echagüe 7151\, Santa Fe\, Santa Fe\, Argentina
CATEGORIES:Santa Fe,Facultades,Ciencias de la Salud,Rafaela,Sedes,Licenciatura en Fonoaudiología
GEO:-31.6069451;-60.6709418
X-APPLE-STRUCTURED-LOCATION;VALUE=URI;X-ADDRESS=UCSF Santa Fe Echagüe 7151 Santa Fe Santa Fe Argentina;X-APPLE-RADIUS=500;X-TITLE=Echagüe 7151:geo:-60.6709418,-31.6069451
END:VEVENT
BEGIN:VEVENT
DTSTART;TZID=America/Sao_Paulo:20181123T160000
DTEND;TZID=America/Sao_Paulo:20181123T180000
DTSTAMP:20260423T185508
CREATED:20181114T142633Z
LAST-MODIFIED:20181114T142633Z
UID:41462-1542988800-1542996000@www.ucsf.edu.ar
SUMMARY:2019: Fonoaudiologia en Humboldt. Clase preuniversitaria
DESCRIPTION:Clase Preuniversitaria. Ciclo Lectivo 2019 \nLic. Maria Eugenia Ferrando \nInscripciones.  \nMail: universidad@ichumboldt.edu.ar \nTeléfonos: 03496-480185/ 481265 \nmás información arriba  a la derecha: Url del evento
URL:https://www.ucsf.edu.ar/evento/2019-fonoaudiologia-en-humboldt-clase-preunviersitaria-2/
LOCATION:UCSF Santa Fe\, Echagüe 7151\, Santa Fe\, Santa Fe\, Argentina
CATEGORIES:Santa Fe,Facultades,Ciencias de la Salud,Rafaela,Sedes,Licenciatura en Fonoaudiología
GEO:-31.6069451;-60.6709418
X-APPLE-STRUCTURED-LOCATION;VALUE=URI;X-ADDRESS=UCSF Santa Fe Echagüe 7151 Santa Fe Santa Fe Argentina;X-APPLE-RADIUS=500;X-TITLE=Echagüe 7151:geo:-60.6709418,-31.6069451
END:VEVENT
BEGIN:VEVENT
DTSTART;TZID=America/Sao_Paulo:20181123T160000
DTEND;TZID=America/Sao_Paulo:20181123T180000
DTSTAMP:20260423T185508
CREATED:20181122T111445Z
LAST-MODIFIED:20181122T112304Z
UID:19068-1542988800-1542996000@www.ucsf.edu.ar
SUMMARY:LIC. EN NUTRICIÓN 2019: TE INVITAMOS A QUE NOS CONOZCAS MÁS!!
DESCRIPTION:
URL:https://www.ucsf.edu.ar/evento/lic-en-nutricion-2019-te-invitamos-a-que-nos-conozcas-mas/
LOCATION:UCSF Santa Fe\, Echagüe 7151\, Santa Fe\, Santa Fe\, Argentina
CATEGORIES:Santa Fe,Facultades,PUA, Programa Universidad Abierta,Ciencias de la Salud,Carreras de Grado,Licenciatura en Bioimágenes,Licenciatura en Gerontología (CCC),Rafaela,Licenciatura en Enfermería,Sedes,IEHDS Instituto de Ecología Humana y Desarrollo Sustentable,Licenciatura en Fonoaudiología,Institutos,Licenciatura en Kinesiología y Fisioterapia,Licenciatura en Nutrición,Licenciatura en Obstetricia,Licenciatura en Terapia Ocupacional,IIFCS Instituto de Investigación de la Facultad de Ciencias de la Salud
GEO:-31.6069451;-60.6709418
X-APPLE-STRUCTURED-LOCATION;VALUE=URI;X-ADDRESS=UCSF Santa Fe Echagüe 7151 Santa Fe Santa Fe Argentina;X-APPLE-RADIUS=500;X-TITLE=Echagüe 7151:geo:-60.6709418,-31.6069451
END:VEVENT
BEGIN:VEVENT
DTSTART;TZID=America/Sao_Paulo:20181123T160000
DTEND;TZID=America/Sao_Paulo:20181123T180000
DTSTAMP:20260423T185508
CREATED:20181122T111445Z
LAST-MODIFIED:20181122T111445Z
UID:41463-1542988800-1542996000@www.ucsf.edu.ar
SUMMARY:LIC. EN NUTRICIÓN 2019: TE INVITAMOS A QUE NOS CONOZCAS MÁS!!
DESCRIPTION:
URL:https://www.ucsf.edu.ar/evento/lic-en-nutricion-2019-te-invitamos-a-que-nos-conozcas-mas-2/
LOCATION:UCSF Santa Fe\, Echagüe 7151\, Santa Fe\, Santa Fe\, Argentina
CATEGORIES:Santa Fe,Facultades,PUA, Programa Universidad Abierta,Ciencias de la Salud,Carreras de Grado,Licenciatura en Bioimágenes,Licenciatura en Gerontología (CCC),Rafaela,Licenciatura en Enfermería,Sedes,IEHDS Instituto de Ecología Humana y Desarrollo Sustentable,Licenciatura en Fonoaudiología,Institutos,Licenciatura en Kinesiología y Fisioterapia,Licenciatura en Nutrición,Licenciatura en Obstetricia,Licenciatura en Terapia Ocupacional,IIFCS Instituto de Investigación de la Facultad de Ciencias de la Salud
GEO:-31.6069451;-60.6709418
X-APPLE-STRUCTURED-LOCATION;VALUE=URI;X-ADDRESS=UCSF Santa Fe Echagüe 7151 Santa Fe Santa Fe Argentina;X-APPLE-RADIUS=500;X-TITLE=Echagüe 7151:geo:-60.6709418,-31.6069451
END:VEVENT
BEGIN:VEVENT
DTSTART;TZID=America/Sao_Paulo:20181123T163000
DTEND;TZID=America/Sao_Paulo:20181123T200000
DTSTAMP:20260423T185508
CREATED:20180830T155408Z
LAST-MODIFIED:20180830T155958Z
UID:17512-1542990600-1543003200@www.ucsf.edu.ar
SUMMARY:Cátedra abierta de Dibujo Bidimensional y Tridimensional
DESCRIPTION:
URL:https://www.ucsf.edu.ar/evento/dibujo-4/
LOCATION:UCSF Santa Fe\, Echagüe 7151\, Santa Fe\, Santa Fe\, Argentina
CATEGORIES:Facultades
GEO:-31.6069451;-60.6709418
X-APPLE-STRUCTURED-LOCATION;VALUE=URI;X-ADDRESS=UCSF Santa Fe Echagüe 7151 Santa Fe Santa Fe Argentina;X-APPLE-RADIUS=500;X-TITLE=Echagüe 7151:geo:-60.6709418,-31.6069451
END:VEVENT
BEGIN:VEVENT
DTSTART;TZID=America/Sao_Paulo:20181123T163000
DTEND;TZID=America/Sao_Paulo:20181123T200000
DTSTAMP:20260423T185508
CREATED:20180830T155408Z
LAST-MODIFIED:20180830T155408Z
UID:41433-1542990600-1543003200@www.ucsf.edu.ar
SUMMARY:Cátedra abierta de Dibujo Bidimensional y Tridimensional
DESCRIPTION:
URL:https://www.ucsf.edu.ar/evento/dibujo-4-2/
LOCATION:UCSF Santa Fe\, Echagüe 7151\, Santa Fe\, Santa Fe\, Argentina
CATEGORIES:Facultades
GEO:-31.6069451;-60.6709418
X-APPLE-STRUCTURED-LOCATION;VALUE=URI;X-ADDRESS=UCSF Santa Fe Echagüe 7151 Santa Fe Santa Fe Argentina;X-APPLE-RADIUS=500;X-TITLE=Echagüe 7151:geo:-60.6709418,-31.6069451
END:VEVENT
END:VCALENDAR