BEGIN:VCALENDAR
VERSION:2.0
PRODID:-//UCSF - Universidad Católica de Santa Fe - ECPv5.14.2.1//NONSGML v1.0//EN
CALSCALE:GREGORIAN
METHOD:PUBLISH
X-WR-CALNAME:UCSF - Universidad Católica de Santa Fe
X-ORIGINAL-URL:https://www.ucsf.edu.ar
X-WR-CALDESC:Events for UCSF - Universidad Católica de Santa Fe
REFRESH-INTERVAL;VALUE=DURATION:PT1H
X-Robots-Tag:noindex
X-PUBLISHED-TTL:PT1H
BEGIN:VTIMEZONE
TZID:America/Sao_Paulo
BEGIN:STANDARD
TZOFFSETFROM:-0200
TZOFFSETTO:-0300
TZNAME:-03
DTSTART:20190217T020000
END:STANDARD
END:VTIMEZONE
BEGIN:VEVENT
DTSTART;TZID=America/Sao_Paulo:20190502T130000
DTEND;TZID=America/Sao_Paulo:20190502T160000
DTSTAMP:20260423T093600
CREATED:20190426T152352Z
LAST-MODIFIED:20190426T160727Z
UID:23805-1556802000-1556812800@www.ucsf.edu.ar
SUMMARY:Curso de Formación en el área pedagógico-didáctica para profesionales de la UCSF – SEDE SANTA FE
DESCRIPTION:La Asesoría Pedagógica de la UCSF convoca a los docentes de la Sede Santa Fe al Curso de Formación en el área pedagógico-didáctica para Profesionales en ejercicio de la Docencia Universitaria en nuestra Institución.\nEl mismo dará inicio el 2 de mayo y se extenderá hasta el 4 de julio\, de 13 a 16 hs.\nLa invitación es para los docentes de la UCSF sin formación pedagógico-didáctica que aspiren a cumplimentar los requisitos establecidos en el Programa de Carrera Docente de esta Casa.
URL:https://www.ucsf.edu.ar/evento/curso-de-formacion-en-el-area-pedagogico-didactica-para-profesionales-de-la-ucsf-sede-santa-fe/
LOCATION:UCSF Santa Fe\, Echagüe 7151\, Santa Fe\, Santa Fe\, Argentina
CATEGORIES:Home principal,Asesoría Pedagógica,Santa Fe,Sedes
ORGANIZER;CN="Asesor%C3%ADa%20Pedag%C3%B3gica":MAILTO:asepedagogica@ucsf.edu.ar
GEO:-31.6069451;-60.6709418
X-APPLE-STRUCTURED-LOCATION;VALUE=URI;X-ADDRESS=UCSF Santa Fe Echagüe 7151 Santa Fe Santa Fe Argentina;X-APPLE-RADIUS=500;X-TITLE=Echagüe 7151:geo:-60.6709418,-31.6069451
END:VEVENT
BEGIN:VEVENT
DTSTART;TZID=America/Sao_Paulo:20190502T130000
DTEND;TZID=America/Sao_Paulo:20190502T160000
DTSTAMP:20260423T093600
CREATED:20190426T152352Z
LAST-MODIFIED:20190426T152352Z
UID:41510-1556802000-1556812800@www.ucsf.edu.ar
SUMMARY:Curso de Formación en el área pedagógico-didáctica para profesionales de la UCSF – SEDE SANTA FE
DESCRIPTION:La Asesoría Pedagógica de la UCSF convoca a los docentes de la Sede Santa Fe al Curso de Formación en el área pedagógico-didáctica para Profesionales en ejercicio de la Docencia Universitaria en nuestra Institución.\nEl mismo dará inicio el 2 de mayo y se extenderá hasta el 4 de julio\, de 13 a 16 hs.\nLa invitación es para los docentes de la UCSF sin formación pedagógico-didáctica que aspiren a cumplimentar los requisitos establecidos en el Programa de Carrera Docente de esta Casa.
URL:https://www.ucsf.edu.ar/evento/curso-de-formacion-en-el-area-pedagogico-didactica-para-profesionales-de-la-ucsf-sede-santa-fe-2/
LOCATION:UCSF Santa Fe\, Echagüe 7151\, Santa Fe\, Santa Fe\, Argentina
CATEGORIES:Home principal,Asesoría Pedagógica,Santa Fe,Sedes
ORGANIZER;CN="Asesor%C3%ADa%20Pedag%C3%B3gica":MAILTO:asepedagogica@ucsf.edu.ar
GEO:-31.6069451;-60.6709418
X-APPLE-STRUCTURED-LOCATION;VALUE=URI;X-ADDRESS=UCSF Santa Fe Echagüe 7151 Santa Fe Santa Fe Argentina;X-APPLE-RADIUS=500;X-TITLE=Echagüe 7151:geo:-60.6709418,-31.6069451
END:VEVENT
BEGIN:VEVENT
DTSTART;TZID=America/Sao_Paulo:20190503T180000
DTEND;TZID=America/Sao_Paulo:20190503T203000
DTSTAMP:20260423T093600
CREATED:20190416T113200Z
LAST-MODIFIED:20190416T113407Z
UID:23470-1556906400-1556915400@www.ucsf.edu.ar
SUMMARY:Acto de Colación de Grados - Sede Reconquista
DESCRIPTION:Comenzará con la Misa de Acción de Gracias en la Catedral\, y proseguirá con el Acto Académico en la Sede.
URL:https://www.ucsf.edu.ar/evento/acto-de-colacion-de-grados-sede-reconquista-2/
LOCATION:Santa Fe
CATEGORIES:Home principal,Facultades,Ciencias Agropecuarias,Ciencias Económicas,Reconquista,Derecho y Ciencia Política,Sedes
END:VEVENT
BEGIN:VEVENT
DTSTART;TZID=America/Sao_Paulo:20190503T180000
DTEND;TZID=America/Sao_Paulo:20190503T203000
DTSTAMP:20260423T093600
CREATED:20190416T113200Z
LAST-MODIFIED:20190416T113200Z
UID:41501-1556906400-1556915400@www.ucsf.edu.ar
SUMMARY:Acto de Colación de Grados - Sede Reconquista
DESCRIPTION:Comenzará con la Misa de Acción de Gracias en la Catedral\, y proseguirá con el Acto Académico en la Sede.
URL:https://www.ucsf.edu.ar/evento/acto-de-colacion-de-grados-sede-reconquista-2-2/
LOCATION:Santa Fe
CATEGORIES:Home principal,Facultades,Ciencias Agropecuarias,Ciencias Económicas,Reconquista,Sedes
END:VEVENT
END:VCALENDAR