BEGIN:VCALENDAR
VERSION:2.0
PRODID:-//UCSF - Universidad Católica de Santa Fe - ECPv5.14.2.1//NONSGML v1.0//EN
CALSCALE:GREGORIAN
METHOD:PUBLISH
X-WR-CALNAME:UCSF - Universidad Católica de Santa Fe
X-ORIGINAL-URL:https://www.ucsf.edu.ar
X-WR-CALDESC:Events for UCSF - Universidad Católica de Santa Fe
REFRESH-INTERVAL;VALUE=DURATION:PT1H
X-Robots-Tag:noindex
X-PUBLISHED-TTL:PT1H
BEGIN:VTIMEZONE
TZID:America/Sao_Paulo
BEGIN:STANDARD
TZOFFSETFROM:-0200
TZOFFSETTO:-0300
TZNAME:-03
DTSTART:20190217T020000
END:STANDARD
END:VTIMEZONE
BEGIN:VEVENT
DTSTART;TZID=America/Sao_Paulo:20190508T130000
DTEND;TZID=America/Sao_Paulo:20190508T160000
DTSTAMP:20260423T141305
CREATED:20190426T155757Z
LAST-MODIFIED:20190426T160908Z
UID:23807-1557320400-1557331200@www.ucsf.edu.ar
SUMMARY:Curso de Formación en el área pedagógico-didáctica para profesionales de la UCSF – SEDE RAFAELA
DESCRIPTION:
URL:https://www.ucsf.edu.ar/evento/curso-de-formacion-en-el-area-pedagogico-didactica-para-profesionales-de-la-ucsf-sede-rafaela/
LOCATION:Santa Fe
CATEGORIES:Asesoría Pedagógica,Home principal,Rafaela,Sedes
ORGANIZER;CN="Asesor%C3%ADa%20Pedag%C3%B3gica":MAILTO:asepedagogica@ucsf.edu.ar
END:VEVENT
BEGIN:VEVENT
DTSTART;TZID=America/Sao_Paulo:20190508T130000
DTEND;TZID=America/Sao_Paulo:20190508T160000
DTSTAMP:20260423T141305
CREATED:20190426T155757Z
LAST-MODIFIED:20190426T155757Z
UID:41511-1557320400-1557331200@www.ucsf.edu.ar
SUMMARY:Curso de Formación en el área pedagógico-didáctica para profesionales de la UCSF – SEDE RAFAELA
DESCRIPTION:
URL:https://www.ucsf.edu.ar/evento/curso-de-formacion-en-el-area-pedagogico-didactica-para-profesionales-de-la-ucsf-sede-rafaela-2/
LOCATION:Santa Fe
CATEGORIES:Asesoría Pedagógica,Home principal,Rafaela,Sedes
ORGANIZER;CN="Asesor%C3%ADa%20Pedag%C3%B3gica":MAILTO:asepedagogica@ucsf.edu.ar
END:VEVENT
BEGIN:VEVENT
DTSTART;TZID=America/Sao_Paulo:20190510T160000
DTEND;TZID=America/Sao_Paulo:20190511T130000
DTSTAMP:20260423T141305
CREATED:20190330T204522Z
LAST-MODIFIED:20190411T144411Z
UID:23057-1557504000-1557579600@www.ucsf.edu.ar
SUMMARY:CURSO DE INICIACIÓN A LA INVESTIGACIÓN ACADÉMICA. Modalidad  Presencial
DESCRIPTION:CURSO DE INICIACIÓN A LA INVESTIGACIÓN ACADÉMICA. \n Modalidad Presencial \nDocentes:\nDra. Ana Maria Bonet \nDr. Federico Viola \nAgenda \nDías y Horarios: Viernes 16 a 21 hs. y Sábados de 8 a 13 hs. \n10 y 11 de Mayo \n21 y 22 de Junio \n26 y 27 de Julio \n  \nCupos limitados. \nmas información detallada:Arriba a la derecha en Url del evento.
URL:https://www.ucsf.edu.ar/evento/curso-de-iniciacion-a-la-investigacion-academica-modalidad-presencial/
LOCATION:UCSF Santa Fe\, Echagüe 7151\, Santa Fe\, Santa Fe\, Argentina
CATEGORIES:Facultades,Santa Fe,Ciencias de la Salud,Carreras de Grado,Licenciatura en Bioimágenes,Licenciatura en Gerontología (CCC),Licenciatura en Enfermería,Rafaela,Sedes,Licenciatura en Fonoaudiología,IEHDS Instituto de Ecología Humana y Desarrollo Sustentable,Institutos,Licenciatura en Kinesiología y Fisioterapia,Licenciatura en Nutrición,Licenciatura en Obstetricia,Licenciatura en Terapia Ocupacional
GEO:-31.6069451;-60.6709418
X-APPLE-STRUCTURED-LOCATION;VALUE=URI;X-ADDRESS=UCSF Santa Fe Echagüe 7151 Santa Fe Santa Fe Argentina;X-APPLE-RADIUS=500;X-TITLE=Echagüe 7151:geo:-60.6709418,-31.6069451
END:VEVENT
BEGIN:VEVENT
DTSTART;TZID=America/Sao_Paulo:20190510T160000
DTEND;TZID=America/Sao_Paulo:20190511T130000
DTSTAMP:20260423T141305
CREATED:20190330T204522Z
LAST-MODIFIED:20190330T204522Z
UID:41491-1557504000-1557579600@www.ucsf.edu.ar
SUMMARY:CURSO DE INICIACIÓN A LA INVESTIGACIÓN ACADÉMICA. Modalidad  Presencial
DESCRIPTION:CURSO DE INICIACIÓN A LA INVESTIGACIÓN ACADÉMICA. \n Modalidad Presencial \nDocentes:\nDra. Ana Maria Bonet \nDr. Federico Viola \nAgenda \nDías y Horarios: Viernes 16 a 21 hs. y Sábados de 8 a 13 hs. \n10 y 11 de Mayo \n21 y 22 de Junio \n26 y 27 de Julio \n  \nCupos limitados. \nmas información detallada:Arriba a la derecha en Url del evento.
URL:https://www.ucsf.edu.ar/evento/curso-de-iniciacion-a-la-investigacion-academica-modalidad-presencial-2/
LOCATION:UCSF Santa Fe\, Echagüe 7151\, Santa Fe\, Santa Fe\, Argentina
CATEGORIES:Facultades,Santa Fe,Ciencias de la Salud,Carreras de Grado,Licenciatura en Bioimágenes,Licenciatura en Gerontología (CCC),Licenciatura en Enfermería,Rafaela,Sedes,Licenciatura en Fonoaudiología,IEHDS Instituto de Ecología Humana y Desarrollo Sustentable,Institutos,Licenciatura en Kinesiología y Fisioterapia,Licenciatura en Nutrición,Licenciatura en Obstetricia,Licenciatura en Terapia Ocupacional
GEO:-31.6069451;-60.6709418
X-APPLE-STRUCTURED-LOCATION;VALUE=URI;X-ADDRESS=UCSF Santa Fe Echagüe 7151 Santa Fe Santa Fe Argentina;X-APPLE-RADIUS=500;X-TITLE=Echagüe 7151:geo:-60.6709418,-31.6069451
END:VEVENT
END:VCALENDAR