BEGIN:VCALENDAR
VERSION:2.0
PRODID:-//UCSF - Universidad Católica de Santa Fe - ECPv5.14.2.1//NONSGML v1.0//EN
CALSCALE:GREGORIAN
METHOD:PUBLISH
X-WR-CALNAME:UCSF - Universidad Católica de Santa Fe
X-ORIGINAL-URL:https://www.ucsf.edu.ar
X-WR-CALDESC:Events for UCSF - Universidad Católica de Santa Fe
REFRESH-INTERVAL;VALUE=DURATION:PT1H
X-Robots-Tag:noindex
X-PUBLISHED-TTL:PT1H
BEGIN:VTIMEZONE
TZID:America/Sao_Paulo
BEGIN:STANDARD
TZOFFSETFROM:-0200
TZOFFSETTO:-0300
TZNAME:-03
DTSTART:20190217T020000
END:STANDARD
END:VTIMEZONE
BEGIN:VEVENT
DTSTART;VALUE=DATE:20190513
DTEND;VALUE=DATE:20190514
DTSTAMP:20260423T111337
CREATED:20190226T153054Z
LAST-MODIFIED:20190226T190615Z
UID:21964-1557705600-1557791999@www.ucsf.edu.ar
SUMMARY:Formación en Bioética para docentes - Bioética  e Inicio de la Vida
DESCRIPTION:Formación para docentes de todos los niveles.\nModalidad 100% virtual\nhttp://bit.ly/BioeticaeIniciodelaVida
URL:https://www.ucsf.edu.ar/evento/formacion-en-bioetica-para-docentes-bioetica-e-inicio-de-la-vida/
LOCATION:UCSF Santa Fe\, Echagüe 7151\, Santa Fe\, Santa Fe\, Argentina
CATEGORIES:Santa Fe,Rosario,IB Instituto de Bioética Jerome Lejeune,Posadas,Reconquista,Rafaela,Gualeguaychú,Vicerrectorado de Formación,Sedes
ORGANIZER;CN="Instituto%20de%20Bio%C3%A9tica%20%22J%C3%A8r%C3%B4me%20Lejeune%22":MAILTO:bioetica@ucsf.edu.ar
GEO:-31.6069451;-60.6709418
X-APPLE-STRUCTURED-LOCATION;VALUE=URI;X-ADDRESS=UCSF Santa Fe Echagüe 7151 Santa Fe Santa Fe Argentina;X-APPLE-RADIUS=500;X-TITLE=Echagüe 7151:geo:-60.6709418,-31.6069451
END:VEVENT
BEGIN:VEVENT
DTSTART;VALUE=DATE:20190513
DTEND;VALUE=DATE:20190514
DTSTAMP:20260423T111337
CREATED:20190226T153054Z
LAST-MODIFIED:20190226T153054Z
UID:41475-1557705600-1557791999@www.ucsf.edu.ar
SUMMARY:Formación en Bioética para docentes - Bioética  e Inicio de la Vida
DESCRIPTION:Formación para docentes de todos los niveles.\nModalidad 100% virtual\nhttp://bit.ly/BioeticaeIniciodelaVida
URL:https://www.ucsf.edu.ar/evento/formacion-en-bioetica-para-docentes-bioetica-e-inicio-de-la-vida-2/
LOCATION:UCSF Santa Fe\, Echagüe 7151\, Santa Fe\, Santa Fe\, Argentina
CATEGORIES:Santa Fe,Rosario,IB Instituto de Bioética Jerome Lejeune,Posadas,Reconquista,Rafaela,Gualeguaychú,Vicerrectorado de Formación,Sedes
ORGANIZER;CN="Instituto%20de%20Bio%C3%A9tica%20%22J%C3%A8r%C3%B4me%20Lejeune%22":MAILTO:bioetica@ucsf.edu.ar
GEO:-31.6069451;-60.6709418
X-APPLE-STRUCTURED-LOCATION;VALUE=URI;X-ADDRESS=UCSF Santa Fe Echagüe 7151 Santa Fe Santa Fe Argentina;X-APPLE-RADIUS=500;X-TITLE=Echagüe 7151:geo:-60.6709418,-31.6069451
END:VEVENT
END:VCALENDAR