BEGIN:VCALENDAR
VERSION:2.0
PRODID:-//UCSF - Universidad Católica de Santa Fe - ECPv5.14.2.1//NONSGML v1.0//EN
CALSCALE:GREGORIAN
METHOD:PUBLISH
X-WR-CALNAME:UCSF - Universidad Católica de Santa Fe
X-ORIGINAL-URL:https://www.ucsf.edu.ar
X-WR-CALDESC:Events for UCSF - Universidad Católica de Santa Fe
REFRESH-INTERVAL;VALUE=DURATION:PT1H
X-Robots-Tag:noindex
X-PUBLISHED-TTL:PT1H
BEGIN:VTIMEZONE
TZID:America/Sao_Paulo
BEGIN:STANDARD
TZOFFSETFROM:-0200
TZOFFSETTO:-0300
TZNAME:-03
DTSTART:20190217T020000
END:STANDARD
END:VTIMEZONE
BEGIN:VEVENT
DTSTART;TZID=America/Sao_Paulo:20190523T190000
DTEND;TZID=America/Sao_Paulo:20190613T190000
DTSTAMP:20260423T080339
CREATED:20190419T115743Z
LAST-MODIFIED:20190521T145139Z
UID:23533-1558638000-1560452400@www.ucsf.edu.ar
SUMMARY:Muestra de Arquitectura "El Material de lo Construido"
DESCRIPTION:El 23 de mayo se inaugurará en el Hall de la UCSF\, Echagüe 7151\, Santa Fe\, la Muestra de Arquitectura “El Material de lo Construido” desarrollada por la empresa WEBER y curada por Bisman Ediciones. \n  \n \nVer más
URL:https://www.ucsf.edu.ar/evento/muestra-de-arquitectura-el-material-de-lo-construido/
LOCATION:UCSF Santa Fe\, Echagüe 7151\, Santa Fe\, Santa Fe\, Argentina
CATEGORIES:Arquitectura y Diseño,Santa Fe,Facultades,Arquitectura,Carreras de Grado,Rafaela,Sedes
GEO:-31.6069451;-60.6709418
X-APPLE-STRUCTURED-LOCATION;VALUE=URI;X-ADDRESS=UCSF Santa Fe Echagüe 7151 Santa Fe Santa Fe Argentina;X-APPLE-RADIUS=500;X-TITLE=Echagüe 7151:geo:-60.6709418,-31.6069451
END:VEVENT
BEGIN:VEVENT
DTSTART;TZID=America/Sao_Paulo:20190523T190000
DTEND;TZID=America/Sao_Paulo:20190613T190000
DTSTAMP:20260423T080339
CREATED:20190419T115743Z
LAST-MODIFIED:20190419T115743Z
UID:41507-1558638000-1560452400@www.ucsf.edu.ar
SUMMARY:Muestra de Arquitectura "El Material de lo Construido"
DESCRIPTION:El 23 de mayo se inaugurará en el Hall de la UCSF\, Echagüe 7151\, Santa Fe\, la Muestra de Arquitectura “El Material de lo Construido” desarrollada por la empresa WEBER y curada por Bisman Ediciones. \n  \n \nVer más
URL:https://www.ucsf.edu.ar/evento/muestra-de-arquitectura-el-material-de-lo-construido-2/
LOCATION:UCSF Santa Fe\, Echagüe 7151\, Santa Fe\, Santa Fe\, Argentina
CATEGORIES:Arquitectura y Diseño,Santa Fe,Facultades,Arquitectura,Carreras de Grado,Rafaela,Sedes
GEO:-31.6069451;-60.6709418
X-APPLE-STRUCTURED-LOCATION;VALUE=URI;X-ADDRESS=UCSF Santa Fe Echagüe 7151 Santa Fe Santa Fe Argentina;X-APPLE-RADIUS=500;X-TITLE=Echagüe 7151:geo:-60.6709418,-31.6069451
END:VEVENT
BEGIN:VEVENT
DTSTART;TZID=America/Sao_Paulo:20190528T200000
DTEND;TZID=America/Sao_Paulo:20190528T210000
DTSTAMP:20260423T080339
CREATED:20190428T125125Z
LAST-MODIFIED:20190512T103959Z
UID:23838-1559073600-1559077200@www.ucsf.edu.ar
SUMMARY:Seminario Web:Enfermedades emergentes y reemergentes
DESCRIPTION:Ciclo de conferencias: ABC en Epidemiologia (100  Virtual). 1 hora de duración. \nInscripción on line al pie. Se otorgan certificados. \nEnfermedades emergentes y reemergentes\nObjetivos: \n-Analizar las enfermedades emergentes y reemergentes con criterios epidemiológicos \nProf. Mgter. med. Nora Glatstein \n \nI.- “Médica Cirujana” otorgado por la Facultad de Ciencias Médicas.UNC 1982 \nII.- “Diplomado en Salud Pública” expedido por la Facultad de Ciencias Médicas de la Universidad Nacional de Córdoba. 1985. \nIII.- “Diplomado en Epidemiología” expedido la Universidad Nacional de La  Rioja\, con fecha de egreso en Diciembre de 2008. \nIV:- “Especialista en Docencia Universitaria” expedido por la UTN Córdoba.2010 \nV.- “Residencia en Epidemiología de Campo” organizado por la Universidad Nacional de Tucumán y Ministerio de Salud de Nación\, con fecha de examen final en febrero 2011. \nVI.- “Magister en Drogadependencia” otorgado por la Facultad de Ciencias Médicas de la UNC. Septiembre 2014. \n \nVII.- “Especialista en Epidemiología General” organizado por la Escuela de Salud Pública de la Facultad de Ciencias Médicas de la Universidad Nacional de Córdoba. 2014 \nVII.- Certificado de Curso de Inglés Médico (traducción Nivel I-a distancia)\, Ciencias de la Salud de la Facultad de Ciencias Médicas. 2008. \nVIII.- “Diplomado en Educación para la Salud y Desarrollo Integral”\, organizado por el Grupo Congreso y el Congreso de Educación\, auspiciado por Ministerio de Educación de Nación\, Ministerio de Educación de la Provincia de San Juan y Municipalidad de Córdoba. Julio 2015 \nIX.- .- “Diplomado en Educación Ambiental”\, organizado por el Grupo Congreso y el Congreso de Educación\, auspiciado por Ministerio de Educación de Nación\, Ministerio de Educación de la Provincia de San Juan y Municipalidad de Córdoba. Mayo 2016
URL:https://www.ucsf.edu.ar/evento/23838/
LOCATION:UCSF Santa Fe\, Echagüe 7151\, Santa Fe\, Santa Fe\, Argentina
CATEGORIES:Santa Fe,Facultades,Ciencias de la Salud,Carreras de Grado,Rafaela,Sedes,IEHDS Instituto de Ecología Humana y Desarrollo Sustentable,Licenciatura en Kinesiología y Fisioterapia,IIFCS Instituto de Investigación de la Facultad de Ciencias de la Salud
ORGANIZER;CN="Instituto%20de%20Investigaciones%20de%20la%20Facultad%20de%20Ciencias%20de%20la%20Salud":MAILTO:iifcs@ucsf.edu.ar
GEO:-31.6069451;-60.6709418
X-APPLE-STRUCTURED-LOCATION;VALUE=URI;X-ADDRESS=UCSF Santa Fe Echagüe 7151 Santa Fe Santa Fe Argentina;X-APPLE-RADIUS=500;X-TITLE=Echagüe 7151:geo:-60.6709418,-31.6069451
END:VEVENT
BEGIN:VEVENT
DTSTART;TZID=America/Sao_Paulo:20190528T200000
DTEND;TZID=America/Sao_Paulo:20190528T210000
DTSTAMP:20260423T080339
CREATED:20190428T125125Z
LAST-MODIFIED:20190428T125125Z
UID:41512-1559073600-1559077200@www.ucsf.edu.ar
SUMMARY:Seminario Web:Enfermedades emergentes y reemergentes
DESCRIPTION:Ciclo de conferencias: ABC en Epidemiologia (100  Virtual). 1 hora de duración. \nInscripción on line al pie. Se otorgan certificados. \nEnfermedades emergentes y reemergentes\nObjetivos: \n-Analizar las enfermedades emergentes y reemergentes con criterios epidemiológicos \nProf. Mgter. med. Nora Glatstein \n \nI.- “Médica Cirujana” otorgado por la Facultad de Ciencias Médicas.UNC 1982 \nII.- “Diplomado en Salud Pública” expedido por la Facultad de Ciencias Médicas de la Universidad Nacional de Córdoba. 1985. \nIII.- “Diplomado en Epidemiología” expedido la Universidad Nacional de La  Rioja\, con fecha de egreso en Diciembre de 2008. \nIV:- “Especialista en Docencia Universitaria” expedido por la UTN Córdoba.2010 \nV.- “Residencia en Epidemiología de Campo” organizado por la Universidad Nacional de Tucumán y Ministerio de Salud de Nación\, con fecha de examen final en febrero 2011. \nVI.- “Magister en Drogadependencia” otorgado por la Facultad de Ciencias Médicas de la UNC. Septiembre 2014. \n \nVII.- “Especialista en Epidemiología General” organizado por la Escuela de Salud Pública de la Facultad de Ciencias Médicas de la Universidad Nacional de Córdoba. 2014 \nVII.- Certificado de Curso de Inglés Médico (traducción Nivel I-a distancia)\, Ciencias de la Salud de la Facultad de Ciencias Médicas. 2008. \nVIII.- “Diplomado en Educación para la Salud y Desarrollo Integral”\, organizado por el Grupo Congreso y el Congreso de Educación\, auspiciado por Ministerio de Educación de Nación\, Ministerio de Educación de la Provincia de San Juan y Municipalidad de Córdoba. Julio 2015 \nIX.- .- “Diplomado en Educación Ambiental”\, organizado por el Grupo Congreso y el Congreso de Educación\, auspiciado por Ministerio de Educación de Nación\, Ministerio de Educación de la Provincia de San Juan y Municipalidad de Córdoba. Mayo 2016
URL:https://www.ucsf.edu.ar/evento/23838-2/
LOCATION:UCSF Santa Fe\, Echagüe 7151\, Santa Fe\, Santa Fe\, Argentina
CATEGORIES:Santa Fe,Facultades,Ciencias de la Salud,Carreras de Grado,Rafaela,Sedes,IEHDS Instituto de Ecología Humana y Desarrollo Sustentable,Licenciatura en Kinesiología y Fisioterapia,IIFCS Instituto de Investigación de la Facultad de Ciencias de la Salud
ORGANIZER;CN="Instituto%20de%20Investigaciones%20de%20la%20Facultad%20de%20Ciencias%20de%20la%20Salud":MAILTO:iifcs@ucsf.edu.ar
GEO:-31.6069451;-60.6709418
X-APPLE-STRUCTURED-LOCATION;VALUE=URI;X-ADDRESS=UCSF Santa Fe Echagüe 7151 Santa Fe Santa Fe Argentina;X-APPLE-RADIUS=500;X-TITLE=Echagüe 7151:geo:-60.6709418,-31.6069451
END:VEVENT
BEGIN:VEVENT
DTSTART;TZID=America/Sao_Paulo:20190529T180000
DTEND;TZID=America/Sao_Paulo:20190529T200000
DTSTAMP:20260423T080339
CREATED:20190416T115709Z
LAST-MODIFIED:20190416T115709Z
UID:23475-1559152800-1559160000@www.ucsf.edu.ar
SUMMARY:Acto de Colación - Sede Gualeguaychú
DESCRIPTION:Comenzará con la Misa de Acción de Gracias y\, a continuación\, el Acto Académico.
URL:https://www.ucsf.edu.ar/evento/acto-de-colacion-sede-gualeguaychu-2/
LOCATION:Santa Fe
CATEGORIES:Home principal,Facultades,Ciencias Económicas,Gualeguaychú,Sedes
END:VEVENT
BEGIN:VEVENT
DTSTART;TZID=America/Sao_Paulo:20190529T180000
DTEND;TZID=America/Sao_Paulo:20190529T200000
DTSTAMP:20260423T080339
CREATED:20190416T115709Z
LAST-MODIFIED:20190416T115709Z
UID:41505-1559152800-1559160000@www.ucsf.edu.ar
SUMMARY:Acto de Colación - Sede Gualeguaychú
DESCRIPTION:Comenzará con la Misa de Acción de Gracias y\, a continuación\, el Acto Académico.
URL:https://www.ucsf.edu.ar/evento/acto-de-colacion-sede-gualeguaychu-2-2/
LOCATION:Santa Fe
CATEGORIES:Home principal,Facultades,Ciencias Económicas,Gualeguaychú,Sedes
END:VEVENT
BEGIN:VEVENT
DTSTART;TZID=America/Sao_Paulo:20190531T080000
DTEND;TZID=America/Sao_Paulo:20190531T180000
DTSTAMP:20260423T080339
CREATED:20190331T131520Z
LAST-MODIFIED:20190403T162007Z
UID:23069-1559289600-1559325600@www.ucsf.edu.ar
SUMMARY:Jornada de Capacitación de Fonoestomatología.
DESCRIPTION:Jornada de Capacitación de Fonoestomatología. \n(Resolución del Rectorado Nro. 10.623) \nProf. Lic. NORMA CHIAVARO. \n \nPresidente fundador de la Academia Latinoamericana de Disfunciones Estomatognáticas (ALDE) fundada el 4 de octubre de 1999. \nDirectora y dictante de Postgrado en Actualización y Formación de la Escuela Interdisciplinaria ALDE \nProfesor Adjunto de la Cátedra Seminario Fonoestomatologico. Area Malformaciones. Carrera de Licenciatura en Fonoaudiologia Universidad del Salvador (USAL ). \nCreadora del Método de Evaluación y Terapéutica registrada como Técnica NMF Neuromuscular-Funcional. \n  \nFundamentación: \nLa Dra. Norma Chiavaro es un referente Nacional e Internacional del abordaje en Motricidad\nOrofacial y en la presente Jornada de Capacitación de Fonoestomatología brinda a las\nalumnas un conocimiento sólido del Sistema Fonoodontoestomatognático (SFOEG) y su\nrelación con la práctica fonoaudiológica. La disertante es autora del Libro: “ Funciones y\nDisfunciones estomatognáticas.” que publica Ed.Akadia. \,Bs As. y de numerosos artículos\ncientíficos que son usados como bibliografía de consulta obligatoria para las alumnas de\nsegundo y tercer año de la carrera de Fonoaudiología de nuestra Universidad y de otras\nuniversidades del país. \nmas información arriba a la derecha en Url del evento.
URL:https://www.ucsf.edu.ar/evento/jornada-de-capacitacion-de-fonoestomatologia/
LOCATION:UCSF Santa Fe\, Echagüe 7151\, Santa Fe\, Santa Fe\, Argentina
CATEGORIES:Santa Fe,Facultades,Ciencias de la Salud,Carreras de Grado,Rafaela,Sedes,Licenciatura en Fonoaudiología
GEO:-31.6069451;-60.6709418
X-APPLE-STRUCTURED-LOCATION;VALUE=URI;X-ADDRESS=UCSF Santa Fe Echagüe 7151 Santa Fe Santa Fe Argentina;X-APPLE-RADIUS=500;X-TITLE=Echagüe 7151:geo:-60.6709418,-31.6069451
END:VEVENT
BEGIN:VEVENT
DTSTART;TZID=America/Sao_Paulo:20190531T080000
DTEND;TZID=America/Sao_Paulo:20190531T180000
DTSTAMP:20260423T080339
CREATED:20190331T131520Z
LAST-MODIFIED:20190331T131520Z
UID:41493-1559289600-1559325600@www.ucsf.edu.ar
SUMMARY:Jornada de Capacitación de Fonoestomatología.
DESCRIPTION:Jornada de Capacitación de Fonoestomatología. \n(Resolución del Rectorado Nro. 10.623) \nProf. Lic. NORMA CHIAVARO. \n \nPresidente fundador de la Academia Latinoamericana de Disfunciones Estomatognáticas (ALDE) fundada el 4 de octubre de 1999. \nDirectora y dictante de Postgrado en Actualización y Formación de la Escuela Interdisciplinaria ALDE \nProfesor Adjunto de la Cátedra Seminario Fonoestomatologico. Area Malformaciones. Carrera de Licenciatura en Fonoaudiologia Universidad del Salvador (USAL ). \nCreadora del Método de Evaluación y Terapéutica registrada como Técnica NMF Neuromuscular-Funcional. \n  \nFundamentación: \nLa Dra. Norma Chiavaro es un referente Nacional e Internacional del abordaje en Motricidad\nOrofacial y en la presente Jornada de Capacitación de Fonoestomatología brinda a las\nalumnas un conocimiento sólido del Sistema Fonoodontoestomatognático (SFOEG) y su\nrelación con la práctica fonoaudiológica. La disertante es autora del Libro: “ Funciones y\nDisfunciones estomatognáticas.” que publica Ed.Akadia. \,Bs As. y de numerosos artículos\ncientíficos que son usados como bibliografía de consulta obligatoria para las alumnas de\nsegundo y tercer año de la carrera de Fonoaudiología de nuestra Universidad y de otras\nuniversidades del país. \nmas información arriba a la derecha en Url del evento.
URL:https://www.ucsf.edu.ar/evento/jornada-de-capacitacion-de-fonoestomatologia-2/
LOCATION:UCSF Santa Fe\, Echagüe 7151\, Santa Fe\, Santa Fe\, Argentina
CATEGORIES:Santa Fe,Facultades,Ciencias de la Salud,Carreras de Grado,Rafaela,Sedes,Licenciatura en Fonoaudiología
GEO:-31.6069451;-60.6709418
X-APPLE-STRUCTURED-LOCATION;VALUE=URI;X-ADDRESS=UCSF Santa Fe Echagüe 7151 Santa Fe Santa Fe Argentina;X-APPLE-RADIUS=500;X-TITLE=Echagüe 7151:geo:-60.6709418,-31.6069451
END:VEVENT
BEGIN:VEVENT
DTSTART;TZID=America/Sao_Paulo:20190531T090000
DTEND;TZID=America/Sao_Paulo:20190531T180000
DTSTAMP:20260423T080339
CREATED:20190516T140329Z
LAST-MODIFIED:20190516T140937Z
UID:24269-1559293200-1559325600@www.ucsf.edu.ar
SUMMARY:Taller: enseñar y aprender filosofía en tiempos turbulentos
DESCRIPTION:Con el Dr. Jorge Noro \nUn espacio para propiciar la reflexión y compartir elementos\, estrategias y recursos para quienes ejercen de la docencia en el ámbito de la Filosofía.
URL:https://www.ucsf.edu.ar/evento/taller/
LOCATION:UCSF Santa Fe\, Echagüe 7151\, Santa Fe\, Santa Fe\, Argentina
CATEGORIES:Facultades
GEO:-31.6069451;-60.6709418
X-APPLE-STRUCTURED-LOCATION;VALUE=URI;X-ADDRESS=UCSF Santa Fe Echagüe 7151 Santa Fe Santa Fe Argentina;X-APPLE-RADIUS=500;X-TITLE=Echagüe 7151:geo:-60.6709418,-31.6069451
END:VEVENT
BEGIN:VEVENT
DTSTART;TZID=America/Sao_Paulo:20190531T090000
DTEND;TZID=America/Sao_Paulo:20190531T180000
DTSTAMP:20260423T080339
CREATED:20190516T140329Z
LAST-MODIFIED:20190516T140329Z
UID:41521-1559293200-1559325600@www.ucsf.edu.ar
SUMMARY:Taller: enseñar y aprender filosofía en tiempos turbulentos
DESCRIPTION:Con el Dr. Jorge Noro \nUn espacio para propiciar la reflexión y compartir elementos\, estrategias y recursos para quienes ejercen de la docencia en el ámbito de la Filosofía.
URL:https://www.ucsf.edu.ar/evento/taller-2/
LOCATION:UCSF Santa Fe\, Echagüe 7151\, Santa Fe\, Santa Fe\, Argentina
CATEGORIES:Facultades
GEO:-31.6069451;-60.6709418
X-APPLE-STRUCTURED-LOCATION;VALUE=URI;X-ADDRESS=UCSF Santa Fe Echagüe 7151 Santa Fe Santa Fe Argentina;X-APPLE-RADIUS=500;X-TITLE=Echagüe 7151:geo:-60.6709418,-31.6069451
END:VEVENT
BEGIN:VEVENT
DTSTART;TZID=America/Sao_Paulo:20190531T180000
DTEND;TZID=America/Sao_Paulo:20190531T200000
DTSTAMP:20260423T080339
CREATED:20190308T140032Z
LAST-MODIFIED:20190308T140033Z
UID:22309-1559325600-1559332800@www.ucsf.edu.ar
SUMMARY:Apertura de Actividades Instituto de Ecología Humana y Desarrollo Sustentable UCSF
DESCRIPTION:Programa\n– Breve presentación del Instituto y sus miembros\n– Breve presentación de los Proyectos de Investigación en curso\n– Apertura para presentación de nuevos miembros y actividades
URL:https://www.ucsf.edu.ar/evento/apertura-de-actividades-instituto-de-ecologia-humana-y-desarrollo-sustentable-ucsf/
LOCATION:Untitled\, Santa Fe\, Argentina
CATEGORIES:IEHDS Instituto de Ecología Humana y Desarrollo Sustentable
END:VEVENT
BEGIN:VEVENT
DTSTART;TZID=America/Sao_Paulo:20190531T180000
DTEND;TZID=America/Sao_Paulo:20190531T200000
DTSTAMP:20260423T080339
CREATED:20190308T140032Z
LAST-MODIFIED:20190308T140032Z
UID:41478-1559325600-1559332800@www.ucsf.edu.ar
SUMMARY:Apertura de Actividades Instituto de Ecología Humana y Desarrollo Sustentable UCSF
DESCRIPTION:Programa\n– Breve presentación del Instituto y sus miembros\n– Breve presentación de los Proyectos de Investigación en curso\n– Apertura para presentación de nuevos miembros y actividades
URL:https://www.ucsf.edu.ar/evento/apertura-de-actividades-instituto-de-ecologia-humana-y-desarrollo-sustentable-ucsf-2/
LOCATION:Untitled\, Santa Fe\, Argentina
CATEGORIES:IEHDS Instituto de Ecología Humana y Desarrollo Sustentable
END:VEVENT
BEGIN:VEVENT
DTSTART;TZID=America/Sao_Paulo:20190531T180000
DTEND;TZID=America/Sao_Paulo:20190531T200000
DTSTAMP:20260423T080339
CREATED:20190416T114138Z
LAST-MODIFIED:20190416T114403Z
UID:23472-1559325600-1559332800@www.ucsf.edu.ar
SUMMARY:Acto de Colación de Grado - Sede Rosario
DESCRIPTION:Iniciará con la Misa de Acción de Gracias\, y proseguirá con el Acto Académico en la Sede.
URL:https://www.ucsf.edu.ar/evento/acto-de-colacion-de-grado-sede-rosario/
LOCATION:UCSF Sede Rosario\, Moreno 1056\, Rosario\, Santa Fe\, 2000\, Argentina
CATEGORIES:Home principal,Arquitectura y Diseño,Facultades,Rosario,Sedes
GEO:-32.9491666;-60.6519119
X-APPLE-STRUCTURED-LOCATION;VALUE=URI;X-ADDRESS=UCSF Sede Rosario Moreno 1056 Rosario Santa Fe 2000 Argentina;X-APPLE-RADIUS=500;X-TITLE=Moreno 1056:geo:-60.6519119,-32.9491666
END:VEVENT
BEGIN:VEVENT
DTSTART;TZID=America/Sao_Paulo:20190531T180000
DTEND;TZID=America/Sao_Paulo:20190531T200000
DTSTAMP:20260423T080339
CREATED:20190416T114138Z
LAST-MODIFIED:20190416T114138Z
UID:41503-1559325600-1559332800@www.ucsf.edu.ar
SUMMARY:Acto de Colación de Grado - Sede Rosario
DESCRIPTION:Iniciará con la Misa de Acción de Gracias\, y proseguirá con el Acto Académico en la Sede.
URL:https://www.ucsf.edu.ar/evento/acto-de-colacion-de-grado-sede-rosario-2/
LOCATION:UCSF Sede Rosario\, Moreno 1056\, Rosario\, Santa Fe\, 2000\, Argentina
CATEGORIES:Home principal,Arquitectura y Diseño,Facultades,Rosario,Sedes
GEO:-32.9491666;-60.6519119
X-APPLE-STRUCTURED-LOCATION;VALUE=URI;X-ADDRESS=UCSF Sede Rosario Moreno 1056 Rosario Santa Fe 2000 Argentina;X-APPLE-RADIUS=500;X-TITLE=Moreno 1056:geo:-60.6519119,-32.9491666
END:VEVENT
END:VCALENDAR