BEGIN:VCALENDAR
VERSION:2.0
PRODID:-//UCSF - Universidad Católica de Santa Fe - ECPv5.14.2.1//NONSGML v1.0//EN
CALSCALE:GREGORIAN
METHOD:PUBLISH
X-WR-CALNAME:UCSF - Universidad Católica de Santa Fe
X-ORIGINAL-URL:https://www.ucsf.edu.ar
X-WR-CALDESC:Events for UCSF - Universidad Católica de Santa Fe
REFRESH-INTERVAL;VALUE=DURATION:PT1H
X-Robots-Tag:noindex
X-PUBLISHED-TTL:PT1H
BEGIN:VTIMEZONE
TZID:America/Sao_Paulo
BEGIN:STANDARD
TZOFFSETFROM:-0200
TZOFFSETTO:-0300
TZNAME:-03
DTSTART:20190217T020000
END:STANDARD
END:VTIMEZONE
BEGIN:VEVENT
DTSTART;TZID=America/Sao_Paulo:20190523T190000
DTEND;TZID=America/Sao_Paulo:20190613T190000
DTSTAMP:20260423T093546
CREATED:20190419T115743Z
LAST-MODIFIED:20190419T115743Z
UID:41507-1558638000-1560452400@www.ucsf.edu.ar
SUMMARY:Muestra de Arquitectura "El Material de lo Construido"
DESCRIPTION:El 23 de mayo se inaugurará en el Hall de la UCSF\, Echagüe 7151\, Santa Fe\, la Muestra de Arquitectura “El Material de lo Construido” desarrollada por la empresa WEBER y curada por Bisman Ediciones. \n  \n \nVer más
URL:https://www.ucsf.edu.ar/evento/muestra-de-arquitectura-el-material-de-lo-construido-2/
LOCATION:UCSF Santa Fe\, Echagüe 7151\, Santa Fe\, Santa Fe\, Argentina
CATEGORIES:Arquitectura y Diseño,Santa Fe,Facultades,Arquitectura,Carreras de Grado,Rafaela,Sedes
GEO:-31.6069451;-60.6709418
X-APPLE-STRUCTURED-LOCATION;VALUE=URI;X-ADDRESS=UCSF Santa Fe Echagüe 7151 Santa Fe Santa Fe Argentina;X-APPLE-RADIUS=500;X-TITLE=Echagüe 7151:geo:-60.6709418,-31.6069451
END:VEVENT
BEGIN:VEVENT
DTSTART;TZID=America/Sao_Paulo:20190523T190000
DTEND;TZID=America/Sao_Paulo:20190613T190000
DTSTAMP:20260423T093546
CREATED:20190419T115743Z
LAST-MODIFIED:20190521T145139Z
UID:23533-1558638000-1560452400@www.ucsf.edu.ar
SUMMARY:Muestra de Arquitectura "El Material de lo Construido"
DESCRIPTION:El 23 de mayo se inaugurará en el Hall de la UCSF\, Echagüe 7151\, Santa Fe\, la Muestra de Arquitectura “El Material de lo Construido” desarrollada por la empresa WEBER y curada por Bisman Ediciones. \n  \n \nVer más
URL:https://www.ucsf.edu.ar/evento/muestra-de-arquitectura-el-material-de-lo-construido/
LOCATION:UCSF Santa Fe\, Echagüe 7151\, Santa Fe\, Santa Fe\, Argentina
CATEGORIES:Arquitectura y Diseño,Santa Fe,Facultades,Arquitectura,Carreras de Grado,Rafaela,Sedes
GEO:-31.6069451;-60.6709418
X-APPLE-STRUCTURED-LOCATION;VALUE=URI;X-ADDRESS=UCSF Santa Fe Echagüe 7151 Santa Fe Santa Fe Argentina;X-APPLE-RADIUS=500;X-TITLE=Echagüe 7151:geo:-60.6709418,-31.6069451
END:VEVENT
BEGIN:VEVENT
DTSTART;TZID=America/Sao_Paulo:20190604T200000
DTEND;TZID=America/Sao_Paulo:20190604T210000
DTSTAMP:20260423T093546
CREATED:20190428T133652Z
LAST-MODIFIED:20190429T122921Z
UID:23842-1559678400-1559682000@www.ucsf.edu.ar
SUMMARY:Seminario Web:Epidemiología y Ambiente. 100% Virtual.
DESCRIPTION:Ciclo de conferencias: ABC en Epidemiologia (100 Virtual). 1 hora de duración. \nInscripción on line al pie. Se otorgan certificados. \nEpidemiologia y Ambiente\nObjetivos: \n-Aplicar los conocimientos de la epidemiología para el abordaje de la problemática ambiental. \nProf. Mgter. med. Nora Glatstein \n  \nI.- “Médica Cirujana” otorgado por la Facultad de Ciencias Médicas.UNC 1982 \nII.- “Diplomado en Salud Pública” expedido por la Facultad de Ciencias Médicas de la Universidad Nacional de Córdoba. 1985. \nIII.- “Diplomado en Epidemiología” expedido la Universidad Nacional de La  Rioja\, con fecha de egreso en Diciembre de 2008. \nIV:- “Especialista en Docencia Universitaria” expedido por la UTN Córdoba.2010 \nV.- “Residencia en Epidemiología de Campo” organizado por la Universidad Nacional de Tucumán y Ministerio de Salud de Nación\, con fecha de examen final en febrero 2011. \nVI.- “Magister en Drogadependencia” otorgado por la Facultad de Ciencias Médicas de la UNC. Septiembre 2014. \n \nVII.- “Especialista en Epidemiología General” organizado por la Escuela de Salud Pública de la Facultad de Ciencias Médicas de la Universidad Nacional de Córdoba. 2014 \nVII.- Certificado de Curso de Inglés Médico (traducción Nivel I-a distancia)\, Ciencias de la Salud de la Facultad de Ciencias Médicas. 2008. \nVIII.- “Diplomado en Educación para la Salud y Desarrollo Integral”\, organizado por el Grupo Congreso y el Congreso de Educación\, auspiciado por Ministerio de Educación de Nación\, Ministerio de Educación de la Provincia de San Juan y Municipalidad de Córdoba. Julio 2015 \nIX.- .- “Diplomado en Educación Ambiental”\, organizado por el Grupo Congreso y el Congreso de Educación\, auspiciado por Ministerio de Educación de Nación\, Ministerio de Educación de la Provincia de San Juan y Municipalidad de Córdoba. Mayo 2016
URL:https://www.ucsf.edu.ar/evento/seminario-webepidemiologia-y-ambiente-100-virtual/
LOCATION:UCSF Santa Fe\, Echagüe 7151\, Santa Fe\, Santa Fe\, Argentina
CATEGORIES:Santa Fe,Facultades,Ciencias de la Salud,Carreras de Grado,Rafaela,Sedes,IEHDS Instituto de Ecología Humana y Desarrollo Sustentable,IIFCS Instituto de Investigación de la Facultad de Ciencias de la Salud
ORGANIZER;CN="Instituto%20de%20Investigaciones%20de%20la%20Facultad%20de%20Ciencias%20de%20la%20Salud":MAILTO:iifcs@ucsf.edu.ar
GEO:-31.6069451;-60.6709418
X-APPLE-STRUCTURED-LOCATION;VALUE=URI;X-ADDRESS=UCSF Santa Fe Echagüe 7151 Santa Fe Santa Fe Argentina;X-APPLE-RADIUS=500;X-TITLE=Echagüe 7151:geo:-60.6709418,-31.6069451
END:VEVENT
BEGIN:VEVENT
DTSTART;TZID=America/Sao_Paulo:20190604T200000
DTEND;TZID=America/Sao_Paulo:20190604T210000
DTSTAMP:20260423T093546
CREATED:20190428T133652Z
LAST-MODIFIED:20190428T133652Z
UID:41514-1559678400-1559682000@www.ucsf.edu.ar
SUMMARY:Seminario Web:Epidemiología y Ambiente. 100% Virtual.
DESCRIPTION:Ciclo de conferencias: ABC en Epidemiologia (100 Virtual). 1 hora de duración. \nInscripción on line al pie. Se otorgan certificados. \nEpidemiologia y Ambiente\nObjetivos: \n-Aplicar los conocimientos de la epidemiología para el abordaje de la problemática ambiental. \nProf. Mgter. med. Nora Glatstein \n  \nI.- “Médica Cirujana” otorgado por la Facultad de Ciencias Médicas.UNC 1982 \nII.- “Diplomado en Salud Pública” expedido por la Facultad de Ciencias Médicas de la Universidad Nacional de Córdoba. 1985. \nIII.- “Diplomado en Epidemiología” expedido la Universidad Nacional de La  Rioja\, con fecha de egreso en Diciembre de 2008. \nIV:- “Especialista en Docencia Universitaria” expedido por la UTN Córdoba.2010 \nV.- “Residencia en Epidemiología de Campo” organizado por la Universidad Nacional de Tucumán y Ministerio de Salud de Nación\, con fecha de examen final en febrero 2011. \nVI.- “Magister en Drogadependencia” otorgado por la Facultad de Ciencias Médicas de la UNC. Septiembre 2014. \n \nVII.- “Especialista en Epidemiología General” organizado por la Escuela de Salud Pública de la Facultad de Ciencias Médicas de la Universidad Nacional de Córdoba. 2014 \nVII.- Certificado de Curso de Inglés Médico (traducción Nivel I-a distancia)\, Ciencias de la Salud de la Facultad de Ciencias Médicas. 2008. \nVIII.- “Diplomado en Educación para la Salud y Desarrollo Integral”\, organizado por el Grupo Congreso y el Congreso de Educación\, auspiciado por Ministerio de Educación de Nación\, Ministerio de Educación de la Provincia de San Juan y Municipalidad de Córdoba. Julio 2015 \nIX.- .- “Diplomado en Educación Ambiental”\, organizado por el Grupo Congreso y el Congreso de Educación\, auspiciado por Ministerio de Educación de Nación\, Ministerio de Educación de la Provincia de San Juan y Municipalidad de Córdoba. Mayo 2016
URL:https://www.ucsf.edu.ar/evento/seminario-webepidemiologia-y-ambiente-100-virtual-2/
LOCATION:UCSF Santa Fe\, Echagüe 7151\, Santa Fe\, Santa Fe\, Argentina
CATEGORIES:Santa Fe,Facultades,Ciencias de la Salud,Carreras de Grado,Rafaela,Sedes,IEHDS Instituto de Ecología Humana y Desarrollo Sustentable,IIFCS Instituto de Investigación de la Facultad de Ciencias de la Salud
ORGANIZER;CN="Instituto%20de%20Investigaciones%20de%20la%20Facultad%20de%20Ciencias%20de%20la%20Salud":MAILTO:iifcs@ucsf.edu.ar
GEO:-31.6069451;-60.6709418
X-APPLE-STRUCTURED-LOCATION;VALUE=URI;X-ADDRESS=UCSF Santa Fe Echagüe 7151 Santa Fe Santa Fe Argentina;X-APPLE-RADIUS=500;X-TITLE=Echagüe 7151:geo:-60.6709418,-31.6069451
END:VEVENT
BEGIN:VEVENT
DTSTART;TZID=America/Sao_Paulo:20190607T150000
DTEND;TZID=America/Sao_Paulo:20190607T160000
DTSTAMP:20260423T093546
CREATED:20190429T115548Z
LAST-MODIFIED:20190602T212659Z
UID:23863-1559919600-1559923200@www.ucsf.edu.ar
SUMMARY:Seminario Web: El aula bajo el ojo del terapista Ocupacional.
DESCRIPTION:  \nTítulo:\nLicenciado en Terapia Ocupacional \nTitulo Universitario intermedio de Acompañante terapeutico ocupacional. \nResolución Ministerial 4345-17 \nInscripciones 2020: \nLlenar el formulario para recibir información. \nhttp://servicios.ucsf.edu.ar/sgrmn/preinscripcion/ \nSeminario Web: Desde tu casa\, desde tu celular o tu Tableta. Inscripciones on line al pie. \n  \nEl aula bajo el ojo de un Terapista Ocupacional \nSe otorgan certificados \nObjetivos \n\nIntervención del terapista ocupacional en el ámbito escolar\nPautas para identificar y detectar dificultades que interfieren en el proceso de aprendizaje\nEstrategias de intervención para docentes\n\n  \nDisertantes \nMaría Clara Novak \nLic. en Terapia Ocupacional\, Terapeuta Acuática\, trabaja con niños y adolescentes con trastornos del desarrollo. Entrena y coordina talleres de AVD e independencia personal en niños. Asesoría a docentes de nivel inicial. \n \nCecilia Maletti \n \nLic. en Terapia Ocupacional\, trabaja con niños y adolescentes con autismo\, problemas de comportamiento y dificultades en el aprendizaje. Entrena y coordina talleres de habilidades sociales y comunicación y aprestamiento escolar. Asesoría a docentes de nivel inicial. \n  \nDirigido: \nDocentes grado inciales\, jardines\, alumnos de TO\, Docentes TO\, psicologos\, psicopedagodos\, publico interesado en la temática. \n 
URL:https://www.ucsf.edu.ar/evento/el-aula-bajo-el-ojo-del-terapista-ocupacional/
LOCATION:UCSF Santa Fe\, Echagüe 7151\, Santa Fe\, Santa Fe\, Argentina
CATEGORIES:Santa Fe,Facultades,Ciencias de la Salud,Carreras de Grado,Rafaela,Sedes,Licenciatura en Terapia Ocupacional
GEO:-31.6069451;-60.6709418
X-APPLE-STRUCTURED-LOCATION;VALUE=URI;X-ADDRESS=UCSF Santa Fe Echagüe 7151 Santa Fe Santa Fe Argentina;X-APPLE-RADIUS=500;X-TITLE=Echagüe 7151:geo:-60.6709418,-31.6069451
END:VEVENT
BEGIN:VEVENT
DTSTART;TZID=America/Sao_Paulo:20190607T150000
DTEND;TZID=America/Sao_Paulo:20190607T160000
DTSTAMP:20260423T093546
CREATED:20190429T115548Z
LAST-MODIFIED:20190429T115548Z
UID:41516-1559919600-1559923200@www.ucsf.edu.ar
SUMMARY:Seminario Web: El aula bajo el ojo del terapista Ocupacional.
DESCRIPTION:  \nTítulo:\nLicenciado en Terapia Ocupacional \nTitulo Universitario intermedio de Acompañante terapeutico ocupacional. \nResolución Ministerial 4345-17 \nInscripciones 2020: \nLlenar el formulario para recibir información. \nhttp://servicios.ucsf.edu.ar/sgrmn/preinscripcion/ \nSeminario Web: Desde tu casa\, desde tu celular o tu Tableta. Inscripciones on line al pie. \n  \nEl aula bajo el ojo de un Terapista Ocupacional \nSe otorgan certificados \nObjetivos \n\nIntervención del terapista ocupacional en el ámbito escolar\nPautas para identificar y detectar dificultades que interfieren en el proceso de aprendizaje\nEstrategias de intervención para docentes\n\n  \nDisertantes \nMaría Clara Novak \nLic. en Terapia Ocupacional\, Terapeuta Acuática\, trabaja con niños y adolescentes con trastornos del desarrollo. Entrena y coordina talleres de AVD e independencia personal en niños. Asesoría a docentes de nivel inicial. \n \nCecilia Maletti \n \nLic. en Terapia Ocupacional\, trabaja con niños y adolescentes con autismo\, problemas de comportamiento y dificultades en el aprendizaje. Entrena y coordina talleres de habilidades sociales y comunicación y aprestamiento escolar. Asesoría a docentes de nivel inicial. \n  \nDirigido: \nDocentes grado inciales\, jardines\, alumnos de TO\, Docentes TO\, psicologos\, psicopedagodos\, publico interesado en la temática. \n 
URL:https://www.ucsf.edu.ar/evento/el-aula-bajo-el-ojo-del-terapista-ocupacional-2/
LOCATION:UCSF Santa Fe\, Echagüe 7151\, Santa Fe\, Santa Fe\, Argentina
CATEGORIES:Santa Fe,Facultades,Ciencias de la Salud,Carreras de Grado,Rafaela,Sedes,Licenciatura en Terapia Ocupacional
GEO:-31.6069451;-60.6709418
X-APPLE-STRUCTURED-LOCATION;VALUE=URI;X-ADDRESS=UCSF Santa Fe Echagüe 7151 Santa Fe Santa Fe Argentina;X-APPLE-RADIUS=500;X-TITLE=Echagüe 7151:geo:-60.6709418,-31.6069451
END:VEVENT
BEGIN:VEVENT
DTSTART;TZID=America/Sao_Paulo:20190607T190000
DTEND;TZID=America/Sao_Paulo:20190607T210000
DTSTAMP:20260423T093546
CREATED:20190516T014833Z
LAST-MODIFIED:20190516T014833Z
UID:24256-1559934000-1559941200@www.ucsf.edu.ar
SUMMARY:Taller de escritura periodística organizado por el Observatorio de Política Internacinoal
DESCRIPTION:El Observatorio de Política Internacional de la Facultad de Derecho y Ciencia Política de la Universidad Católica de Santa Fe\, organiza el taller de escritura de textos periodísticos\, en el marco de las actividades extracurriculares programadas por el instituto para el corriente año. \nEn el mismo disertarán las Licenciadas Lorena Rugna y Melissa Roussillión y estará dirigido a alumnos de las Licenciaturas en Ciencia Política y Relaciones Internacionales de la casa. Constará de tres encuentros programados para el 7\, 21 y 28 de junio y se dictará en el aula 3.51 de la Universidad.
URL:https://www.ucsf.edu.ar/evento/taller-de-escritura-periodistica-organizado-por-el-observatorio-de-politica-internacinoal/2019-06-07/
LOCATION:UCSF Santa Fe\, Echagüe 7151\, Santa Fe\, Santa Fe\, Argentina
CATEGORIES:Santa Fe,OPI - Observatorio de Política Internacional
ORGANIZER;CN="Observatorio%20de%20Pol%C3%ADtica%20Internacional":MAILTO:obs.internacional@ucsf.edu.ar
GEO:-31.6069451;-60.6709418
X-APPLE-STRUCTURED-LOCATION;VALUE=URI;X-ADDRESS=UCSF Santa Fe Echagüe 7151 Santa Fe Santa Fe Argentina;X-APPLE-RADIUS=500;X-TITLE=Echagüe 7151:geo:-60.6709418,-31.6069451
END:VEVENT
BEGIN:VEVENT
DTSTART;TZID=America/Sao_Paulo:20190607T190000
DTEND;TZID=America/Sao_Paulo:20190607T210000
DTSTAMP:20260423T093546
CREATED:20190516T014833Z
LAST-MODIFIED:20190516T014833Z
UID:41518-1559934000-1559941200@www.ucsf.edu.ar
SUMMARY:Taller de escritura periodística organizado por el Observatorio de Política Internacinoal
DESCRIPTION:El Observatorio de Política Internacional de la Facultad de Derecho y Ciencia Política de la Universidad Católica de Santa Fe\, organiza el taller de escritura de textos periodísticos\, en el marco de las actividades extracurriculares programadas por el instituto para el corriente año. \nEn el mismo disertarán las Licenciadas Lorena Rugna y Melissa Roussillión y estará dirigido a alumnos de las Licenciaturas en Ciencia Política y Relaciones Internacionales de la casa. Constará de tres encuentros programados para el 7\, 21 y 28 de junio y se dictará en el aula 3.51 de la Universidad.
URL:https://www.ucsf.edu.ar/evento/taller-de-escritura-periodistica-organizado-por-el-observatorio-de-politica-internacinoal-2/2019-06-07/
LOCATION:UCSF Santa Fe\, Echagüe 7151\, Santa Fe\, Santa Fe\, Argentina
CATEGORIES:Santa Fe,OPI - Observatorio de Política Internacional
ORGANIZER;CN="Observatorio%20de%20Pol%C3%ADtica%20Internacional":MAILTO:obs.internacional@ucsf.edu.ar
GEO:-31.6069451;-60.6709418
X-APPLE-STRUCTURED-LOCATION;VALUE=URI;X-ADDRESS=UCSF Santa Fe Echagüe 7151 Santa Fe Santa Fe Argentina;X-APPLE-RADIUS=500;X-TITLE=Echagüe 7151:geo:-60.6709418,-31.6069451
END:VEVENT
END:VCALENDAR