BEGIN:VCALENDAR
VERSION:2.0
PRODID:-//UCSF - Universidad Católica de Santa Fe - ECPv5.14.2.1//NONSGML v1.0//EN
CALSCALE:GREGORIAN
METHOD:PUBLISH
X-WR-CALNAME:UCSF - Universidad Católica de Santa Fe
X-ORIGINAL-URL:https://www.ucsf.edu.ar
X-WR-CALDESC:Events for UCSF - Universidad Católica de Santa Fe
REFRESH-INTERVAL;VALUE=DURATION:PT1H
X-Robots-Tag:noindex
X-PUBLISHED-TTL:PT1H
BEGIN:VTIMEZONE
TZID:America/Sao_Paulo
BEGIN:STANDARD
TZOFFSETFROM:-0200
TZOFFSETTO:-0300
TZNAME:-03
DTSTART:20190217T020000
END:STANDARD
END:VTIMEZONE
BEGIN:VEVENT
DTSTART;TZID=America/Sao_Paulo:20190523T190000
DTEND;TZID=America/Sao_Paulo:20190613T190000
DTSTAMP:20260423T093545
CREATED:20190419T115743Z
LAST-MODIFIED:20190521T145139Z
UID:23533-1558638000-1560452400@www.ucsf.edu.ar
SUMMARY:Muestra de Arquitectura "El Material de lo Construido"
DESCRIPTION:El 23 de mayo se inaugurará en el Hall de la UCSF\, Echagüe 7151\, Santa Fe\, la Muestra de Arquitectura “El Material de lo Construido” desarrollada por la empresa WEBER y curada por Bisman Ediciones. \n  \n \nVer más
URL:https://www.ucsf.edu.ar/evento/muestra-de-arquitectura-el-material-de-lo-construido/
LOCATION:UCSF Santa Fe\, Echagüe 7151\, Santa Fe\, Santa Fe\, Argentina
CATEGORIES:Arquitectura y Diseño,Santa Fe,Facultades,Arquitectura,Carreras de Grado,Rafaela,Sedes
GEO:-31.6069451;-60.6709418
X-APPLE-STRUCTURED-LOCATION;VALUE=URI;X-ADDRESS=UCSF Santa Fe Echagüe 7151 Santa Fe Santa Fe Argentina;X-APPLE-RADIUS=500;X-TITLE=Echagüe 7151:geo:-60.6709418,-31.6069451
END:VEVENT
BEGIN:VEVENT
DTSTART;TZID=America/Sao_Paulo:20190523T190000
DTEND;TZID=America/Sao_Paulo:20190613T190000
DTSTAMP:20260423T093545
CREATED:20190419T115743Z
LAST-MODIFIED:20190419T115743Z
UID:41507-1558638000-1560452400@www.ucsf.edu.ar
SUMMARY:Muestra de Arquitectura "El Material de lo Construido"
DESCRIPTION:El 23 de mayo se inaugurará en el Hall de la UCSF\, Echagüe 7151\, Santa Fe\, la Muestra de Arquitectura “El Material de lo Construido” desarrollada por la empresa WEBER y curada por Bisman Ediciones. \n  \n \nVer más
URL:https://www.ucsf.edu.ar/evento/muestra-de-arquitectura-el-material-de-lo-construido-2/
LOCATION:UCSF Santa Fe\, Echagüe 7151\, Santa Fe\, Santa Fe\, Argentina
CATEGORIES:Arquitectura y Diseño,Santa Fe,Facultades,Arquitectura,Carreras de Grado,Rafaela,Sedes
GEO:-31.6069451;-60.6709418
X-APPLE-STRUCTURED-LOCATION;VALUE=URI;X-ADDRESS=UCSF Santa Fe Echagüe 7151 Santa Fe Santa Fe Argentina;X-APPLE-RADIUS=500;X-TITLE=Echagüe 7151:geo:-60.6709418,-31.6069451
END:VEVENT
BEGIN:VEVENT
DTSTART;TZID=America/Sao_Paulo:20190611T200000
DTEND;TZID=America/Sao_Paulo:20190611T210000
DTSTAMP:20260423T093545
CREATED:20190428T135514Z
LAST-MODIFIED:20190429T123045Z
UID:23844-1560283200-1560286800@www.ucsf.edu.ar
SUMMARY:Seminario Web: Epidemiología de las Enfermedades Infecciosas.
DESCRIPTION:  \nCiclo de conferencias: ABC en Epidemiologia (100  Virtual). 1 hora de duración. \nInscripción on line al pie. \nEpidemiologia de las Enfermedades Infecciosas.\nObjetivos: \n– Abordar desde una mira epidemiológica y de manera integral la problemática de salud. \nProf. Mgter. med. Nora Glatstein \n \n  \nI.- “Médica Cirujana” otorgado por la Facultad de Ciencias Médicas.UNC 1982 \nII.- “Diplomado en Salud Pública” expedido por la Facultad de Ciencias Médicas de la Universidad Nacional de Córdoba. 1985. \nIII.- “Diplomado en Epidemiología” expedido la Universidad Nacional de La  Rioja\, con fecha de egreso en Diciembre de 2008. \nIV:- “Especialista en Docencia Universitaria” expedido por la UTN Córdoba.2010 \nV.- “Especialista en Epidemiología de Campo” organizado por la Universidad Nacional de Tucumán y Ministerio de Salud de Nación\, con fecha de examen final en febrero 2011. \nVI.- “Magister en Drogadependencia” otorgado por la Facultad de Ciencias Médicas de la UNC. Septiembre 2014. \nVII.- “Residencia en Epidemiología General” organizado por la Escuela de Salud Pública de la Facultad de Ciencias Médicas de la Universidad Nacional de Córdoba. 2014 \nVII.- Certificado de Curso de Inglés Médico (traducción Nivel I-a distancia)\, Ciencias de la Salud de la Facultad de Ciencias Médicas. 2008. \nVIII.- “Diplomado en Educación para la Salud y Desarrollo Integral”\, organizado por el Grupo Congreso y el Congreso de Educación\, auspiciado por Ministerio de Educación de Nación\, Ministerio de Educación de la Provincia de San Juan y Municipalidad de Córdoba. Julio 2015 \nIX.- .- “Diplomado en Educación Ambiental”\, organizado por el Grupo Congreso y el Congreso de Educación\, auspiciado por Ministerio de Educación de Nación\, Ministerio de Educación de la Provincia de San Juan y Municipalidad de Córdoba. Mayo 2016
URL:https://www.ucsf.edu.ar/evento/seminario-web-epidemiologia-de-las-enfermedades-infecciosas/
LOCATION:UCSF Santa Fe\, Echagüe 7151\, Santa Fe\, Santa Fe\, Argentina
CATEGORIES:Santa Fe,Facultades,Ciencias de la Salud,Carreras de Grado,Rafaela,Sedes,IEHDS Instituto de Ecología Humana y Desarrollo Sustentable,IIFCS Instituto de Investigación de la Facultad de Ciencias de la Salud
ORGANIZER;CN="Instituto%20de%20Investigaciones%20de%20la%20Facultad%20de%20Ciencias%20de%20la%20Salud":MAILTO:iifcs@ucsf.edu.ar
GEO:-31.6069451;-60.6709418
X-APPLE-STRUCTURED-LOCATION;VALUE=URI;X-ADDRESS=UCSF Santa Fe Echagüe 7151 Santa Fe Santa Fe Argentina;X-APPLE-RADIUS=500;X-TITLE=Echagüe 7151:geo:-60.6709418,-31.6069451
END:VEVENT
BEGIN:VEVENT
DTSTART;TZID=America/Sao_Paulo:20190611T200000
DTEND;TZID=America/Sao_Paulo:20190611T210000
DTSTAMP:20260423T093545
CREATED:20190428T135514Z
LAST-MODIFIED:20190428T135514Z
UID:41515-1560283200-1560286800@www.ucsf.edu.ar
SUMMARY:Seminario Web: Epidemiología de las Enfermedades Infecciosas.
DESCRIPTION:  \nCiclo de conferencias: ABC en Epidemiologia (100  Virtual). 1 hora de duración. \nInscripción on line al pie. \nEpidemiologia de las Enfermedades Infecciosas.\nObjetivos: \n– Abordar desde una mira epidemiológica y de manera integral la problemática de salud. \nProf. Mgter. med. Nora Glatstein \n \n  \nI.- “Médica Cirujana” otorgado por la Facultad de Ciencias Médicas.UNC 1982 \nII.- “Diplomado en Salud Pública” expedido por la Facultad de Ciencias Médicas de la Universidad Nacional de Córdoba. 1985. \nIII.- “Diplomado en Epidemiología” expedido la Universidad Nacional de La  Rioja\, con fecha de egreso en Diciembre de 2008. \nIV:- “Especialista en Docencia Universitaria” expedido por la UTN Córdoba.2010 \nV.- “Especialista en Epidemiología de Campo” organizado por la Universidad Nacional de Tucumán y Ministerio de Salud de Nación\, con fecha de examen final en febrero 2011. \nVI.- “Magister en Drogadependencia” otorgado por la Facultad de Ciencias Médicas de la UNC. Septiembre 2014. \nVII.- “Residencia en Epidemiología General” organizado por la Escuela de Salud Pública de la Facultad de Ciencias Médicas de la Universidad Nacional de Córdoba. 2014 \nVII.- Certificado de Curso de Inglés Médico (traducción Nivel I-a distancia)\, Ciencias de la Salud de la Facultad de Ciencias Médicas. 2008. \nVIII.- “Diplomado en Educación para la Salud y Desarrollo Integral”\, organizado por el Grupo Congreso y el Congreso de Educación\, auspiciado por Ministerio de Educación de Nación\, Ministerio de Educación de la Provincia de San Juan y Municipalidad de Córdoba. Julio 2015 \nIX.- .- “Diplomado en Educación Ambiental”\, organizado por el Grupo Congreso y el Congreso de Educación\, auspiciado por Ministerio de Educación de Nación\, Ministerio de Educación de la Provincia de San Juan y Municipalidad de Córdoba. Mayo 2016
URL:https://www.ucsf.edu.ar/evento/seminario-web-epidemiologia-de-las-enfermedades-infecciosas-2/
LOCATION:UCSF Santa Fe\, Echagüe 7151\, Santa Fe\, Santa Fe\, Argentina
CATEGORIES:Santa Fe,Facultades,Ciencias de la Salud,Carreras de Grado,Rafaela,Sedes,IEHDS Instituto de Ecología Humana y Desarrollo Sustentable,IIFCS Instituto de Investigación de la Facultad de Ciencias de la Salud
ORGANIZER;CN="Instituto%20de%20Investigaciones%20de%20la%20Facultad%20de%20Ciencias%20de%20la%20Salud":MAILTO:iifcs@ucsf.edu.ar
GEO:-31.6069451;-60.6709418
X-APPLE-STRUCTURED-LOCATION;VALUE=URI;X-ADDRESS=UCSF Santa Fe Echagüe 7151 Santa Fe Santa Fe Argentina;X-APPLE-RADIUS=500;X-TITLE=Echagüe 7151:geo:-60.6709418,-31.6069451
END:VEVENT
BEGIN:VEVENT
DTSTART;TZID=America/Sao_Paulo:20190613T180000
DTEND;TZID=America/Sao_Paulo:20190613T190000
DTSTAMP:20260423T093545
CREATED:20190610T173742Z
LAST-MODIFIED:20190611T123753Z
UID:24814-1560448800-1560452400@www.ucsf.edu.ar
SUMMARY:Charla "Estudiar en Francia"
DESCRIPTION:Se puede seguir online a través de: http://abclearning.adobeconnect.com/coopinte-ucsf/
URL:https://www.ucsf.edu.ar/evento/charla-estudiar-en-francia/
LOCATION:UCSF Santa Fe\, Echagüe 7151\, Santa Fe\, Santa Fe\, Argentina
CATEGORIES:Home principal,Arquitectura y Diseño,Ciencias Agropecuarias,Santa Fe,Facultades,Rosario,Ciencias de la Salud,Posadas,Ciencias Económicas,Reconquista,Derecho y Ciencia Política,Filosofía y Humanidades,Rafaela,Gualeguaychú,Psicología,Sedes
GEO:-31.6069451;-60.6709418
X-APPLE-STRUCTURED-LOCATION;VALUE=URI;X-ADDRESS=UCSF Santa Fe Echagüe 7151 Santa Fe Santa Fe Argentina;X-APPLE-RADIUS=500;X-TITLE=Echagüe 7151:geo:-60.6709418,-31.6069451
END:VEVENT
BEGIN:VEVENT
DTSTART;TZID=America/Sao_Paulo:20190613T180000
DTEND;TZID=America/Sao_Paulo:20190613T190000
DTSTAMP:20260423T093545
CREATED:20190610T173742Z
LAST-MODIFIED:20190610T173742Z
UID:41523-1560448800-1560452400@www.ucsf.edu.ar
SUMMARY:Charla "Estudiar en Francia"
DESCRIPTION:Se puede seguir online a través de: http://abclearning.adobeconnect.com/coopinte-ucsf/
URL:https://www.ucsf.edu.ar/evento/charla-estudiar-en-francia-2/
LOCATION:UCSF Santa Fe\, Echagüe 7151\, Santa Fe\, Santa Fe\, Argentina
CATEGORIES:Home principal,Arquitectura y Diseño,Santa Fe,Facultades,Ciencias Agropecuarias,Rosario,Ciencias de la Salud,Posadas,Ciencias Económicas,Reconquista,Filosofía y Humanidades,Rafaela,Gualeguaychú,Psicología,Sedes
GEO:-31.6069451;-60.6709418
X-APPLE-STRUCTURED-LOCATION;VALUE=URI;X-ADDRESS=UCSF Santa Fe Echagüe 7151 Santa Fe Santa Fe Argentina;X-APPLE-RADIUS=500;X-TITLE=Echagüe 7151:geo:-60.6709418,-31.6069451
END:VEVENT
BEGIN:VEVENT
DTSTART;TZID=America/Sao_Paulo:20190614T090000
DTEND;TZID=America/Sao_Paulo:20190615T130000
DTSTAMP:20260423T093545
CREATED:20190511T215844Z
LAST-MODIFIED:20190511T224038Z
UID:24165-1560502800-1560603600@www.ucsf.edu.ar
SUMMARY:CURSO DE ACTUALIZACIÓN: POLÍTICAS PÚBLICAS COMPARADAS EN SEGURIDAD ALIMENTARIA
DESCRIPTION:  \nInscripciones on line abajo. \n  \n \n  \nConforme la definición de FAO (1996) respecto de la Seguridad Alimentaria\, entendida como la existencia del acceso físico y económico de todas las personas a suficientes alimentos inocuos y nutritivos para satisfacer sus necesidades alimenticias y a los efectos de llevar una vida activa y sana\, este seminario pretende reconocer la importancia de la Seguridad Alimentaria no como una mera enunciación …declaratoria de su condición de derecho humano. Esto se contradice en la praxis con una insuficiente proyección y ejecución tanto de los organismos internacionales como de los aparatos estatales\, lo cual se revela en las estadísticas de pobreza\, malnutrición e indigencia\, según se analicen países y continentes… \ntodo el programa: aquí
URL:https://www.ucsf.edu.ar/evento/curso-de-actualizacion-politicas-publicas-comparadas-en-seguridad-alimentaria/
LOCATION:UCSF Santa Fe\, Echagüe 7151\, Santa Fe\, Santa Fe\, Argentina
CATEGORIES:Santa Fe,Ciencias de la Salud,Carreras de Grado,Rafaela,Sedes,Licenciatura en Nutrición
GEO:-31.6069451;-60.6709418
X-APPLE-STRUCTURED-LOCATION;VALUE=URI;X-ADDRESS=UCSF Santa Fe Echagüe 7151 Santa Fe Santa Fe Argentina;X-APPLE-RADIUS=500;X-TITLE=Echagüe 7151:geo:-60.6709418,-31.6069451
END:VEVENT
BEGIN:VEVENT
DTSTART;TZID=America/Sao_Paulo:20190614T090000
DTEND;TZID=America/Sao_Paulo:20190615T130000
DTSTAMP:20260423T093545
CREATED:20190511T215844Z
LAST-MODIFIED:20190511T215844Z
UID:41517-1560502800-1560603600@www.ucsf.edu.ar
SUMMARY:CURSO DE ACTUALIZACIÓN: POLÍTICAS PÚBLICAS COMPARADAS EN SEGURIDAD ALIMENTARIA
DESCRIPTION:  \nInscripciones on line abajo. \n  \n \n  \nConforme la definición de FAO (1996) respecto de la Seguridad Alimentaria\, entendida como la existencia del acceso físico y económico de todas las personas a suficientes alimentos inocuos y nutritivos para satisfacer sus necesidades alimenticias y a los efectos de llevar una vida activa y sana\, este seminario pretende reconocer la importancia de la Seguridad Alimentaria no como una mera enunciación …declaratoria de su condición de derecho humano. Esto se contradice en la praxis con una insuficiente proyección y ejecución tanto de los organismos internacionales como de los aparatos estatales\, lo cual se revela en las estadísticas de pobreza\, malnutrición e indigencia\, según se analicen países y continentes… \ntodo el programa: aquí
URL:https://www.ucsf.edu.ar/evento/curso-de-actualizacion-politicas-publicas-comparadas-en-seguridad-alimentaria-2/
LOCATION:UCSF Santa Fe\, Echagüe 7151\, Santa Fe\, Santa Fe\, Argentina
CATEGORIES:Santa Fe,Ciencias de la Salud,Carreras de Grado,Rafaela,Sedes,Licenciatura en Nutrición
GEO:-31.6069451;-60.6709418
X-APPLE-STRUCTURED-LOCATION;VALUE=URI;X-ADDRESS=UCSF Santa Fe Echagüe 7151 Santa Fe Santa Fe Argentina;X-APPLE-RADIUS=500;X-TITLE=Echagüe 7151:geo:-60.6709418,-31.6069451
END:VEVENT
BEGIN:VEVENT
DTSTART;TZID=America/Sao_Paulo:20190614T180000
DTEND;TZID=America/Sao_Paulo:20190614T200000
DTSTAMP:20260423T093545
CREATED:20190416T115053Z
LAST-MODIFIED:20190416T115053Z
UID:23473-1560535200-1560542400@www.ucsf.edu.ar
SUMMARY:Acto de Colación - Sede Rafaela
DESCRIPTION:Comenzará con la Misa de Acción de Gracias\, y proseguirá con el Acto Académico.
URL:https://www.ucsf.edu.ar/evento/acto-de-colacion-sede-rafaela-2/
LOCATION:Santa Fe
CATEGORIES:Arquitectura y Diseño,Facultades,Rafaela,Sedes
END:VEVENT
BEGIN:VEVENT
DTSTART;TZID=America/Sao_Paulo:20190614T180000
DTEND;TZID=America/Sao_Paulo:20190614T200000
DTSTAMP:20260423T093545
CREATED:20190416T115053Z
LAST-MODIFIED:20190416T115053Z
UID:41504-1560535200-1560542400@www.ucsf.edu.ar
SUMMARY:Acto de Colación - Sede Rafaela
DESCRIPTION:Comenzará con la Misa de Acción de Gracias\, y proseguirá con el Acto Académico.
URL:https://www.ucsf.edu.ar/evento/acto-de-colacion-sede-rafaela-2-2/
LOCATION:Santa Fe
CATEGORIES:Arquitectura y Diseño,Facultades,Rafaela,Sedes
END:VEVENT
END:VCALENDAR