BEGIN:VCALENDAR
VERSION:2.0
PRODID:-//UCSF - Universidad Católica de Santa Fe - ECPv5.14.2.1//NONSGML v1.0//EN
CALSCALE:GREGORIAN
METHOD:PUBLISH
X-WR-CALNAME:UCSF - Universidad Católica de Santa Fe
X-ORIGINAL-URL:https://www.ucsf.edu.ar
X-WR-CALDESC:Events for UCSF - Universidad Católica de Santa Fe
REFRESH-INTERVAL;VALUE=DURATION:PT1H
X-Robots-Tag:noindex
X-PUBLISHED-TTL:PT1H
BEGIN:VTIMEZONE
TZID:America/Sao_Paulo
BEGIN:STANDARD
TZOFFSETFROM:-0200
TZOFFSETTO:-0300
TZNAME:-03
DTSTART:20190217T020000
END:STANDARD
END:VTIMEZONE
BEGIN:VEVENT
DTSTART;TZID=America/Sao_Paulo:20190618T160000
DTEND;TZID=America/Sao_Paulo:20190618T170000
DTSTAMP:20260423T141312
CREATED:20190308T151938Z
LAST-MODIFIED:20190605T115916Z
UID:22331-1560873600-1560877200@www.ucsf.edu.ar
SUMMARY:Círculo de lecturas Filosofía y Derecho
DESCRIPTION:
URL:https://www.ucsf.edu.ar/evento/circulo-de-lecturas-filosofia-y-derecho/2019-06-18/
LOCATION:Santa Fe
CATEGORIES:Institutos,IF Instituto de Filosofía
END:VEVENT
BEGIN:VEVENT
DTSTART;TZID=America/Sao_Paulo:20190618T160000
DTEND;TZID=America/Sao_Paulo:20190618T170000
DTSTAMP:20260423T141312
CREATED:20190308T151938Z
LAST-MODIFIED:20190308T151938Z
UID:41481-1560873600-1560877200@www.ucsf.edu.ar
SUMMARY:Círculo de lecturas Filosofía y Derecho
DESCRIPTION:
URL:https://www.ucsf.edu.ar/evento/circulo-de-lecturas-filosofia-y-derecho-2/2019-06-18/
LOCATION:Untitled\, Santa Fe\, Argentina
CATEGORIES:Institutos,IF Instituto de Filosofía
END:VEVENT
END:VCALENDAR