BEGIN:VCALENDAR
VERSION:2.0
PRODID:-//UCSF - Universidad Católica de Santa Fe - ECPv5.14.2.1//NONSGML v1.0//EN
CALSCALE:GREGORIAN
METHOD:PUBLISH
X-WR-CALNAME:UCSF - Universidad Católica de Santa Fe
X-ORIGINAL-URL:https://www.ucsf.edu.ar
X-WR-CALDESC:Events for UCSF - Universidad Católica de Santa Fe
REFRESH-INTERVAL;VALUE=DURATION:PT1H
X-Robots-Tag:noindex
X-PUBLISHED-TTL:PT1H
BEGIN:VTIMEZONE
TZID:America/Sao_Paulo
BEGIN:STANDARD
TZOFFSETFROM:-0200
TZOFFSETTO:-0300
TZNAME:-03
DTSTART:20190217T020000
END:STANDARD
END:VTIMEZONE
BEGIN:VEVENT
DTSTART;TZID=America/Sao_Paulo:20190830T090000
DTEND;TZID=America/Sao_Paulo:20190830T180000
DTSTAMP:20260423T015946
CREATED:20190807T202804Z
LAST-MODIFIED:20190807T202804Z
UID:26375-1567155600-1567188000@www.ucsf.edu.ar
SUMMARY:TALLER: ENSEÑAR y APRENDER FILOSOFÍA en tiempos turbulentos
DESCRIPTION:Con el Dr. Jorge Noro
URL:https://www.ucsf.edu.ar/evento/taller-ensenar-y-aprender-filosofia-en-tiempos-turbulentos/
LOCATION:Santa Fe
CATEGORIES:Facultades,Licenciatura en Ciencias de la Comunicación
END:VEVENT
BEGIN:VEVENT
DTSTART;TZID=America/Sao_Paulo:20190830T090000
DTEND;TZID=America/Sao_Paulo:20190830T180000
DTSTAMP:20260423T015946
CREATED:20190807T202804Z
LAST-MODIFIED:20190807T202804Z
UID:41531-1567155600-1567188000@www.ucsf.edu.ar
SUMMARY:TALLER: ENSEÑAR y APRENDER FILOSOFÍA en tiempos turbulentos
DESCRIPTION:Con el Dr. Jorge Noro
URL:https://www.ucsf.edu.ar/evento/taller-ensenar-y-aprender-filosofia-en-tiempos-turbulentos-2/
LOCATION:Santa Fe
CATEGORIES:Facultades,Licenciatura en Ciencias de la Comunicación
END:VEVENT
BEGIN:VEVENT
DTSTART;TZID=America/Sao_Paulo:20190830T180000
DTEND;TZID=America/Sao_Paulo:20190830T200000
DTSTAMP:20260423T015946
CREATED:20190308T140646Z
LAST-MODIFIED:20190308T140947Z
UID:22325-1567188000-1567195200@www.ucsf.edu.ar
SUMMARY:Presentación de Avances de los Proyectos de Investigación del Instituto
DESCRIPTION:
URL:https://www.ucsf.edu.ar/evento/presentacion-de-avances-de-los-proyectos-de-investigacion-del-instituto/
LOCATION:Untitled\, Santa Fe\, Argentina
CATEGORIES:IEHDS Instituto de Ecología Humana y Desarrollo Sustentable,Institutos
END:VEVENT
BEGIN:VEVENT
DTSTART;TZID=America/Sao_Paulo:20190830T180000
DTEND;TZID=America/Sao_Paulo:20190830T200000
DTSTAMP:20260423T015946
CREATED:20190308T140646Z
LAST-MODIFIED:20190308T140646Z
UID:41479-1567188000-1567195200@www.ucsf.edu.ar
SUMMARY:Presentación de Avances de los Proyectos de Investigación del Instituto
DESCRIPTION:
URL:https://www.ucsf.edu.ar/evento/presentacion-de-avances-de-los-proyectos-de-investigacion-del-instituto-2/
LOCATION:Untitled\, Santa Fe\, Argentina
CATEGORIES:IEHDS Instituto de Ecología Humana y Desarrollo Sustentable,Institutos
END:VEVENT
END:VCALENDAR