BEGIN:VCALENDAR
VERSION:2.0
PRODID:-//UCSF - Universidad Católica de Santa Fe - ECPv5.14.2.1//NONSGML v1.0//EN
CALSCALE:GREGORIAN
METHOD:PUBLISH
X-WR-CALNAME:UCSF - Universidad Católica de Santa Fe
X-ORIGINAL-URL:https://www.ucsf.edu.ar
X-WR-CALDESC:Events for UCSF - Universidad Católica de Santa Fe
REFRESH-INTERVAL;VALUE=DURATION:PT1H
X-Robots-Tag:noindex
X-PUBLISHED-TTL:PT1H
BEGIN:VTIMEZONE
TZID:America/Argentina/Buenos_Aires
BEGIN:STANDARD
TZOFFSETFROM:-0300
TZOFFSETTO:-0300
TZNAME:-03
DTSTART:20190101T000000
END:STANDARD
END:VTIMEZONE
BEGIN:VEVENT
DTSTART;TZID=America/Argentina/Buenos_Aires:20190916T150000
DTEND;TZID=America/Argentina/Buenos_Aires:20190916T170000
DTSTAMP:20260423T045755
CREATED:20190916T114429Z
LAST-MODIFIED:20190916T114527Z
UID:27570-1568646000-1568653200@www.ucsf.edu.ar
SUMMARY:Clase abierta "La Plata - Santa Fe"- Desafíos de lo urbano y su arquitectura en el siglo XXI.
DESCRIPTION:Más información
URL:https://www.ucsf.edu.ar/evento/clase-abierta-la-plata-santa-fe-desafios-de-lo-urbano-y-su-arquitectura-en-el-siglo-xxi/
LOCATION:Santa Fe
CATEGORIES:Arquitectura y Diseño,Santa Fe,Facultades,Arquitectura,Carreras de Grado,Especialización en Gestión Integral del Hábitat,Carreras de Posgrado,Sedes
END:VEVENT
BEGIN:VEVENT
DTSTART;TZID=America/Argentina/Buenos_Aires:20190916T150000
DTEND;TZID=America/Argentina/Buenos_Aires:20190916T170000
DTSTAMP:20260423T045755
CREATED:20190916T114429Z
LAST-MODIFIED:20190916T114429Z
UID:41538-1568646000-1568653200@www.ucsf.edu.ar
SUMMARY:Clase abierta "La Plata - Santa Fe"- Desafíos de lo urbano y su arquitectura en el siglo XXI.
DESCRIPTION:Más información
URL:https://www.ucsf.edu.ar/evento/clase-abierta-la-plata-santa-fe-desafios-de-lo-urbano-y-su-arquitectura-en-el-siglo-xxi-2/
LOCATION:Untitled\, Santa Fe\, Argentina
CATEGORIES:Arquitectura y Diseño,Santa Fe,Facultades,Arquitectura,Carreras de Grado,Especialización en Gestión Integral del Hábitat,Carreras de Posgrado,Sedes
END:VEVENT
BEGIN:VEVENT
DTSTART;TZID=America/Argentina/Buenos_Aires:20190918T160000
DTEND;TZID=America/Argentina/Buenos_Aires:20190918T173000
DTSTAMP:20260423T045755
CREATED:20190917T140358Z
LAST-MODIFIED:20190917T142219Z
UID:27598-1568822400-1568827800@www.ucsf.edu.ar
SUMMARY:Estudia Nutrición en la Católica de Santa Fe. Clase  abierta. Te esperamos!
DESCRIPTION:
URL:https://www.ucsf.edu.ar/evento/estudia-nutricion-en-la-catolica-de-santa-fe-clase-abierta-te-esperamos/
LOCATION:UCSF Santa Fe\, Echagüe 7151\, Santa Fe\, Santa Fe\, Argentina
CATEGORIES:Santa Fe,Facultades,Ciencias de la Salud,Sedes,Licenciatura en Nutrición
GEO:-31.6069451;-60.6709418
X-APPLE-STRUCTURED-LOCATION;VALUE=URI;X-ADDRESS=UCSF Santa Fe Echagüe 7151 Santa Fe Santa Fe Argentina;X-APPLE-RADIUS=500;X-TITLE=Echagüe 7151:geo:-60.6709418,-31.6069451
END:VEVENT
BEGIN:VEVENT
DTSTART;TZID=America/Argentina/Buenos_Aires:20190918T160000
DTEND;TZID=America/Argentina/Buenos_Aires:20190918T173000
DTSTAMP:20260423T045755
CREATED:20190917T140358Z
LAST-MODIFIED:20190917T140358Z
UID:41539-1568822400-1568827800@www.ucsf.edu.ar
SUMMARY:Estudia Nutrición en la Católica de Santa Fe. Clase  abierta. Te esperamos!
DESCRIPTION:
URL:https://www.ucsf.edu.ar/evento/estudia-nutricion-en-la-catolica-de-santa-fe-clase-abierta-te-esperamos-2/
LOCATION:UCSF Santa Fe\, Echagüe 7151\, Santa Fe\, Santa Fe\, Argentina
CATEGORIES:Santa Fe,Facultades,Ciencias de la Salud,Sedes,Licenciatura en Nutrición
GEO:-31.6069451;-60.6709418
X-APPLE-STRUCTURED-LOCATION;VALUE=URI;X-ADDRESS=UCSF Santa Fe Echagüe 7151 Santa Fe Santa Fe Argentina;X-APPLE-RADIUS=500;X-TITLE=Echagüe 7151:geo:-60.6709418,-31.6069451
END:VEVENT
BEGIN:VEVENT
DTSTART;TZID=America/Argentina/Buenos_Aires:20190920T180000
DTEND;TZID=America/Argentina/Buenos_Aires:20190920T180000
DTSTAMP:20260423T045755
CREATED:20190920T195355Z
LAST-MODIFIED:20190920T200651Z
UID:27744-1569002400-1569002400@www.ucsf.edu.ar
SUMMARY:Estudia Farmacia en la Católica de Santa Fe. Clase Abierta. Ingreso 2020
DESCRIPTION:  \nhttps://www.ucsf.edu.ar/carreras/farmacia/ \nINSCRIPCIONES 2020 ABIERTAS. \nBeneficios por inscripción temprana\nSi te inscribís desde el 1 de julio hasta el 31 de octubre de 2019 accedes al beneficio de la bonificación de la cuota 2. \nSi te inscribís entre el 1 de noviembre y el 31 de diciembre de 2019 recibirás la bonificación del 50% de la cuota 2. \nConsultá también por descuentos por pago del año completo. \nMás información a: promocion@ucsf.edu.ar.  \n 
URL:https://www.ucsf.edu.ar/evento/estudia-farmacia-en-la-catolica-de-santa-fe-clase-abierta-ingreso-2020/
LOCATION:Santa Fe
CATEGORIES:Santa Fe,Facultades,Ciencias de la Salud,Carreras de Grado,Sedes
END:VEVENT
BEGIN:VEVENT
DTSTART;TZID=America/Argentina/Buenos_Aires:20190920T180000
DTEND;TZID=America/Argentina/Buenos_Aires:20190920T180000
DTSTAMP:20260423T045755
CREATED:20190920T195355Z
LAST-MODIFIED:20190920T195355Z
UID:41541-1569002400-1569002400@www.ucsf.edu.ar
SUMMARY:Estudia Farmacia en la Católica de Santa Fe. Clase Abierta. Ingreso 2020
DESCRIPTION:  \nhttps://www.ucsf.edu.ar/carreras/farmacia/ \nINSCRIPCIONES 2020 ABIERTAS. \nBeneficios por inscripción temprana\nSi te inscribís desde el 1 de julio hasta el 31 de octubre de 2019 accedes al beneficio de la bonificación de la cuota 2. \nSi te inscribís entre el 1 de noviembre y el 31 de diciembre de 2019 recibirás la bonificación del 50% de la cuota 2. \nConsultá también por descuentos por pago del año completo. \nMás información a: promocion@ucsf.edu.ar.  \n 
URL:https://www.ucsf.edu.ar/evento/estudia-farmacia-en-la-catolica-de-santa-fe-clase-abierta-ingreso-2020-2/
LOCATION:Santa Fe
CATEGORIES:Santa Fe,Facultades,Ciencias de la Salud,Carreras de Grado,Sedes
END:VEVENT
END:VCALENDAR