BEGIN:VCALENDAR
VERSION:2.0
PRODID:-//UCSF - Universidad Católica de Santa Fe - ECPv5.14.2.1//NONSGML v1.0//EN
CALSCALE:GREGORIAN
METHOD:PUBLISH
X-WR-CALNAME:UCSF - Universidad Católica de Santa Fe
X-ORIGINAL-URL:https://www.ucsf.edu.ar
X-WR-CALDESC:Events for UCSF - Universidad Católica de Santa Fe
REFRESH-INTERVAL;VALUE=DURATION:PT1H
X-Robots-Tag:noindex
X-PUBLISHED-TTL:PT1H
BEGIN:VTIMEZONE
TZID:America/Argentina/Buenos_Aires
BEGIN:STANDARD
TZOFFSETFROM:-0300
TZOFFSETTO:-0300
TZNAME:-03
DTSTART:20190101T000000
END:STANDARD
END:VTIMEZONE
BEGIN:VEVENT
DTSTART;TZID=America/Argentina/Buenos_Aires:20191007T163000
DTEND;TZID=America/Argentina/Buenos_Aires:20191007T210000
DTSTAMP:20260423T062403
CREATED:20191001T154800Z
LAST-MODIFIED:20191001T155138Z
UID:28211-1570465800-1570482000@www.ucsf.edu.ar
SUMMARY:Taller: "¿Cómo evaluar por rúbricas en la Universidad".
DESCRIPTION:Inscripciones al mail: mrgomez@ucsf.edu.ar
URL:https://www.ucsf.edu.ar/evento/taller-como-evaluar-por-rubricas-en-la-universidad/
LOCATION:UCSF Sede Santos Mártires – Posadas\, Rademacher 3943\, Posadas\, Misiones\, Argentina
CATEGORIES:Home principal,Asesoría Pedagógica
ORGANIZER;CN="Asesor%C3%ADa%20Pedag%C3%B3gica":MAILTO:asepedagogica@ucsf.edu.ar
GEO:-27.3859693;-55.896416
X-APPLE-STRUCTURED-LOCATION;VALUE=URI;X-ADDRESS=UCSF Sede Santos Mártires – Posadas Rademacher 3943 Posadas Misiones Argentina;X-APPLE-RADIUS=500;X-TITLE=Rademacher 3943:geo:-55.896416,-27.3859693
END:VEVENT
BEGIN:VEVENT
DTSTART;TZID=America/Argentina/Buenos_Aires:20191007T163000
DTEND;TZID=America/Argentina/Buenos_Aires:20191007T210000
DTSTAMP:20260423T062403
CREATED:20191001T154800Z
LAST-MODIFIED:20191001T154800Z
UID:41553-1570465800-1570482000@www.ucsf.edu.ar
SUMMARY:Taller: "¿Cómo evaluar por rúbricas en la Universidad".
DESCRIPTION:Inscripciones al mail: mrgomez@ucsf.edu.ar
URL:https://www.ucsf.edu.ar/evento/taller-como-evaluar-por-rubricas-en-la-universidad-2/
LOCATION:UCSF Sede Santos Mártires – Posadas\, Rademacher 3943\, Posadas\, Misiones\, Argentina
CATEGORIES:Home principal,Asesoría Pedagógica
ORGANIZER;CN="Asesor%C3%ADa%20Pedag%C3%B3gica":MAILTO:asepedagogica@ucsf.edu.ar
GEO:-27.3859693;-55.896416
X-APPLE-STRUCTURED-LOCATION;VALUE=URI;X-ADDRESS=UCSF Sede Santos Mártires – Posadas Rademacher 3943 Posadas Misiones Argentina;X-APPLE-RADIUS=500;X-TITLE=Rademacher 3943:geo:-55.896416,-27.3859693
END:VEVENT
BEGIN:VEVENT
DTSTART;VALUE=DATE:20191008
DTEND;VALUE=DATE:20191011
DTSTAMP:20260423T062403
CREATED:20191004T181550Z
LAST-MODIFIED:20191004T181550Z
UID:28322-1570492800-1570751999@www.ucsf.edu.ar
SUMMARY:I Jornadas Internacionales de Educación Ambiental y espiritualidad ecológica
DESCRIPTION:Del 8 al 10 de Octubre de 2019\, se desarrollarán en las Ciudades de Posadas y  Encarnación las “Primeras Jornadas Internacionales de Educación Ambiental y Espiritualidad Ecológica”\, organizadas por la Facultad de Derecho y Ciencia Política de la UCSF\, a través de su Instituto de Derecho Ambiental\, Forestal y Federal Y la Red de Educación Ambiental de Encarnación. \nEl objetivo de las Jornadas es abordar la educación ambiental desde las orientaciones de espiritualidad contenidas en la Encíclica “Laudato Sí” del Papa Francisco y contarán con la presencia de Monseñor Lucio Adrián Ruiz\, Secretario del Dicasterio de la Comunicación de la Santa Sede.
URL:https://www.ucsf.edu.ar/evento/i-jornadas-internacionales-de-educacion-ambiental-y-espiritualidad-ecologica/
LOCATION:Santa Fe
ORGANIZER;CN="Facultad%20de%20Derecho%20y%20Ciencia%20Pol%C3%ADtica%20-%20Sede%20Posadas":MAILTO:posadas@ucsf.edu.ar
END:VEVENT
BEGIN:VEVENT
DTSTART;VALUE=DATE:20191008
DTEND;VALUE=DATE:20191011
DTSTAMP:20260423T062403
CREATED:20191004T181550Z
LAST-MODIFIED:20191004T181550Z
UID:41554-1570492800-1570751999@www.ucsf.edu.ar
SUMMARY:I Jornadas Internacionales de Educación Ambiental y espiritualidad ecológica
DESCRIPTION:Del 8 al 10 de Octubre de 2019\, se desarrollarán en las Ciudades de Posadas y  Encarnación las “Primeras Jornadas Internacionales de Educación Ambiental y Espiritualidad Ecológica”\, organizadas por la Facultad de Derecho y Ciencia Política de la UCSF\, a través de su Instituto de Derecho Ambiental\, Forestal y Federal Y la Red de Educación Ambiental de Encarnación. \nEl objetivo de las Jornadas es abordar la educación ambiental desde las orientaciones de espiritualidad contenidas en la Encíclica “Laudato Sí” del Papa Francisco y contarán con la presencia de Monseñor Lucio Adrián Ruiz\, Secretario del Dicasterio de la Comunicación de la Santa Sede.
URL:https://www.ucsf.edu.ar/evento/i-jornadas-internacionales-de-educacion-ambiental-y-espiritualidad-ecologica-2/
LOCATION:Santa Fe
ORGANIZER;CN="Facultad%20de%20Derecho%20y%20Ciencia%20Pol%C3%ADtica%20-%20Sede%20Posadas":MAILTO:posadas@ucsf.edu.ar
END:VEVENT
BEGIN:VEVENT
DTSTART;TZID=America/Argentina/Buenos_Aires:20191009T160000
DTEND;TZID=America/Argentina/Buenos_Aires:20191009T200000
DTSTAMP:20260423T062403
CREATED:20191007T173904Z
LAST-MODIFIED:20191007T173904Z
UID:28381-1570636800-1570651200@www.ucsf.edu.ar
SUMMARY:Primer Encuentro de Talleres de Teatro Universitarios
DESCRIPTION:De este Encuentro participarán los talleres de la Universidad Tecnológica Nacional Santa Fe dirigido por el Prof. Fernando Díaz\, de la Secretaría de Extensión de la FCJyS de la UNL dirigido por la Prof. Pamela Bertona y de nuestra Universidad\, a cargo de José Serralunga. \n  \n \nEl mismo incluirá actividades de integración\, una clase especial a cargo del Prof. Francisco Dalmasso y la presentación de una obra teatral por el elenco de la Biblioteca Popular Mariano Moreno de San Jerónimo Norte. \nEl encuentro propiciará la integración\, el intercambio y el enriquecimiento de la actividad cultural de la comunidad universitaria santafesina.
URL:https://www.ucsf.edu.ar/evento/primer-encuentro-de-talleres-de-teatro-universitarios/
LOCATION:Santa Fe
END:VEVENT
BEGIN:VEVENT
DTSTART;TZID=America/Argentina/Buenos_Aires:20191009T160000
DTEND;TZID=America/Argentina/Buenos_Aires:20191009T200000
DTSTAMP:20260423T062403
CREATED:20191007T173904Z
LAST-MODIFIED:20191007T173904Z
UID:41556-1570636800-1570651200@www.ucsf.edu.ar
SUMMARY:Primer Encuentro de Talleres de Teatro Universitarios
DESCRIPTION:De este Encuentro participarán los talleres de la Universidad Tecnológica Nacional Santa Fe dirigido por el Prof. Fernando Díaz\, de la Secretaría de Extensión de la FCJyS de la UNL dirigido por la Prof. Pamela Bertona y de nuestra Universidad\, a cargo de José Serralunga. \n  \n \nEl mismo incluirá actividades de integración\, una clase especial a cargo del Prof. Francisco Dalmasso y la presentación de una obra teatral por el elenco de la Biblioteca Popular Mariano Moreno de San Jerónimo Norte. \nEl encuentro propiciará la integración\, el intercambio y el enriquecimiento de la actividad cultural de la comunidad universitaria santafesina.
URL:https://www.ucsf.edu.ar/evento/primer-encuentro-de-talleres-de-teatro-universitarios-2/
LOCATION:Santa Fe
END:VEVENT
BEGIN:VEVENT
DTSTART;TZID=America/Argentina/Buenos_Aires:20191011T090000
DTEND;TZID=America/Argentina/Buenos_Aires:20191011T130000
DTSTAMP:20260423T062403
CREATED:20190924T235835Z
LAST-MODIFIED:20190924T235835Z
UID:27911-1570784400-1570798800@www.ucsf.edu.ar
SUMMARY:Aprender para transformar: claves para la gestión del aprendizaje en Empresas
DESCRIPTION:
URL:https://www.ucsf.edu.ar/evento/aprender-para-transformar-claves-para-la-gestion-del-aprendizaje-en-empresas/
LOCATION:UCSF Santa Fe\, Echagüe 7151\, Santa Fe\, Santa Fe\, Argentina
GEO:-31.6069451;-60.6709418
X-APPLE-STRUCTURED-LOCATION;VALUE=URI;X-ADDRESS=UCSF Santa Fe Echagüe 7151 Santa Fe Santa Fe Argentina;X-APPLE-RADIUS=500;X-TITLE=Echagüe 7151:geo:-60.6709418,-31.6069451
END:VEVENT
BEGIN:VEVENT
DTSTART;TZID=America/Argentina/Buenos_Aires:20191011T090000
DTEND;TZID=America/Argentina/Buenos_Aires:20191011T130000
DTSTAMP:20260423T062403
CREATED:20190924T235835Z
LAST-MODIFIED:20190924T235835Z
UID:41547-1570784400-1570798800@www.ucsf.edu.ar
SUMMARY:Aprender para transformar: claves para la gestión del aprendizaje en Empresas
DESCRIPTION:
URL:https://www.ucsf.edu.ar/evento/aprender-para-transformar-claves-para-la-gestion-del-aprendizaje-en-empresas-2/
LOCATION:UCSF Santa Fe\, Echagüe 7151\, Santa Fe\, Santa Fe\, Argentina
GEO:-31.6069451;-60.6709418
X-APPLE-STRUCTURED-LOCATION;VALUE=URI;X-ADDRESS=UCSF Santa Fe Echagüe 7151 Santa Fe Santa Fe Argentina;X-APPLE-RADIUS=500;X-TITLE=Echagüe 7151:geo:-60.6709418,-31.6069451
END:VEVENT
BEGIN:VEVENT
DTSTART;TZID=America/Argentina/Buenos_Aires:20191011T173000
DTEND;TZID=America/Argentina/Buenos_Aires:20191011T193000
DTSTAMP:20260423T062403
CREATED:20190924T235523Z
LAST-MODIFIED:20190924T235539Z
UID:27908-1570815000-1570822200@www.ucsf.edu.ar
SUMMARY:Charla Learnability: capacidad clave para el desarrollo profesional y organizacional
DESCRIPTION:
URL:https://www.ucsf.edu.ar/evento/charla-learnability-capacidad-clave-para-el-desarrollo-profesional-y-organizacional/
LOCATION:UCSF Santa Fe\, Echagüe 7151\, Santa Fe\, Santa Fe\, Argentina
GEO:-31.6069451;-60.6709418
X-APPLE-STRUCTURED-LOCATION;VALUE=URI;X-ADDRESS=UCSF Santa Fe Echagüe 7151 Santa Fe Santa Fe Argentina;X-APPLE-RADIUS=500;X-TITLE=Echagüe 7151:geo:-60.6709418,-31.6069451
END:VEVENT
BEGIN:VEVENT
DTSTART;TZID=America/Argentina/Buenos_Aires:20191011T173000
DTEND;TZID=America/Argentina/Buenos_Aires:20191011T193000
DTSTAMP:20260423T062403
CREATED:20190924T235523Z
LAST-MODIFIED:20190924T235523Z
UID:41546-1570815000-1570822200@www.ucsf.edu.ar
SUMMARY:Charla Learnability: capacidad clave para el desarrollo profesional y organizacional
DESCRIPTION:
URL:https://www.ucsf.edu.ar/evento/charla-learnability-capacidad-clave-para-el-desarrollo-profesional-y-organizacional-2/
LOCATION:UCSF Santa Fe\, Echagüe 7151\, Santa Fe\, Santa Fe\, Argentina
GEO:-31.6069451;-60.6709418
X-APPLE-STRUCTURED-LOCATION;VALUE=URI;X-ADDRESS=UCSF Santa Fe Echagüe 7151 Santa Fe Santa Fe Argentina;X-APPLE-RADIUS=500;X-TITLE=Echagüe 7151:geo:-60.6709418,-31.6069451
END:VEVENT
END:VCALENDAR