BEGIN:VCALENDAR
VERSION:2.0
PRODID:-//UCSF - Universidad Católica de Santa Fe - ECPv5.14.2.1//NONSGML v1.0//EN
CALSCALE:GREGORIAN
METHOD:PUBLISH
X-WR-CALNAME:UCSF - Universidad Católica de Santa Fe
X-ORIGINAL-URL:https://www.ucsf.edu.ar
X-WR-CALDESC:Events for UCSF - Universidad Católica de Santa Fe
REFRESH-INTERVAL;VALUE=DURATION:PT1H
X-Robots-Tag:noindex
X-PUBLISHED-TTL:PT1H
BEGIN:VTIMEZONE
TZID:America/Argentina/Buenos_Aires
BEGIN:STANDARD
TZOFFSETFROM:-0300
TZOFFSETTO:-0300
TZNAME:-03
DTSTART:20190101T000000
END:STANDARD
TZID:America/Sao_Paulo
BEGIN:STANDARD
TZOFFSETFROM:-0200
TZOFFSETTO:-0300
TZNAME:-03
DTSTART:20190217T020000
END:STANDARD
END:VTIMEZONE
BEGIN:VEVENT
DTSTART;TZID=America/Argentina/Buenos_Aires:20191018T180000
DTEND;TZID=America/Argentina/Buenos_Aires:20191206T203000
DTSTAMP:20260423T060621
CREATED:20190924T190705Z
LAST-MODIFIED:20190924T191004Z
UID:27873-1571421600-1575664200@www.ucsf.edu.ar
SUMMARY:Capacitación en CNC y Mecanizado Asistido por Computadora
DESCRIPTION:La Facultad de Arquitectura de la UCSF Sede Rosario organiza la capacitación en conocimientos de software para elaborar programas de mecanizado en 2 y 3 ejes destinados a fabricación de productos\, moldes\, matrices y herramental en cualquier máquina CNC. \nLa misma estará a cargo del Ing. Miguel Pérez y está destinada a profesionales egresados y estudiantes de Ingeniería\, Diseño Industrial\, Técnicos y operarios. \nEl módulo 1\, Mecanizado en 2 ejes\, se desarrollará los días: 18 y 25 de octubre y 1 y 8 de noviembre. \nEl módulo 2\, Mecanizado en 3 ejes\, se desarrollará los días: 15\, 22 y 29 de noviembre y 6 de diciembre. \n  \nEl horario de las clases es de 18 a 20:30 hs. y el lugar es la Sede Rosario de la UCSF\, sita en Mendoza 4197. \n  \nMás información: juliotoledo@ucsf.edu.ar \n 
URL:https://www.ucsf.edu.ar/evento/capacitacion-en-cnc-y-mecanizado-asistido-por-computadora/
LOCATION:Santa Fe
CATEGORIES:Arquitectura y Diseño,Facultades,Arquitectura,Rosario,Carreras de Grado,Sedes,Licenciatura en Diseño Industrial
END:VEVENT
BEGIN:VEVENT
DTSTART;TZID=America/Argentina/Buenos_Aires:20191018T180000
DTEND;TZID=America/Argentina/Buenos_Aires:20191206T203000
DTSTAMP:20260423T060621
CREATED:20190924T190705Z
LAST-MODIFIED:20190924T190705Z
UID:41545-1571421600-1575664200@www.ucsf.edu.ar
SUMMARY:Capacitación en CNC y Mecanizado Asistido por Computadora
DESCRIPTION:La Facultad de Arquitectura de la UCSF Sede Rosario organiza la capacitación en conocimientos de software para elaborar programas de mecanizado en 2 y 3 ejes destinados a fabricación de productos\, moldes\, matrices y herramental en cualquier máquina CNC. \nLa misma estará a cargo del Ing. Miguel Pérez y está destinada a profesionales egresados y estudiantes de Ingeniería\, Diseño Industrial\, Técnicos y operarios. \nEl módulo 1\, Mecanizado en 2 ejes\, se desarrollará los días: 18 y 25 de octubre y 1 y 8 de noviembre. \nEl módulo 2\, Mecanizado en 3 ejes\, se desarrollará los días: 15\, 22 y 29 de noviembre y 6 de diciembre. \n  \nEl horario de las clases es de 18 a 20:30 hs. y el lugar es la Sede Rosario de la UCSF\, sita en Mendoza 4197. \n  \nMás información: juliotoledo@ucsf.edu.ar \n 
URL:https://www.ucsf.edu.ar/evento/capacitacion-en-cnc-y-mecanizado-asistido-por-computadora-2/
LOCATION:Santa Fe
CATEGORIES:Arquitectura y Diseño,Facultades,Arquitectura,Rosario,Carreras de Grado,Sedes,Licenciatura en Diseño Industrial
END:VEVENT
BEGIN:VEVENT
DTSTART;TZID=America/Argentina/Buenos_Aires:20191028T150000
DTEND;TZID=America/Argentina/Buenos_Aires:20191028T160000
DTSTAMP:20260423T060621
CREATED:20191024T175836Z
LAST-MODIFIED:20191024T181624Z
UID:28984-1572274800-1572278400@www.ucsf.edu.ar
SUMMARY:Estudia Obstetricia 2020 en Rosario. Te invitamos a la Clase Abierta!
DESCRIPTION:Título:\nLicenciado en Obstetricia \nResolución Ministerial 4143/2017 \nDuración:\n4 años y medio \nSedes donde cursar:\nRafaela\nRosario \n \n  \nPromociones para los 10 primeros inscriptos antes del 2 de diciembre. \nConsultá también por descuentos por pago del año completo. \n*Si te inscribís hasta el 2 de diciembre 2019 accedes al beneficio de la bonificación de la cuota 2. \n*Si te inscribís desde el 3 y hasta el 31 de diciembre 2019 recibirás la bonificación del 50% de la cuota 2. \nMás información a: promocion@ucsf.edu.ar.  \n \nEl Curso de Ingreso Universitario es obligatorio\, pero no eliminatorio y comienza en el mes de marzo de 2020. \nEn nuestra Universidad\, buscamos que todos quienes quieran formar parte de nuestra comunidad lo puedan hacer. Para ello contamos con el sistema de préstamos académicos que se otorga sobre un porcentaje del arancel. El sistema contempla la posibilidad de acceder a préstamos de hasta el 50%. \nSi te interesa esta opción podés comunicarte con el Área de Bienestar Estudiantil de la UCSF\, donde te brindarán mayores detalles del sistema\, escribiendo a lsola@ucsf.edu.ar o llamando al (0342)- 4603030 int. 115/116. \nTe envío información sobre la Facultad de Ciencias de la Salud\, de tu carrera\, planes de estudio e incumbencias: https://www.ucsf.edu.ar/facultades/ciencias-de-la-salud/ \nhttps://www.ucsf.edu.ar/wp-content/uploads/2018/09/BROCHURE-OBSTETRICIA-2018.pdf \n  \n¡Te esperamos!
URL:https://www.ucsf.edu.ar/evento/estudia-obstetricia-2020-en-rosario-te-invitamos-a-la-clase-abierta/
LOCATION:Santa Fe
CATEGORIES:Santa Fe,Facultades,Ciencias de la Salud,Carreras de Grado,Sedes
END:VEVENT
BEGIN:VEVENT
DTSTART;TZID=America/Argentina/Buenos_Aires:20191028T150000
DTEND;TZID=America/Argentina/Buenos_Aires:20191028T160000
DTSTAMP:20260423T060621
CREATED:20191024T175836Z
LAST-MODIFIED:20191024T175836Z
UID:41561-1572274800-1572278400@www.ucsf.edu.ar
SUMMARY:Estudia Obstetricia 2020 en Rosario. Te invitamos a la Clase Abierta!
DESCRIPTION:Título:\nLicenciado en Obstetricia \nResolución Ministerial 4143/2017 \nDuración:\n4 años y medio \nSedes donde cursar:\nRafaela\nRosario \n \n  \nPromociones para los 10 primeros inscriptos antes del 2 de diciembre. \nConsultá también por descuentos por pago del año completo. \n*Si te inscribís hasta el 2 de diciembre 2019 accedes al beneficio de la bonificación de la cuota 2. \n*Si te inscribís desde el 3 y hasta el 31 de diciembre 2019 recibirás la bonificación del 50% de la cuota 2. \nMás información a: promocion@ucsf.edu.ar.  \n \nEl Curso de Ingreso Universitario es obligatorio\, pero no eliminatorio y comienza en el mes de marzo de 2020. \nEn nuestra Universidad\, buscamos que todos quienes quieran formar parte de nuestra comunidad lo puedan hacer. Para ello contamos con el sistema de préstamos académicos que se otorga sobre un porcentaje del arancel. El sistema contempla la posibilidad de acceder a préstamos de hasta el 50%. \nSi te interesa esta opción podés comunicarte con el Área de Bienestar Estudiantil de la UCSF\, donde te brindarán mayores detalles del sistema\, escribiendo a lsola@ucsf.edu.ar o llamando al (0342)- 4603030 int. 115/116. \nTe envío información sobre la Facultad de Ciencias de la Salud\, de tu carrera\, planes de estudio e incumbencias: https://www.ucsf.edu.ar/facultades/ciencias-de-la-salud/ \nhttps://www.ucsf.edu.ar/wp-content/uploads/2018/09/BROCHURE-OBSTETRICIA-2018.pdf \n  \n¡Te esperamos!
URL:https://www.ucsf.edu.ar/evento/estudia-obstetricia-2020-en-rosario-te-invitamos-a-la-clase-abierta-2/
LOCATION:Untitled\, Santa Fe\, Argentina
CATEGORIES:Santa Fe,Facultades,Ciencias de la Salud,Carreras de Grado,Sedes
END:VEVENT
BEGIN:VEVENT
DTSTART;TZID=America/Sao_Paulo:20191101T180000
DTEND;TZID=America/Sao_Paulo:20191101T200000
DTSTAMP:20260423T060621
CREATED:20190308T141433Z
LAST-MODIFIED:20190308T141433Z
UID:22326-1572631200-1572638400@www.ucsf.edu.ar
SUMMARY:Cierre de actividades 2019 Instituto de Ecología Humana y Desarrollo Sustentable
DESCRIPTION:Presentación de Informes de los Proyectos de Investigación del Instituto
URL:https://www.ucsf.edu.ar/evento/cierre-de-actividades-2019-instituto-de-ecologia-humana-y-desarrollo-sustentable/
LOCATION:Untitled\, Santa Fe\, Argentina
CATEGORIES:IEHDS Instituto de Ecología Humana y Desarrollo Sustentable,Institutos
END:VEVENT
BEGIN:VEVENT
DTSTART;TZID=America/Sao_Paulo:20191101T180000
DTEND;TZID=America/Sao_Paulo:20191101T200000
DTSTAMP:20260423T060621
CREATED:20190308T141433Z
LAST-MODIFIED:20190308T141433Z
UID:41480-1572631200-1572638400@www.ucsf.edu.ar
SUMMARY:Cierre de actividades 2019 Instituto de Ecología Humana y Desarrollo Sustentable
DESCRIPTION:Presentación de Informes de los Proyectos de Investigación del Instituto
URL:https://www.ucsf.edu.ar/evento/cierre-de-actividades-2019-instituto-de-ecologia-humana-y-desarrollo-sustentable-2/
LOCATION:Untitled\, Santa Fe\, Argentina
CATEGORIES:IEHDS Instituto de Ecología Humana y Desarrollo Sustentable,Institutos
END:VEVENT
END:VCALENDAR