BEGIN:VCALENDAR
VERSION:2.0
PRODID:-//UCSF - Universidad Católica de Santa Fe - ECPv5.14.2.1//NONSGML v1.0//EN
CALSCALE:GREGORIAN
METHOD:PUBLISH
X-WR-CALNAME:UCSF - Universidad Católica de Santa Fe
X-ORIGINAL-URL:https://www.ucsf.edu.ar
X-WR-CALDESC:Events for UCSF - Universidad Católica de Santa Fe
REFRESH-INTERVAL;VALUE=DURATION:PT1H
X-Robots-Tag:noindex
X-PUBLISHED-TTL:PT1H
BEGIN:VTIMEZONE
TZID:America/Argentina/Buenos_Aires
BEGIN:STANDARD
TZOFFSETFROM:-0300
TZOFFSETTO:-0300
TZNAME:-03
DTSTART:20200101T000000
END:STANDARD
END:VTIMEZONE
BEGIN:VEVENT
DTSTART;TZID=America/Argentina/Buenos_Aires:20200311T191500
DTEND;TZID=America/Argentina/Buenos_Aires:20200311T200000
DTSTAMP:20260422T213824
CREATED:20200306T211224Z
LAST-MODIFIED:20200306T211224Z
UID:33027-1583954100-1583956800@www.ucsf.edu.ar
SUMMARY:Misa del Ingresante en Santa Fe
DESCRIPTION:MISA DEL INGRESANTE – SANTA FE \nMiércoles 11 de Marzo – 19:15 hs. \nen el Jardín de la UCSF
URL:https://www.ucsf.edu.ar/evento/misa-del-ingresante-en-santa-fe/
LOCATION:Santa Fe
CATEGORIES:Santa Fe,Facultades,Vicerrectorado de Formación
END:VEVENT
BEGIN:VEVENT
DTSTART;TZID=America/Argentina/Buenos_Aires:20200311T191500
DTEND;TZID=America/Argentina/Buenos_Aires:20200311T200000
DTSTAMP:20260422T213824
CREATED:20200306T211224Z
LAST-MODIFIED:20200306T211224Z
UID:41576-1583954100-1583956800@www.ucsf.edu.ar
SUMMARY:Misa del Ingresante en Santa Fe
DESCRIPTION:MISA DEL INGRESANTE – SANTA FE \nMiércoles 11 de Marzo – 19:15 hs. \nen el Jardín de la UCSF
URL:https://www.ucsf.edu.ar/evento/misa-del-ingresante-en-santa-fe-2/
LOCATION:Untitled\, Santa Fe\, Argentina
CATEGORIES:Santa Fe,Facultades,Vicerrectorado de Formación
END:VEVENT
BEGIN:VEVENT
DTSTART;TZID=America/Argentina/Buenos_Aires:20200312T180000
DTEND;TZID=America/Argentina/Buenos_Aires:20200312T200000
DTSTAMP:20260422T213824
CREATED:20200303T114411Z
LAST-MODIFIED:20200303T114411Z
UID:32818-1584036000-1584043200@www.ucsf.edu.ar
SUMMARY:Apertura IEHyDS
DESCRIPTION:
URL:https://www.ucsf.edu.ar/evento/apertura-iehyds/
LOCATION:Santa Fe
END:VEVENT
BEGIN:VEVENT
DTSTART;TZID=America/Argentina/Buenos_Aires:20200312T180000
DTEND;TZID=America/Argentina/Buenos_Aires:20200312T200000
DTSTAMP:20260422T213824
CREATED:20200303T114411Z
LAST-MODIFIED:20200303T114411Z
UID:41575-1584036000-1584043200@www.ucsf.edu.ar
SUMMARY:Apertura IEHyDS
DESCRIPTION:
URL:https://www.ucsf.edu.ar/evento/apertura-iehyds-2/
LOCATION:Santa Fe
END:VEVENT
BEGIN:VEVENT
DTSTART;TZID=America/Argentina/Buenos_Aires:20200313T150000
DTEND;TZID=America/Argentina/Buenos_Aires:20200313T160000
DTSTAMP:20260422T213824
CREATED:20200306T211759Z
LAST-MODIFIED:20200306T211759Z
UID:33034-1584111600-1584115200@www.ucsf.edu.ar
SUMMARY:Misa del Ingresante Sede Rosario
DESCRIPTION:Misa del Ingresante – Sede Rosario \nViernes 13 de Marzo – 15 hs.
URL:https://www.ucsf.edu.ar/evento/misa-del-ingresante-sede-rosario/
LOCATION:Santa Fe
CATEGORIES:Facultades,Vicerrectorado de Formación
END:VEVENT
BEGIN:VEVENT
DTSTART;TZID=America/Argentina/Buenos_Aires:20200313T150000
DTEND;TZID=America/Argentina/Buenos_Aires:20200313T160000
DTSTAMP:20260422T213824
CREATED:20200306T211759Z
LAST-MODIFIED:20200306T211759Z
UID:41577-1584111600-1584115200@www.ucsf.edu.ar
SUMMARY:Misa del Ingresante Sede Rosario
DESCRIPTION:Misa del Ingresante – Sede Rosario \nViernes 13 de Marzo – 15 hs.
URL:https://www.ucsf.edu.ar/evento/misa-del-ingresante-sede-rosario-2/
LOCATION:Santa Fe
CATEGORIES:Facultades,Vicerrectorado de Formación
END:VEVENT
END:VCALENDAR