BEGIN:VCALENDAR
VERSION:2.0
PRODID:-//UCSF - Universidad Católica de Santa Fe - ECPv5.14.2.1//NONSGML v1.0//EN
CALSCALE:GREGORIAN
METHOD:PUBLISH
X-WR-CALNAME:UCSF - Universidad Católica de Santa Fe
X-ORIGINAL-URL:https://www.ucsf.edu.ar
X-WR-CALDESC:Events for UCSF - Universidad Católica de Santa Fe
REFRESH-INTERVAL;VALUE=DURATION:PT1H
X-Robots-Tag:noindex
X-PUBLISHED-TTL:PT1H
BEGIN:VTIMEZONE
TZID:America/Argentina/Buenos_Aires
BEGIN:STANDARD
TZOFFSETFROM:-0300
TZOFFSETTO:-0300
TZNAME:-03
DTSTART:20200101T000000
END:STANDARD
END:VTIMEZONE
BEGIN:VEVENT
DTSTART;VALUE=DATE:20200702
DTEND;VALUE=DATE:20200703
DTSTAMP:20260423T015835
CREATED:20200616T154511Z
LAST-MODIFIED:20200616T154511Z
UID:41578-1593648000-1593734399@www.ucsf.edu.ar
SUMMARY:"Curso de Formación Docente" - NIVEL INICIAL
DESCRIPTION:Desde la Secretaría Académica de Rectorado y desde el área de Asesoría Pedagógica queremos informar que\, habiendo recibido 90 inscripciones\, está cubierto el cupo para el “Curso de Formación en el Área Pedagógico-Didáctica para profesionales en ejercicio de la docencia universitaria”.\nAlentamos a los que no han podido sumarse en esta oportunidad a participar en próximas ediciones del curso\, así como también a considerar otras opciones formativas que se ofrezcan en lo sucesivo desde la Asesoría Pedagógica.\nQuedamos agradecidos por la confianza manifestada y reconfortados por el interés de nuestros docentes en su formación continua.
URL:https://www.ucsf.edu.ar/evento/curso-de-formacion-docente-nivel-inicial-2/
LOCATION:Santa Fe
CATEGORIES:Asesoría Pedagógica,LA UCSF
END:VEVENT
BEGIN:VEVENT
DTSTART;VALUE=DATE:20200702
DTEND;VALUE=DATE:20200703
DTSTAMP:20260423T015835
CREATED:20200616T154511Z
LAST-MODIFIED:20200626T122001Z
UID:35992-1593648000-1593734399@www.ucsf.edu.ar
SUMMARY:"Curso de Formación Docente" - NIVEL INICIAL
DESCRIPTION:Desde la Secretaría Académica de Rectorado y desde el área de Asesoría Pedagógica queremos informar que\, habiendo recibido 90 inscripciones\, está cubierto el cupo para el “Curso de Formación en el Área Pedagógico-Didáctica para profesionales en ejercicio de la docencia universitaria”.\nAlentamos a los que no han podido sumarse en esta oportunidad a participar en próximas ediciones del curso\, así como también a considerar otras opciones formativas que se ofrezcan en lo sucesivo desde la Asesoría Pedagógica.\nQuedamos agradecidos por la confianza manifestada y reconfortados por el interés de nuestros docentes en su formación continua.
URL:https://www.ucsf.edu.ar/evento/curso-de-formacion-docente-nivel-inicial/
LOCATION:Santa Fe
CATEGORIES:Asesoría Pedagógica,LA UCSF
END:VEVENT
BEGIN:VEVENT
DTSTART;TZID=America/Argentina/Buenos_Aires:20200704T093000
DTEND;TZID=America/Argentina/Buenos_Aires:20200704T103000
DTSTAMP:20260423T015835
CREATED:20200629T141537Z
LAST-MODIFIED:20200629T151823Z
UID:36216-1593855000-1593858600@www.ucsf.edu.ar
SUMMARY:Ciclos de Investigación y Bioética: un puente hacia el futuro. Virtual
DESCRIPTION:El próximo sábado 4 de julio iniciará el Ciclo de Investigación y Bioética: un puente hacia el futuro\, organizado por la Secretaría de Ciencia y Técnica\, y Extensión\, y el Insittuto de Bioética Jérôme Lejeune. \nEn el primer encuentro se recorrerá la historia de los dos grandes modelos: Pragmático-utilitarista y Personalista\, a cargo del Pbro. Lic. Diego Leonardo Gatti. \n\nUnirse a la reunión Zoom\nhttps://zoom.us/j/99977988266?pwd=dnpCQkxDNkZmajFjN3Jrb0hjTDNxdz09 \nID de reunión: 999 7798 8266\nContraseña: 160490 \n\n\n  \n\n\nInscripciones para obtener certificados: Aquí
URL:https://www.ucsf.edu.ar/evento/ciclos-de-investigacion-y-bioetica-un-puente-hacia-el-futuro-virtual/
LOCATION:Santa Fe
CATEGORIES:Santa Fe,Facultades,IB Instituto de Bioética Jerome Lejeune,Rosario,Posadas,Reconquista,Rafaela,Vicerrectorado de Formación,Gualeguaychú,Sedes,Institutos
END:VEVENT
BEGIN:VEVENT
DTSTART;TZID=America/Argentina/Buenos_Aires:20200704T093000
DTEND;TZID=America/Argentina/Buenos_Aires:20200704T103000
DTSTAMP:20260423T015835
CREATED:20200629T141537Z
LAST-MODIFIED:20200629T141537Z
UID:41580-1593855000-1593858600@www.ucsf.edu.ar
SUMMARY:Ciclos de Investigación y Bioética: un puente hacia el futuro. Virtual
DESCRIPTION:El próximo sábado 4 de julio iniciará el Ciclo de Investigación y Bioética: un puente hacia el futuro\, organizado por la Secretaría de Ciencia y Técnica\, y Extensión\, y el Insittuto de Bioética Jérôme Lejeune. \nEn el primer encuentro se recorrerá la historia de los dos grandes modelos: Pragmático-utilitarista y Personalista\, a cargo del Pbro. Lic. Diego Leonardo Gatti. \n\nUnirse a la reunión Zoom\nhttps://zoom.us/j/99977988266?pwd=dnpCQkxDNkZmajFjN3Jrb0hjTDNxdz09 \nID de reunión: 999 7798 8266\nContraseña: 160490 \n\n\n  \n\n\nInscripciones para obtener certificados: Aquí
URL:https://www.ucsf.edu.ar/evento/ciclos-de-investigacion-y-bioetica-un-puente-hacia-el-futuro-virtual-2/
LOCATION:Santa Fe
CATEGORIES:Santa Fe,Facultades,IB Instituto de Bioética Jerome Lejeune,Rosario,Posadas,Reconquista,Rafaela,Vicerrectorado de Formación,Gualeguaychú,Sedes,Institutos
END:VEVENT
END:VCALENDAR