BEGIN:VCALENDAR
VERSION:2.0
PRODID:-//UCSF - Universidad Católica de Santa Fe - ECPv5.14.2.1//NONSGML v1.0//EN
CALSCALE:GREGORIAN
METHOD:PUBLISH
X-WR-CALNAME:UCSF - Universidad Católica de Santa Fe
X-ORIGINAL-URL:https://www.ucsf.edu.ar
X-WR-CALDESC:Events for UCSF - Universidad Católica de Santa Fe
REFRESH-INTERVAL;VALUE=DURATION:PT1H
X-Robots-Tag:noindex
X-PUBLISHED-TTL:PT1H
BEGIN:VTIMEZONE
TZID:America/Argentina/Buenos_Aires
BEGIN:STANDARD
TZOFFSETFROM:-0300
TZOFFSETTO:-0300
TZNAME:-03
DTSTART:20200101T000000
END:STANDARD
END:VTIMEZONE
BEGIN:VEVENT
DTSTART;TZID=America/Argentina/Buenos_Aires:20200819T173000
DTEND;TZID=America/Argentina/Buenos_Aires:20200930T190000
DTSTAMP:20260422T070032
CREATED:20200828T020306Z
LAST-MODIFIED:20200828T020306Z
UID:41601-1597858200-1601492400@www.ucsf.edu.ar
SUMMARY:Curso de capacitación en Revit Básico de manera ONLINE
DESCRIPTION:Se realizará en 12 clases de 1:30 hs de duración\, dos veces por semana. Los días LUNES y MIÉRCOLES a las 17:30 hs. Carga horaria: 18 horas \nComienzo: 19 de Agosto de 2020.\nFinalización: 30 septiembre de 2020. \nPRIMER CLASE ABIERTA Y GRATUITA \n \nA cargo de:\n@ziim.educacion \nDestinatarios:\nEl curso está dirigido a graduados y estudiantes del ciclo superior de las carreras de Arquitectura\, Diseño Industrial\, Ingeniería Civil y disciplinas afines. \nContactos:\nziim.educacion@gmail.com\n+549 343 6337173 \nInscripción:\nhttps://ziimprojects.com/curso-revit-inicial/
URL:https://www.ucsf.edu.ar/evento/curso-de-capacitacion-en-revit-basico-de-manera-online-2/
LOCATION:Santa Fe
CATEGORIES:Home principal,Arquitectura y Diseño,Arquitectura,Carreras de Grado
END:VEVENT
BEGIN:VEVENT
DTSTART;TZID=America/Argentina/Buenos_Aires:20200824T140000
DTEND;TZID=America/Argentina/Buenos_Aires:20201023T170000
DTSTAMP:20260422T070032
CREATED:20200725T021831Z
LAST-MODIFIED:20200803T182655Z
UID:36553-1598277600-1603472400@www.ucsf.edu.ar
SUMMARY:Curso Formación en Bioética para docentes. Módulo Bioética Fundamental
DESCRIPTION:Inicia: 24 de Agosto 2020 \nDuración: 2 meses. \nContenidos \n Módulo 1: Fundamentos de Bioética \n\nEvolución histórica de la Bioética. Corrientes bioéticas y principios\nBioética Personalista. Metodología. Relación con otras disciplinas.\nPrincipios de Bioética en la Declaración Universal sobre Bioética y Derechos Humanos\nBioética global y sus implicaciones.\nCorpus vitae: Evangelium vitae – Laudato si’\n\n Módulo 2: Bioética y Persona Humana \n\nBioética y persona humana. Naturaleza y dignidad de la persona humana.\nEstatuto ontológico del embrión humano.\nCorpus vitae: Dignitas personae.\n\n Docentes: Pbro. Lic. Diego Gatti\, Prof. Mgt. Carmen Ederle. \nOrganiza: Instituto de Bioética “Jérôme Lejeune”. \n \n 
URL:https://www.ucsf.edu.ar/evento/curso-formacion-en-bioetica-para-docentes-modulo-bioetica-fundamental/
LOCATION:Santa Fe
CATEGORIES:Home principal,Graduados,Facultades,IB Instituto de Bioética Jerome Lejeune,Vicerrectorado de Formación,Institutos
END:VEVENT
BEGIN:VEVENT
DTSTART;TZID=America/Argentina/Buenos_Aires:20200824T140000
DTEND;TZID=America/Argentina/Buenos_Aires:20201023T170000
DTSTAMP:20260422T070032
CREATED:20200725T021831Z
LAST-MODIFIED:20200725T021831Z
UID:41585-1598277600-1603472400@www.ucsf.edu.ar
SUMMARY:Curso Formación en Bioética para docentes. Módulo Bioética Fundamental
DESCRIPTION:Inicia: 24 de Agosto 2020 \nDuración: 2 meses. \nContenidos \n Módulo 1: Fundamentos de Bioética \n\nEvolución histórica de la Bioética. Corrientes bioéticas y principios\nBioética Personalista. Metodología. Relación con otras disciplinas.\nPrincipios de Bioética en la Declaración Universal sobre Bioética y Derechos Humanos\nBioética global y sus implicaciones.\nCorpus vitae: Evangelium vitae – Laudato si’\n\n Módulo 2: Bioética y Persona Humana \n\nBioética y persona humana. Naturaleza y dignidad de la persona humana.\nEstatuto ontológico del embrión humano.\nCorpus vitae: Dignitas personae.\n\n Docentes: Pbro. Lic. Diego Gatti\, Prof. Mgt. Carmen Ederle. \nOrganiza: Instituto de Bioética “Jérôme Lejeune”. \n \n 
URL:https://www.ucsf.edu.ar/evento/curso-formacion-en-bioetica-para-docentes-modulo-bioetica-fundamental-2/
LOCATION:Untitled\, Santa Fe\, Argentina
CATEGORIES:Home principal,Graduados,Facultades,IB Instituto de Bioética Jerome Lejeune,Vicerrectorado de Formación,Institutos
END:VEVENT
BEGIN:VEVENT
DTSTART;TZID=America/Argentina/Buenos_Aires:20200824T190000
DTEND;TZID=America/Argentina/Buenos_Aires:20200922T200000
DTSTAMP:20260422T070032
CREATED:20200727T000356Z
LAST-MODIFIED:20200727T000356Z
UID:36598-1598295600-1600804800@www.ucsf.edu.ar
SUMMARY:Ciclo Virtual sobre Psicomotricidad.
DESCRIPTION:Seminario Autismos y psicomotricidad: \n Temática: \n\nPorque hablamos de autismos?\nEl Cuerpo en los autismos.\n\nIntervención del Psicomotricista. \n\nOfrecimiento de propuestas sensoriales.\n\nOfrecimiento de objetos: Susurrador. Telas. \nmá información \nhttps://www.ucsf.edu.ar/ciclo-virtual-sobre-psicomotricidad/
URL:https://www.ucsf.edu.ar/evento/ciclo-virtual-sobre-psicomotricidad-4/
LOCATION:Santa Fe
CATEGORIES:Santa Fe,Facultades,Rosario,Ciencias de la Salud,Carreras de Grado,Posadas,Reconquista,Rafaela,Gualeguaychú,Sedes,Licenciatura en Kinesiología y Fisioterapia,Licenciatura en Terapia Ocupacional
END:VEVENT
BEGIN:VEVENT
DTSTART;TZID=America/Argentina/Buenos_Aires:20200824T190000
DTEND;TZID=America/Argentina/Buenos_Aires:20200922T200000
DTSTAMP:20260422T070032
CREATED:20200727T000356Z
LAST-MODIFIED:20200727T000356Z
UID:41590-1598295600-1600804800@www.ucsf.edu.ar
SUMMARY:Ciclo Virtual sobre Psicomotricidad.
DESCRIPTION:Seminario Autismos y psicomotricidad: \n Temática: \n\nPorque hablamos de autismos?\nEl Cuerpo en los autismos.\n\nIntervención del Psicomotricista. \n\nOfrecimiento de propuestas sensoriales.\n\nOfrecimiento de objetos: Susurrador. Telas. \nmá información \nhttps://www.ucsf.edu.ar/ciclo-virtual-sobre-psicomotricidad/
URL:https://www.ucsf.edu.ar/evento/ciclo-virtual-sobre-psicomotricidad-4-2/
LOCATION:Untitled\, Santa Fe\, Argentina
CATEGORIES:Santa Fe,Facultades,Rosario,Ciencias de la Salud,Carreras de Grado,Posadas,Reconquista,Rafaela,Gualeguaychú,Sedes,Licenciatura en Kinesiología y Fisioterapia,Licenciatura en Terapia Ocupacional
END:VEVENT
BEGIN:VEVENT
DTSTART;TZID=America/Argentina/Buenos_Aires:20200909T190000
DTEND;TZID=America/Argentina/Buenos_Aires:20201105T190000
DTSTAMP:20260422T070032
CREATED:20200903T204626Z
LAST-MODIFIED:20210301T194305Z
UID:37377-1599678000-1604602800@www.ucsf.edu.ar
SUMMARY:Ciclo de encuentros sobre Derechos Humanos
DESCRIPTION:  \nEl próximo miércoles 9 de septiembre a las 19 horas se dará inicio al Ciclo de Encuentros sobre Derechos Humanos. En el primer encuentro\, la Dra. Guadalupe Martino\, dará una conferencia titulada “Economía y Derechos Humanos: aportes desde la economía de Francisco”. El enlace de acceso a la conferencia puede solicitarse al siguiente correo electrónico: abonet@ucsf.edu.ar \nEste ciclo busca generar un espacio de diálogo y debate entre académicos de diferentes universidades y se enmarca en la Cátedra Abierta sobre Derechos Humanos\, surgida a partir del proyecto denominado “Derechos humanos y Economía. Relaciones y tensiones entre los derechos sociales y ambientales y el orden jurídico-económico transnacional” de la UCSF. \nEsta cátedra surge ante la necesidad de encontrar un espacio donde canalizar los resultados y avances de las investigaciones\, pero\, además\, como un ámbito propicio para estrechar y consolidar lazos personales e institucionales. Será un espacio que permita desarrollar acciones que promuevan el intercambio de perspectivas y miradas con actores de otros sectores\, además del estrictamente académico: la política\, la economía\, la práctica jurídica\, etc. Es así como una propuesta que surge de un ámbito académico – en este caso\, de la UCSF -\, procura articular saberes\, tanto con impacto eco-social como en relación con los Derechos Humanos. \nA su vez\, la Cátedra busca consolidar una red de cooperación académica entre académicos locales y extranjeros\, con los cuales se comparte una perspectiva crítico-reflexiva de los Derechos Humanos y un horizonte común de justicia eco-social. \nEste tipo de iniciativas promueven la investigación y la internacionalización de la educación superior\, entendidas ambas como funciones esenciales en toda universidad\, más aún si se trata de cuestiones que fomentan el diálogo entre disciplinas y actores esenciales con miras a la cooperación internacional al desarrollo. \nDescargar folleto \nDetalle de los encuentros: \n\n9/9/2020\, 19 hs. “Economía y Derechos Humanos. Aportes desde la Economía de Francisco” – Dra. Guadalupe Martino – Argentina\n11/9/2020\, 15 hs.- “Derechos Humanos y Pueblos andinos” – Dr. Alex Valle Franco\, IAEN – Ecuador.\n8/10/2020\, 14 hs. “OMC\, Covid y Derechos humanos” – Dra. Marlene Pinheiro\, Facultade Ari de Sa – Brasil\n29/10 – “Migraciones y Derechos Humanos” – Dr. Alex Valle Franco\, IAEN – Ecuador\n5/11 – 14 hs. “Litigio de interés público” – Mg. María Cristina Alé – Universität Erlangen-Nüremberg\, Alemania
URL:https://www.ucsf.edu.ar/evento/ciclo-de-encuentros-sobre-derechos-humanos/
LOCATION:Santa Fe
CATEGORIES:Home principal,Santa Fe,Facultades,Posadas,Reconquista,Derecho y Ciencia Política,IDAFFE Instituto de Derecho Ambiental, Forestal y Federal ,IDL Instituto de Derecho Laboral,IDPI Instituto de Derecho Público y de la Investigación,Sedes,IDPRI Instituto de Derecho Privado,IDPRO Instituto de Derecho Procesal,Internacional,IDSI Instituto de Doctrina Social de la Iglesia,Institutos
ATTACH;FMTTYPE=image/jpeg:https://www.ucsf.edu.ar/wp-content/uploads/2020/12/IMG_0432.jpg
END:VEVENT
BEGIN:VEVENT
DTSTART;TZID=America/Argentina/Buenos_Aires:20200909T190000
DTEND;TZID=America/Argentina/Buenos_Aires:20201105T190000
DTSTAMP:20260422T070032
CREATED:20200903T204626Z
LAST-MODIFIED:20200903T204626Z
UID:41604-1599678000-1604602800@www.ucsf.edu.ar
SUMMARY:Ciclo de encuentros sobre Derechos Humanos
DESCRIPTION:  \nEl próximo miércoles 9 de septiembre a las 19 horas se dará inicio al Ciclo de Encuentros sobre Derechos Humanos. En el primer encuentro\, la Dra. Guadalupe Martino\, dará una conferencia titulada “Economía y Derechos Humanos: aportes desde la economía de Francisco”. El enlace de acceso a la conferencia puede solicitarse al siguiente correo electrónico: abonet@ucsf.edu.ar \nEste ciclo busca generar un espacio de diálogo y debate entre académicos de diferentes universidades y se enmarca en la Cátedra Abierta sobre Derechos Humanos\, surgida a partir del proyecto denominado “Derechos humanos y Economía. Relaciones y tensiones entre los derechos sociales y ambientales y el orden jurídico-económico transnacional” de la UCSF. \nEsta cátedra surge ante la necesidad de encontrar un espacio donde canalizar los resultados y avances de las investigaciones\, pero\, además\, como un ámbito propicio para estrechar y consolidar lazos personales e institucionales. Será un espacio que permita desarrollar acciones que promuevan el intercambio de perspectivas y miradas con actores de otros sectores\, además del estrictamente académico: la política\, la economía\, la práctica jurídica\, etc. Es así como una propuesta que surge de un ámbito académico – en este caso\, de la UCSF -\, procura articular saberes\, tanto con impacto eco-social como en relación con los Derechos Humanos. \nA su vez\, la Cátedra busca consolidar una red de cooperación académica entre académicos locales y extranjeros\, con los cuales se comparte una perspectiva crítico-reflexiva de los Derechos Humanos y un horizonte común de justicia eco-social. \nEste tipo de iniciativas promueven la investigación y la internacionalización de la educación superior\, entendidas ambas como funciones esenciales en toda universidad\, más aún si se trata de cuestiones que fomentan el diálogo entre disciplinas y actores esenciales con miras a la cooperación internacional al desarrollo. \nDescargar folleto \nDetalle de los encuentros: \n\n9/9/2020\, 19 hs. “Economía y Derechos Humanos. Aportes desde la Economía de Francisco” – Dra. Guadalupe Martino – Argentina\n11/9/2020\, 15 hs.- “Derechos Humanos y Pueblos andinos” – Dr. Alex Valle Franco\, IAEN – Ecuador.\n8/10/2020\, 14 hs. “OMC\, Covid y Derechos humanos” – Dra. Marlene Pinheiro\, Facultade Ari de Sa – Brasil\n29/10 – “Migraciones y Derechos Humanos” – Dr. Alex Valle Franco\, IAEN – Ecuador\n5/11 – 14 hs. “Litigio de interés público” – Mg. María Cristina Alé – Universität Erlangen-Nüremberg\, Alemania
URL:https://www.ucsf.edu.ar/evento/ciclo-de-encuentros-sobre-derechos-humanos-2/
LOCATION:Santa Fe
CATEGORIES:Home principal,Santa Fe,Facultades,Posadas,Reconquista,Derecho y Ciencia Política,IDAFFE Instituto de Derecho Ambiental, Forestal y Federal ,IDL Instituto de Derecho Laboral,IDPI Instituto de Derecho Público y de la Investigación,Sedes,IDPRI Instituto de Derecho Privado,IDPRO Instituto de Derecho Procesal,Internacional,IDSI Instituto de Doctrina Social de la Iglesia,Institutos
END:VEVENT
BEGIN:VEVENT
DTSTART;TZID=America/Argentina/Buenos_Aires:20200923T190000
DTEND;TZID=America/Argentina/Buenos_Aires:20200923T190000
DTSTAMP:20260422T070032
CREATED:20200922T111645Z
LAST-MODIFIED:20200922T111738Z
UID:37736-1600887600-1600887600@www.ucsf.edu.ar
SUMMARY:Jornada por el Dia d ela Obstétrica.
DESCRIPTION:  \n \nUnirse por zoom: \nhttps://zoom.us/j/99713599774?pwd=aGRtU0pROUFVYjhCZ3NpRW1yUEtTZz09 \n 
URL:https://www.ucsf.edu.ar/evento/jornada-por-el-dia-d-ela-obstetrica/
LOCATION:Santa Fe
CATEGORIES:Facultades,Rosario,Ciencias de la Salud,Carreras de Grado,Rafaela,Licenciatura en Obstetricia
END:VEVENT
BEGIN:VEVENT
DTSTART;TZID=America/Argentina/Buenos_Aires:20200923T190000
DTEND;TZID=America/Argentina/Buenos_Aires:20200923T190000
DTSTAMP:20260422T070032
CREATED:20200922T111645Z
LAST-MODIFIED:20200922T111645Z
UID:41614-1600887600-1600887600@www.ucsf.edu.ar
SUMMARY:Jornada por el Dia d ela Obstétrica.
DESCRIPTION:  \n \nUnirse por zoom: \nhttps://zoom.us/j/99713599774?pwd=aGRtU0pROUFVYjhCZ3NpRW1yUEtTZz09 \n 
URL:https://www.ucsf.edu.ar/evento/jornada-por-el-dia-d-ela-obstetrica-2/
LOCATION:Untitled\, Santa Fe\, Argentina
CATEGORIES:Facultades,Rosario,Ciencias de la Salud,Carreras de Grado,Rafaela,Licenciatura en Obstetricia
END:VEVENT
BEGIN:VEVENT
DTSTART;TZID=America/Argentina/Buenos_Aires:20200925T080000
DTEND;TZID=America/Argentina/Buenos_Aires:20200925T170000
DTSTAMP:20260422T070032
CREATED:20200918T220822Z
LAST-MODIFIED:20200918T220822Z
UID:37615-1601020800-1601053200@www.ucsf.edu.ar
SUMMARY:Seminarios 2020 - “Financiamiento de hábitat a partir de las valorizaciones inmobiliarias”
DESCRIPTION:Seminarios a Distancia 2020 \n“Financiamiento de hábitat a partir de las valorizaciones inmobiliarias”  \nDictado por el Arq. Esp. Eduardo Recce \n  \n25 de septiembre\, 02 y 09 de octubre  \n  \nDESTINATARIOS  \nGraduados universitarios en universidades argentinas\, estatales o privadas debidamente reconocidas\, con títulos correspondiente a una carrera de grado o graduados en universidades extranjeras reconocidas\, según las reglamentaciones vigentes. Los títulos aceptados son los de: Arquitecto\, Ingeniero\, Abogado\, Contador\, Economistas\, Licenciados en trabajo social o en Ciencia Políticas.  \nOtros títulos serán aceptados cuando los postulantes acrediten una trayectoria y formación vinculada a la gestión del hábitat.  \n  \nDescargar folleto\n  \nINSCRIPCIONES ABIERTAS  \nArancel General: $ 4.200 \nArancel Bonificado (Docentes y Egresados UCSF): $ 3.800 \n  \nPara más información o consultas contactarse por correo electrónico a: mmmartinez@ucsf.edu.ar \n  \n  \n \n 
URL:https://www.ucsf.edu.ar/evento/seminarios-2020-financiamiento-de-habitat-a-partir-de-las-valorizaciones-inmobiliarias/
LOCATION:Santa Fe
END:VEVENT
BEGIN:VEVENT
DTSTART;TZID=America/Argentina/Buenos_Aires:20200925T080000
DTEND;TZID=America/Argentina/Buenos_Aires:20200925T170000
DTSTAMP:20260422T070032
CREATED:20200918T220822Z
LAST-MODIFIED:20200918T220822Z
UID:41610-1601020800-1601053200@www.ucsf.edu.ar
SUMMARY:Seminarios 2020 - “Financiamiento de hábitat a partir de las valorizaciones inmobiliarias”
DESCRIPTION:Seminarios a Distancia 2020 \n“Financiamiento de hábitat a partir de las valorizaciones inmobiliarias”  \nDictado por el Arq. Esp. Eduardo Recce \n  \n25 de septiembre\, 02 y 09 de octubre  \n  \nDESTINATARIOS  \nGraduados universitarios en universidades argentinas\, estatales o privadas debidamente reconocidas\, con títulos correspondiente a una carrera de grado o graduados en universidades extranjeras reconocidas\, según las reglamentaciones vigentes. Los títulos aceptados son los de: Arquitecto\, Ingeniero\, Abogado\, Contador\, Economistas\, Licenciados en trabajo social o en Ciencia Políticas.  \nOtros títulos serán aceptados cuando los postulantes acrediten una trayectoria y formación vinculada a la gestión del hábitat.  \n  \nDescargar folleto\n  \nINSCRIPCIONES ABIERTAS  \nArancel General: $ 4.200 \nArancel Bonificado (Docentes y Egresados UCSF): $ 3.800 \n  \nPara más información o consultas contactarse por correo electrónico a: mmmartinez@ucsf.edu.ar \n  \n  \n \n 
URL:https://www.ucsf.edu.ar/evento/seminarios-2020-financiamiento-de-habitat-a-partir-de-las-valorizaciones-inmobiliarias-2/
LOCATION:Santa Fe
END:VEVENT
BEGIN:VEVENT
DTSTART;TZID=America/Argentina/Buenos_Aires:20200925T160000
DTEND;TZID=America/Argentina/Buenos_Aires:20200925T170000
DTSTAMP:20260422T070032
CREATED:20200921T143255Z
LAST-MODIFIED:20200925T121838Z
UID:37668-1601049600-1601053200@www.ucsf.edu.ar
SUMMARY:Jornadas virtuales: Derechos de las Personas con Discapacidad
DESCRIPTION:El próximo viernes 25 de septiembre a las 16 horas comienzan las jornadas virtuales sobre Derechos de las Personas con Discapacidad. Se trata de una actividad interdisciplinaria co-organizada entre la Facultad de Ciencias de la Salud y el área de Cooperación Internacional. \nEn un ciclo de seis encuentros virtuales\, profesionales de diferentes disciplinas de la UCSF\, del medio local e internacional\, desarrollarán charlas sobre diferentes temáticas en torno a los Derechos de las Personas con Discapacidad. \n25/09 – 16 horas: “La Convención sobre Derechos de las Personas con Discapacidad”. Disertantes: Abog. Adriana Pérez y Abog. Valeria Sordo. \n02/10 – 16 horas: “El art. 12 Convención sobre los Derechos de las Personas con Discapacidad”. Disertante: Abog. Adriana Pérez. \n09/10 – 16 horas: “Certificado de discapacidad – Prestaciones del sistema de Salud en Discapacidad”. Disertantes: Lic. Viviana Abba y Abog. Mariana Casco. \n16/10 – 16 horas: “Certificado de Discapacidad – Prestaciones del sistema de Salud en Discapaciad (Cont.)”. Disertantes: Lic. Vanina Abi Saad y Abog. Valeria Sordo. \n23/10 – 16 horas: “Personas Mayores”. Disertantes: Abog. Adriana Pérez y Dra. Elisabet Agustina Vidal. \n30/10 – 16 horas: “Conferencia de cierre: Miradas comparadas sobre la discapacidad”. Conferencista: Mg. Renata Anahí Bregaglio Lazarte. Abogada y Magister en Derechos Humanos por la Pontificia Universidad Católica del Perú. Master en Derechos Humanos por la Universidad Carlos III de Madrid. \nActividad no arancelada con inscripción previa. \nMás información: internacional@ucsf.edu.ar \nInscripción https://www.eventbrite.com.ar/e/la-convencion-sobre-derechos-de-las-personas-con-discapacidad-tickets-121305673535 \nLink para unirse a la jornada: https://zoom.us/j/95308182355?pwd=NzNLVUtBR1JUODVFVGxvU3FSQW95Zz09 \nID de reunión: 953 0818 2355\nCódigo de acceso: 167772\n 
URL:https://www.ucsf.edu.ar/evento/jornadas-virtuales-derechos-de-las-personas-con-discapacidad/
LOCATION:Santa Fe
CATEGORIES:Internacional
END:VEVENT
BEGIN:VEVENT
DTSTART;TZID=America/Argentina/Buenos_Aires:20200925T160000
DTEND;TZID=America/Argentina/Buenos_Aires:20200925T170000
DTSTAMP:20260422T070032
CREATED:20200921T143255Z
LAST-MODIFIED:20200921T143255Z
UID:41611-1601049600-1601053200@www.ucsf.edu.ar
SUMMARY:Jornadas virtuales: Derechos de las Personas con Discapacidad
DESCRIPTION:El próximo viernes 25 de septiembre a las 16 horas comienzan las jornadas virtuales sobre Derechos de las Personas con Discapacidad. Se trata de una actividad interdisciplinaria co-organizada entre la Facultad de Ciencias de la Salud y el área de Cooperación Internacional. \nEn un ciclo de seis encuentros virtuales\, profesionales de diferentes disciplinas de la UCSF\, del medio local e internacional\, desarrollarán charlas sobre diferentes temáticas en torno a los Derechos de las Personas con Discapacidad. \n25/09 – 16 horas: “La Convención sobre Derechos de las Personas con Discapacidad”. Disertantes: Abog. Adriana Pérez y Abog. Valeria Sordo. \n02/10 – 16 horas: “El art. 12 Convención sobre los Derechos de las Personas con Discapacidad”. Disertante: Abog. Adriana Pérez. \n09/10 – 16 horas: “Certificado de discapacidad – Prestaciones del sistema de Salud en Discapacidad”. Disertantes: Lic. Viviana Abba y Abog. Mariana Casco. \n16/10 – 16 horas: “Certificado de Discapacidad – Prestaciones del sistema de Salud en Discapaciad (Cont.)”. Disertantes: Lic. Vanina Abi Saad y Abog. Valeria Sordo. \n23/10 – 16 horas: “Personas Mayores”. Disertantes: Abog. Adriana Pérez y Dra. Elisabet Agustina Vidal. \n30/10 – 16 horas: “Conferencia de cierre: Miradas comparadas sobre la discapacidad”. Conferencista: Mg. Renata Anahí Bregaglio Lazarte. Abogada y Magister en Derechos Humanos por la Pontificia Universidad Católica del Perú. Master en Derechos Humanos por la Universidad Carlos III de Madrid. \nActividad no arancelada con inscripción previa. \nMás información: internacional@ucsf.edu.ar \nInscripción https://www.eventbrite.com.ar/e/la-convencion-sobre-derechos-de-las-personas-con-discapacidad-tickets-121305673535 \nLink para unirse a la jornada: https://zoom.us/j/95308182355?pwd=NzNLVUtBR1JUODVFVGxvU3FSQW95Zz09 \nID de reunión: 953 0818 2355\nCódigo de acceso: 167772\n 
URL:https://www.ucsf.edu.ar/evento/jornadas-virtuales-derechos-de-las-personas-con-discapacidad-3/
LOCATION:Santa Fe
CATEGORIES:Internacional
END:VEVENT
BEGIN:VEVENT
DTSTART;TZID=America/Argentina/Buenos_Aires:20200926T100000
DTEND;TZID=America/Argentina/Buenos_Aires:20200926T110000
DTSTAMP:20260422T070032
CREATED:20200921T173905Z
LAST-MODIFIED:20200921T175537Z
UID:37677-1601114400-1601118000@www.ucsf.edu.ar
SUMMARY:Seminario Web Hablemos de Inocuidad Alimentaria.
DESCRIPTION:Inscripciones en linea aqui \nEn el marco de la Capacitación en Higiene y Salud Alimentaria \n\n“Hablemos de Inocuidad Alimentaria” (Dr. Gabriel Sequeira)\n\nUnirse a la reunión Zoom\nhttps://zoom.us/j/97918878167?pwd=SERmSWVMV29HK0M3RGZZNlg1TVhKUT09 \nID de reunión: 979 1887 8167\nCódigo de acceso: 010043 \n  \nInscripciones en linea aqui
URL:https://www.ucsf.edu.ar/evento/seminario-web-hablemos-de-inocuidad-alimentaria/
LOCATION:Untitled\, Santa Fe\, Argentina
CATEGORIES:Santa Fe,Facultades,Rosario,Ciencias de la Salud,Carreras de Grado,Posadas,Reconquista,Rafaela,Gualeguaychú,Sedes,Licenciatura en Nutrición
END:VEVENT
BEGIN:VEVENT
DTSTART;TZID=America/Argentina/Buenos_Aires:20200926T100000
DTEND;TZID=America/Argentina/Buenos_Aires:20200926T110000
DTSTAMP:20260422T070032
CREATED:20200921T173905Z
LAST-MODIFIED:20200921T173905Z
UID:41612-1601114400-1601118000@www.ucsf.edu.ar
SUMMARY:Seminario Web Hablemos de Inocuidad Alimentaria.
DESCRIPTION:Inscripciones en linea aqui \nEn el marco de la Capacitación en Higiene y Salud Alimentaria \n\n“Hablemos de Inocuidad Alimentaria” (Dr. Gabriel Sequeira)\n\nUnirse a la reunión Zoom\nhttps://zoom.us/j/97918878167?pwd=SERmSWVMV29HK0M3RGZZNlg1TVhKUT09 \nID de reunión: 979 1887 8167\nCódigo de acceso: 010043 \n  \nInscripciones en linea aqui
URL:https://www.ucsf.edu.ar/evento/seminario-web-hablemos-de-inocuidad-alimentaria-2/
LOCATION:Untitled\, Santa Fe\, Argentina
CATEGORIES:Santa Fe,Facultades,Rosario,Ciencias de la Salud,Carreras de Grado,Posadas,Reconquista,Rafaela,Gualeguaychú,Sedes,Licenciatura en Nutrición
END:VEVENT
END:VCALENDAR