BEGIN:VCALENDAR
VERSION:2.0
PRODID:-//UCSF - Universidad Católica de Santa Fe - ECPv5.14.2.1//NONSGML v1.0//EN
CALSCALE:GREGORIAN
METHOD:PUBLISH
X-WR-CALNAME:UCSF - Universidad Católica de Santa Fe
X-ORIGINAL-URL:https://www.ucsf.edu.ar
X-WR-CALDESC:Events for UCSF - Universidad Católica de Santa Fe
REFRESH-INTERVAL;VALUE=DURATION:PT1H
X-Robots-Tag:noindex
X-PUBLISHED-TTL:PT1H
BEGIN:VTIMEZONE
TZID:America/Argentina/Buenos_Aires
BEGIN:STANDARD
TZOFFSETFROM:-0300
TZOFFSETTO:-0300
TZNAME:-03
DTSTART:20200101T000000
END:STANDARD
END:VTIMEZONE
BEGIN:VEVENT
DTSTART;TZID=America/Argentina/Buenos_Aires:20200824T140000
DTEND;TZID=America/Argentina/Buenos_Aires:20201023T170000
DTSTAMP:20260422T065919
CREATED:20200725T021831Z
LAST-MODIFIED:20200803T182655Z
UID:36553-1598277600-1603472400@www.ucsf.edu.ar
SUMMARY:Curso Formación en Bioética para docentes. Módulo Bioética Fundamental
DESCRIPTION:Inicia: 24 de Agosto 2020 \nDuración: 2 meses. \nContenidos \n Módulo 1: Fundamentos de Bioética \n\nEvolución histórica de la Bioética. Corrientes bioéticas y principios\nBioética Personalista. Metodología. Relación con otras disciplinas.\nPrincipios de Bioética en la Declaración Universal sobre Bioética y Derechos Humanos\nBioética global y sus implicaciones.\nCorpus vitae: Evangelium vitae – Laudato si’\n\n Módulo 2: Bioética y Persona Humana \n\nBioética y persona humana. Naturaleza y dignidad de la persona humana.\nEstatuto ontológico del embrión humano.\nCorpus vitae: Dignitas personae.\n\n Docentes: Pbro. Lic. Diego Gatti\, Prof. Mgt. Carmen Ederle. \nOrganiza: Instituto de Bioética “Jérôme Lejeune”. \n \n 
URL:https://www.ucsf.edu.ar/evento/curso-formacion-en-bioetica-para-docentes-modulo-bioetica-fundamental/
LOCATION:Santa Fe
CATEGORIES:Home principal,Graduados,Facultades,IB Instituto de Bioética Jerome Lejeune,Vicerrectorado de Formación,Institutos
END:VEVENT
BEGIN:VEVENT
DTSTART;TZID=America/Argentina/Buenos_Aires:20200824T140000
DTEND;TZID=America/Argentina/Buenos_Aires:20201023T170000
DTSTAMP:20260422T065919
CREATED:20200725T021831Z
LAST-MODIFIED:20200725T021831Z
UID:41585-1598277600-1603472400@www.ucsf.edu.ar
SUMMARY:Curso Formación en Bioética para docentes. Módulo Bioética Fundamental
DESCRIPTION:Inicia: 24 de Agosto 2020 \nDuración: 2 meses. \nContenidos \n Módulo 1: Fundamentos de Bioética \n\nEvolución histórica de la Bioética. Corrientes bioéticas y principios\nBioética Personalista. Metodología. Relación con otras disciplinas.\nPrincipios de Bioética en la Declaración Universal sobre Bioética y Derechos Humanos\nBioética global y sus implicaciones.\nCorpus vitae: Evangelium vitae – Laudato si’\n\n Módulo 2: Bioética y Persona Humana \n\nBioética y persona humana. Naturaleza y dignidad de la persona humana.\nEstatuto ontológico del embrión humano.\nCorpus vitae: Dignitas personae.\n\n Docentes: Pbro. Lic. Diego Gatti\, Prof. Mgt. Carmen Ederle. \nOrganiza: Instituto de Bioética “Jérôme Lejeune”. \n \n 
URL:https://www.ucsf.edu.ar/evento/curso-formacion-en-bioetica-para-docentes-modulo-bioetica-fundamental-2/
LOCATION:Untitled\, Santa Fe\, Argentina
CATEGORIES:Home principal,Graduados,Facultades,IB Instituto de Bioética Jerome Lejeune,Vicerrectorado de Formación,Institutos
END:VEVENT
BEGIN:VEVENT
DTSTART;TZID=America/Argentina/Buenos_Aires:20200909T190000
DTEND;TZID=America/Argentina/Buenos_Aires:20201105T190000
DTSTAMP:20260422T065919
CREATED:20200903T204626Z
LAST-MODIFIED:20210301T194305Z
UID:37377-1599678000-1604602800@www.ucsf.edu.ar
SUMMARY:Ciclo de encuentros sobre Derechos Humanos
DESCRIPTION:  \nEl próximo miércoles 9 de septiembre a las 19 horas se dará inicio al Ciclo de Encuentros sobre Derechos Humanos. En el primer encuentro\, la Dra. Guadalupe Martino\, dará una conferencia titulada “Economía y Derechos Humanos: aportes desde la economía de Francisco”. El enlace de acceso a la conferencia puede solicitarse al siguiente correo electrónico: abonet@ucsf.edu.ar \nEste ciclo busca generar un espacio de diálogo y debate entre académicos de diferentes universidades y se enmarca en la Cátedra Abierta sobre Derechos Humanos\, surgida a partir del proyecto denominado “Derechos humanos y Economía. Relaciones y tensiones entre los derechos sociales y ambientales y el orden jurídico-económico transnacional” de la UCSF. \nEsta cátedra surge ante la necesidad de encontrar un espacio donde canalizar los resultados y avances de las investigaciones\, pero\, además\, como un ámbito propicio para estrechar y consolidar lazos personales e institucionales. Será un espacio que permita desarrollar acciones que promuevan el intercambio de perspectivas y miradas con actores de otros sectores\, además del estrictamente académico: la política\, la economía\, la práctica jurídica\, etc. Es así como una propuesta que surge de un ámbito académico – en este caso\, de la UCSF -\, procura articular saberes\, tanto con impacto eco-social como en relación con los Derechos Humanos. \nA su vez\, la Cátedra busca consolidar una red de cooperación académica entre académicos locales y extranjeros\, con los cuales se comparte una perspectiva crítico-reflexiva de los Derechos Humanos y un horizonte común de justicia eco-social. \nEste tipo de iniciativas promueven la investigación y la internacionalización de la educación superior\, entendidas ambas como funciones esenciales en toda universidad\, más aún si se trata de cuestiones que fomentan el diálogo entre disciplinas y actores esenciales con miras a la cooperación internacional al desarrollo. \nDescargar folleto \nDetalle de los encuentros: \n\n9/9/2020\, 19 hs. “Economía y Derechos Humanos. Aportes desde la Economía de Francisco” – Dra. Guadalupe Martino – Argentina\n11/9/2020\, 15 hs.- “Derechos Humanos y Pueblos andinos” – Dr. Alex Valle Franco\, IAEN – Ecuador.\n8/10/2020\, 14 hs. “OMC\, Covid y Derechos humanos” – Dra. Marlene Pinheiro\, Facultade Ari de Sa – Brasil\n29/10 – “Migraciones y Derechos Humanos” – Dr. Alex Valle Franco\, IAEN – Ecuador\n5/11 – 14 hs. “Litigio de interés público” – Mg. María Cristina Alé – Universität Erlangen-Nüremberg\, Alemania
URL:https://www.ucsf.edu.ar/evento/ciclo-de-encuentros-sobre-derechos-humanos/
LOCATION:Santa Fe
CATEGORIES:Home principal,Santa Fe,Facultades,Posadas,Reconquista,Derecho y Ciencia Política,IDAFFE Instituto de Derecho Ambiental, Forestal y Federal ,IDL Instituto de Derecho Laboral,IDPI Instituto de Derecho Público y de la Investigación,IDPRI Instituto de Derecho Privado,Sedes,IDPRO Instituto de Derecho Procesal,Internacional,IDSI Instituto de Doctrina Social de la Iglesia,Institutos
ATTACH;FMTTYPE=image/jpeg:https://www.ucsf.edu.ar/wp-content/uploads/2020/12/IMG_0432.jpg
END:VEVENT
BEGIN:VEVENT
DTSTART;TZID=America/Argentina/Buenos_Aires:20200909T190000
DTEND;TZID=America/Argentina/Buenos_Aires:20201105T190000
DTSTAMP:20260422T065919
CREATED:20200903T204626Z
LAST-MODIFIED:20200903T204626Z
UID:41604-1599678000-1604602800@www.ucsf.edu.ar
SUMMARY:Ciclo de encuentros sobre Derechos Humanos
DESCRIPTION:  \nEl próximo miércoles 9 de septiembre a las 19 horas se dará inicio al Ciclo de Encuentros sobre Derechos Humanos. En el primer encuentro\, la Dra. Guadalupe Martino\, dará una conferencia titulada “Economía y Derechos Humanos: aportes desde la economía de Francisco”. El enlace de acceso a la conferencia puede solicitarse al siguiente correo electrónico: abonet@ucsf.edu.ar \nEste ciclo busca generar un espacio de diálogo y debate entre académicos de diferentes universidades y se enmarca en la Cátedra Abierta sobre Derechos Humanos\, surgida a partir del proyecto denominado “Derechos humanos y Economía. Relaciones y tensiones entre los derechos sociales y ambientales y el orden jurídico-económico transnacional” de la UCSF. \nEsta cátedra surge ante la necesidad de encontrar un espacio donde canalizar los resultados y avances de las investigaciones\, pero\, además\, como un ámbito propicio para estrechar y consolidar lazos personales e institucionales. Será un espacio que permita desarrollar acciones que promuevan el intercambio de perspectivas y miradas con actores de otros sectores\, además del estrictamente académico: la política\, la economía\, la práctica jurídica\, etc. Es así como una propuesta que surge de un ámbito académico – en este caso\, de la UCSF -\, procura articular saberes\, tanto con impacto eco-social como en relación con los Derechos Humanos. \nA su vez\, la Cátedra busca consolidar una red de cooperación académica entre académicos locales y extranjeros\, con los cuales se comparte una perspectiva crítico-reflexiva de los Derechos Humanos y un horizonte común de justicia eco-social. \nEste tipo de iniciativas promueven la investigación y la internacionalización de la educación superior\, entendidas ambas como funciones esenciales en toda universidad\, más aún si se trata de cuestiones que fomentan el diálogo entre disciplinas y actores esenciales con miras a la cooperación internacional al desarrollo. \nDescargar folleto \nDetalle de los encuentros: \n\n9/9/2020\, 19 hs. “Economía y Derechos Humanos. Aportes desde la Economía de Francisco” – Dra. Guadalupe Martino – Argentina\n11/9/2020\, 15 hs.- “Derechos Humanos y Pueblos andinos” – Dr. Alex Valle Franco\, IAEN – Ecuador.\n8/10/2020\, 14 hs. “OMC\, Covid y Derechos humanos” – Dra. Marlene Pinheiro\, Facultade Ari de Sa – Brasil\n29/10 – “Migraciones y Derechos Humanos” – Dr. Alex Valle Franco\, IAEN – Ecuador\n5/11 – 14 hs. “Litigio de interés público” – Mg. María Cristina Alé – Universität Erlangen-Nüremberg\, Alemania
URL:https://www.ucsf.edu.ar/evento/ciclo-de-encuentros-sobre-derechos-humanos-2/
LOCATION:Santa Fe
CATEGORIES:Home principal,Santa Fe,Facultades,Posadas,Reconquista,Derecho y Ciencia Política,IDAFFE Instituto de Derecho Ambiental, Forestal y Federal ,IDL Instituto de Derecho Laboral,IDPI Instituto de Derecho Público y de la Investigación,IDPRI Instituto de Derecho Privado,Sedes,IDPRO Instituto de Derecho Procesal,Internacional,IDSI Instituto de Doctrina Social de la Iglesia,Institutos
END:VEVENT
BEGIN:VEVENT
DTSTART;TZID=America/Argentina/Buenos_Aires:20201008T193000
DTEND;TZID=America/Argentina/Buenos_Aires:20201008T210000
DTSTAMP:20260422T065919
CREATED:20201005T131349Z
LAST-MODIFIED:20201005T145923Z
UID:38004-1602185400-1602190800@www.ucsf.edu.ar
SUMMARY:Seminario Web: La psicomotricidad como práctica social.
DESCRIPTION:Inscripciones en línea aquí\nLA PSICOMOTRICIDAD COMO PRÁCTICA SOCIAL: \nACERCAMIENTO AL QUEHACER COMUNITARIO. \n  \nDisertante : Liliana Onaga \nEjes temáticos: \nFundamentos de la intervención comunitaria desde la Psicomotricidad. \nAlgunas trayectorias y experiencias en la práctica comunitaria. \n \nLicenciada en Psicomotricidad\, Universidad Nacional de Tres de Febrero (2015-2019). Tecnicatura en Psicomotricidad. Universidad Nacional de Tres de Febrero (2010-2015) \nDocente colaboradora\, Colaboración en la planificación y dictado del Seminario de Psicomotricidad y Acción Comunitaria para el ciclo de complementación de la formación de psicomotricistas (Infancias Jujeñas). \nUnirse a la reunión Zoom\nhttps://zoom.us/j/94839568762?pwd=QXBabVI0TnpTb1FaNXBNUlM5dVBnQT09 \nID de reunión: 948 3956 8762\nCódigo de acceso: 744274
URL:https://www.ucsf.edu.ar/evento/seminario-web-la-psicomotricidad-como-practica-social/
LOCATION:Santa Fe
CATEGORIES:Santa Fe,Facultades,Rosario,Ciencias de la Salud,Carreras de Grado,Reconquista,Rafaela,Sedes,Licenciatura en Kinesiología y Fisioterapia,Licenciatura en Nutrición,Licenciatura en Terapia Ocupacional
END:VEVENT
BEGIN:VEVENT
DTSTART;TZID=America/Argentina/Buenos_Aires:20201008T193000
DTEND;TZID=America/Argentina/Buenos_Aires:20201008T210000
DTSTAMP:20260422T065919
CREATED:20201005T131349Z
LAST-MODIFIED:20201005T131349Z
UID:41624-1602185400-1602190800@www.ucsf.edu.ar
SUMMARY:Seminario Web: La psicomotricidad como práctica social.
DESCRIPTION:Inscripciones en línea aquí\nLA PSICOMOTRICIDAD COMO PRÁCTICA SOCIAL: \nACERCAMIENTO AL QUEHACER COMUNITARIO. \n  \nDisertante : Liliana Onaga \nEjes temáticos: \nFundamentos de la intervención comunitaria desde la Psicomotricidad. \nAlgunas trayectorias y experiencias en la práctica comunitaria. \n \nLicenciada en Psicomotricidad\, Universidad Nacional de Tres de Febrero (2015-2019). Tecnicatura en Psicomotricidad. Universidad Nacional de Tres de Febrero (2010-2015) \nDocente colaboradora\, Colaboración en la planificación y dictado del Seminario de Psicomotricidad y Acción Comunitaria para el ciclo de complementación de la formación de psicomotricistas (Infancias Jujeñas). \nUnirse a la reunión Zoom\nhttps://zoom.us/j/94839568762?pwd=QXBabVI0TnpTb1FaNXBNUlM5dVBnQT09 \nID de reunión: 948 3956 8762\nCódigo de acceso: 744274
URL:https://www.ucsf.edu.ar/evento/seminario-web-la-psicomotricidad-como-practica-social-2/
LOCATION:Untitled\, Santa Fe\, Argentina
CATEGORIES:Santa Fe,Facultades,Rosario,Ciencias de la Salud,Carreras de Grado,Reconquista,Rafaela,Sedes,Licenciatura en Kinesiología y Fisioterapia,Licenciatura en Nutrición,Licenciatura en Terapia Ocupacional
END:VEVENT
BEGIN:VEVENT
DTSTART;TZID=America/Argentina/Buenos_Aires:20201010T093000
DTEND;TZID=America/Argentina/Buenos_Aires:20201010T103000
DTSTAMP:20260422T065919
CREATED:20200922T122953Z
LAST-MODIFIED:20200922T123653Z
UID:37746-1602322200-1602325800@www.ucsf.edu.ar
SUMMARY:Categorización Docente: Espacio de Consultas para completar el formulario.0..
DESCRIPTION:Inscripciones en linea aqui \nCategorización Docente: Espacio de Consultas para completar el formulario. \nLa importancia del item Investigación en la Categorización Docente. \nDr Juan Carlos Alby \nDirector del Consejo de Investigaciones de la UCSF \n\n\nPara completar la CATEGORIZACIÓN DOCENTE mediante CURRICULUM VITAE UNIFICADO\, ingrese AQUÍ \n\n\n\n\nPara postularse a la Institución descargar CV AQUÍ \n\nUnirse a la reunión Zoom\nhttps://zoom.us/j/96812392851?pwd=ZjZ2OFZQS2tTVXdVTGVBa2l6VU0vQT09 \nID de reunión: 968 1239 2851\nCódigo de acceso: 466276
URL:https://www.ucsf.edu.ar/evento/categorizacion-docente-espacio-de-consultas-para-completar-el-formulario-d/
LOCATION:Untitled\, Santa Fe\, Argentina
CATEGORIES:Santa Fe,Facultades,Rosario,Carreras de Grado,Posadas,Reconquista,Rafaela,Gualeguaychú,Sedes,Investigación
END:VEVENT
BEGIN:VEVENT
DTSTART;TZID=America/Argentina/Buenos_Aires:20201010T093000
DTEND;TZID=America/Argentina/Buenos_Aires:20201010T103000
DTSTAMP:20260422T065919
CREATED:20200922T122953Z
LAST-MODIFIED:20200922T122953Z
UID:41615-1602322200-1602325800@www.ucsf.edu.ar
SUMMARY:Categorización Docente: Espacio de Consultas para completar el formulario.0..
DESCRIPTION:Inscripciones en linea aqui \nCategorización Docente: Espacio de Consultas para completar el formulario. \nLa importancia del item Investigación en la Categorización Docente. \nDr Juan Carlos Alby \nDirector del Consejo de Investigaciones de la UCSF \n\n\nPara completar la CATEGORIZACIÓN DOCENTE mediante CURRICULUM VITAE UNIFICADO\, ingrese AQUÍ \n\n\n\n\nPara postularse a la Institución descargar CV AQUÍ \n\nUnirse a la reunión Zoom\nhttps://zoom.us/j/96812392851?pwd=ZjZ2OFZQS2tTVXdVTGVBa2l6VU0vQT09 \nID de reunión: 968 1239 2851\nCódigo de acceso: 466276
URL:https://www.ucsf.edu.ar/evento/categorizacion-docente-espacio-de-consultas-para-completar-el-formulario-d-2/
LOCATION:Untitled\, Santa Fe\, Argentina
CATEGORIES:Santa Fe,Facultades,Rosario,Carreras de Grado,Posadas,Reconquista,Rafaela,Gualeguaychú,Sedes,Investigación
END:VEVENT
BEGIN:VEVENT
DTSTART;TZID=America/Argentina/Buenos_Aires:20201010T100000
DTEND;TZID=America/Argentina/Buenos_Aires:20201010T113000
DTSTAMP:20260422T065919
CREATED:20201003T134412Z
LAST-MODIFIED:20201006T143444Z
UID:37956-1602324000-1602329400@www.ucsf.edu.ar
SUMMARY:Seguridad Alimentaria: "Auditorías de Sistemas de Calidad"
DESCRIPTION:Inscripciones en linea aqui\n“Auditorías de Sistemas de Calidad” \nOrador: Auditor Leader Adrián Rosenbaum \n\nAuditorías… ¿contribuyen al análisis de los sistemas o de las personas? \nAuditorías Voluntarias\, Obligatorias y de 3ra. Parte… ¿en qué medida contribuyen a la inocuidad de los alimentos?\n\nDescripción: Facultad Salud le está invitando a una reunión de Zoom programada. Unirse a la reunión Zoom \nhttps://zoom.us/j/96253689124?pwd=dXBXYklTeDNLR0JDQ1RaNDliZU1xQT09 \nID de reunión: 962 5368 9124 \nCódigo de acceso: 158147 \n  \n 
URL:https://www.ucsf.edu.ar/evento/seguridad-alimentaria-auditorias-de-sistemas-de-calidad/
LOCATION:Santa Fe
CATEGORIES:Santa Fe,Rosario,Ciencias de la Salud,Carreras de Grado,Posadas,Reconquista,Rafaela,Gualeguaychú,Licenciatura en Nutrición
END:VEVENT
BEGIN:VEVENT
DTSTART;TZID=America/Argentina/Buenos_Aires:20201010T100000
DTEND;TZID=America/Argentina/Buenos_Aires:20201010T113000
DTSTAMP:20260422T065919
CREATED:20201003T134412Z
LAST-MODIFIED:20201003T134412Z
UID:41622-1602324000-1602329400@www.ucsf.edu.ar
SUMMARY:Seguridad Alimentaria: "Auditorías de Sistemas de Calidad"
DESCRIPTION:Inscripciones en linea aqui\n“Auditorías de Sistemas de Calidad” \nOrador: Auditor Leader Adrián Rosenbaum \n\nAuditorías… ¿contribuyen al análisis de los sistemas o de las personas? \nAuditorías Voluntarias\, Obligatorias y de 3ra. Parte… ¿en qué medida contribuyen a la inocuidad de los alimentos?\n\nDescripción: Facultad Salud le está invitando a una reunión de Zoom programada. Unirse a la reunión Zoom \nhttps://zoom.us/j/96253689124?pwd=dXBXYklTeDNLR0JDQ1RaNDliZU1xQT09 \nID de reunión: 962 5368 9124 \nCódigo de acceso: 158147 \n  \n 
URL:https://www.ucsf.edu.ar/evento/seguridad-alimentaria-auditorias-de-sistemas-de-calidad-2/
LOCATION:Untitled\, Santa Fe\, Argentina
CATEGORIES:Santa Fe,Rosario,Ciencias de la Salud,Carreras de Grado,Posadas,Reconquista,Rafaela,Gualeguaychú,Licenciatura en Nutrición
END:VEVENT
BEGIN:VEVENT
DTSTART;TZID=America/Argentina/Buenos_Aires:20201010T110000
DTEND;TZID=America/Argentina/Buenos_Aires:20201010T123000
DTSTAMP:20260422T065919
CREATED:20201004T115227Z
LAST-MODIFIED:20201004T121312Z
UID:37971-1602327600-1602333000@www.ucsf.edu.ar
SUMMARY:Universidad Abierta para la Casa Común: Primeros auxilios en el hogar..
DESCRIPTION:Primeros auxilios en el hogar y en diferentes ámbitos\, atención de heridas\, quemaduras\, desobstrucción de las vías respiratorias\, entre otros.\nLic. Gabriel Gonzalez. \nDirector de la Escuela de la Cruz Roja. Filial Santa Fe. \nLink para la clase: https://meet.google.com/bhn-dxpi-qtb \nPara inscripciones comunicarse por correo electrónico a Abog. Vanina Sturla: \nnsturla@ucsf.edu ar \nCoordinadora PUA-UCSF: Dra. Nancy Vanina Sturla
URL:https://www.ucsf.edu.ar/evento/universidad-abierta-para-la-casa-comun-primeros-auxilios-en-el-hogar/
LOCATION:Santa Fe
CATEGORIES:Santa Fe,Rosario,Ciencias de la Salud,Carreras de Grado,Posadas,Reconquista,Licenciatura en Enfermería,Rafaela,Gualeguaychú,Sedes,Investigación
END:VEVENT
BEGIN:VEVENT
DTSTART;TZID=America/Argentina/Buenos_Aires:20201010T110000
DTEND;TZID=America/Argentina/Buenos_Aires:20201010T123000
DTSTAMP:20260422T065919
CREATED:20201004T115227Z
LAST-MODIFIED:20201004T115227Z
UID:41623-1602327600-1602333000@www.ucsf.edu.ar
SUMMARY:Universidad Abierta para la Casa Común: Primeros auxilios en el hogar..
DESCRIPTION:Primeros auxilios en el hogar y en diferentes ámbitos\, atención de heridas\, quemaduras\, desobstrucción de las vías respiratorias\, entre otros.\nLic. Gabriel Gonzalez. \nDirector de la Escuela de la Cruz Roja. Filial Santa Fe. \nLink para la clase: https://meet.google.com/bhn-dxpi-qtb \nPara inscripciones comunicarse por correo electrónico a Abog. Vanina Sturla: \nnsturla@ucsf.edu ar \nCoordinadora PUA-UCSF: Dra. Nancy Vanina Sturla
URL:https://www.ucsf.edu.ar/evento/universidad-abierta-para-la-casa-comun-primeros-auxilios-en-el-hogar-2/
LOCATION:Untitled\, Santa Fe\, Argentina
CATEGORIES:Santa Fe,Rosario,Ciencias de la Salud,Carreras de Grado,Posadas,Reconquista,Licenciatura en Enfermería,Rafaela,Gualeguaychú,Sedes,Investigación
END:VEVENT
END:VCALENDAR