BEGIN:VCALENDAR
VERSION:2.0
PRODID:-//UCSF - Universidad Católica de Santa Fe - ECPv5.14.2.1//NONSGML v1.0//EN
CALSCALE:GREGORIAN
METHOD:PUBLISH
X-WR-CALNAME:UCSF - Universidad Católica de Santa Fe
X-ORIGINAL-URL:https://www.ucsf.edu.ar
X-WR-CALDESC:Events for UCSF - Universidad Católica de Santa Fe
REFRESH-INTERVAL;VALUE=DURATION:PT1H
X-Robots-Tag:noindex
X-PUBLISHED-TTL:PT1H
BEGIN:VTIMEZONE
TZID:America/Argentina/Buenos_Aires
BEGIN:STANDARD
TZOFFSETFROM:-0300
TZOFFSETTO:-0300
TZNAME:-03
DTSTART:20200101T000000
END:STANDARD
END:VTIMEZONE
BEGIN:VEVENT
DTSTART;TZID=America/Argentina/Buenos_Aires:20200824T140000
DTEND;TZID=America/Argentina/Buenos_Aires:20201023T170000
DTSTAMP:20260422T065922
CREATED:20200725T021831Z
LAST-MODIFIED:20200803T182655Z
UID:36553-1598277600-1603472400@www.ucsf.edu.ar
SUMMARY:Curso Formación en Bioética para docentes. Módulo Bioética Fundamental
DESCRIPTION:Inicia: 24 de Agosto 2020 \nDuración: 2 meses. \nContenidos \n Módulo 1: Fundamentos de Bioética \n\nEvolución histórica de la Bioética. Corrientes bioéticas y principios\nBioética Personalista. Metodología. Relación con otras disciplinas.\nPrincipios de Bioética en la Declaración Universal sobre Bioética y Derechos Humanos\nBioética global y sus implicaciones.\nCorpus vitae: Evangelium vitae – Laudato si’\n\n Módulo 2: Bioética y Persona Humana \n\nBioética y persona humana. Naturaleza y dignidad de la persona humana.\nEstatuto ontológico del embrión humano.\nCorpus vitae: Dignitas personae.\n\n Docentes: Pbro. Lic. Diego Gatti\, Prof. Mgt. Carmen Ederle. \nOrganiza: Instituto de Bioética “Jérôme Lejeune”. \n \n 
URL:https://www.ucsf.edu.ar/evento/curso-formacion-en-bioetica-para-docentes-modulo-bioetica-fundamental/
LOCATION:Santa Fe
CATEGORIES:Home principal,Graduados,Facultades,IB Instituto de Bioética Jerome Lejeune,Vicerrectorado de Formación,Institutos
END:VEVENT
BEGIN:VEVENT
DTSTART;TZID=America/Argentina/Buenos_Aires:20200824T140000
DTEND;TZID=America/Argentina/Buenos_Aires:20201023T170000
DTSTAMP:20260422T065922
CREATED:20200725T021831Z
LAST-MODIFIED:20200725T021831Z
UID:41585-1598277600-1603472400@www.ucsf.edu.ar
SUMMARY:Curso Formación en Bioética para docentes. Módulo Bioética Fundamental
DESCRIPTION:Inicia: 24 de Agosto 2020 \nDuración: 2 meses. \nContenidos \n Módulo 1: Fundamentos de Bioética \n\nEvolución histórica de la Bioética. Corrientes bioéticas y principios\nBioética Personalista. Metodología. Relación con otras disciplinas.\nPrincipios de Bioética en la Declaración Universal sobre Bioética y Derechos Humanos\nBioética global y sus implicaciones.\nCorpus vitae: Evangelium vitae – Laudato si’\n\n Módulo 2: Bioética y Persona Humana \n\nBioética y persona humana. Naturaleza y dignidad de la persona humana.\nEstatuto ontológico del embrión humano.\nCorpus vitae: Dignitas personae.\n\n Docentes: Pbro. Lic. Diego Gatti\, Prof. Mgt. Carmen Ederle. \nOrganiza: Instituto de Bioética “Jérôme Lejeune”. \n \n 
URL:https://www.ucsf.edu.ar/evento/curso-formacion-en-bioetica-para-docentes-modulo-bioetica-fundamental-2/
LOCATION:Untitled\, Santa Fe\, Argentina
CATEGORIES:Home principal,Graduados,Facultades,IB Instituto de Bioética Jerome Lejeune,Vicerrectorado de Formación,Institutos
END:VEVENT
BEGIN:VEVENT
DTSTART;TZID=America/Argentina/Buenos_Aires:20200909T190000
DTEND;TZID=America/Argentina/Buenos_Aires:20201105T190000
DTSTAMP:20260422T065922
CREATED:20200903T204626Z
LAST-MODIFIED:20210301T194305Z
UID:37377-1599678000-1604602800@www.ucsf.edu.ar
SUMMARY:Ciclo de encuentros sobre Derechos Humanos
DESCRIPTION:  \nEl próximo miércoles 9 de septiembre a las 19 horas se dará inicio al Ciclo de Encuentros sobre Derechos Humanos. En el primer encuentro\, la Dra. Guadalupe Martino\, dará una conferencia titulada “Economía y Derechos Humanos: aportes desde la economía de Francisco”. El enlace de acceso a la conferencia puede solicitarse al siguiente correo electrónico: abonet@ucsf.edu.ar \nEste ciclo busca generar un espacio de diálogo y debate entre académicos de diferentes universidades y se enmarca en la Cátedra Abierta sobre Derechos Humanos\, surgida a partir del proyecto denominado “Derechos humanos y Economía. Relaciones y tensiones entre los derechos sociales y ambientales y el orden jurídico-económico transnacional” de la UCSF. \nEsta cátedra surge ante la necesidad de encontrar un espacio donde canalizar los resultados y avances de las investigaciones\, pero\, además\, como un ámbito propicio para estrechar y consolidar lazos personales e institucionales. Será un espacio que permita desarrollar acciones que promuevan el intercambio de perspectivas y miradas con actores de otros sectores\, además del estrictamente académico: la política\, la economía\, la práctica jurídica\, etc. Es así como una propuesta que surge de un ámbito académico – en este caso\, de la UCSF -\, procura articular saberes\, tanto con impacto eco-social como en relación con los Derechos Humanos. \nA su vez\, la Cátedra busca consolidar una red de cooperación académica entre académicos locales y extranjeros\, con los cuales se comparte una perspectiva crítico-reflexiva de los Derechos Humanos y un horizonte común de justicia eco-social. \nEste tipo de iniciativas promueven la investigación y la internacionalización de la educación superior\, entendidas ambas como funciones esenciales en toda universidad\, más aún si se trata de cuestiones que fomentan el diálogo entre disciplinas y actores esenciales con miras a la cooperación internacional al desarrollo. \nDescargar folleto \nDetalle de los encuentros: \n\n9/9/2020\, 19 hs. “Economía y Derechos Humanos. Aportes desde la Economía de Francisco” – Dra. Guadalupe Martino – Argentina\n11/9/2020\, 15 hs.- “Derechos Humanos y Pueblos andinos” – Dr. Alex Valle Franco\, IAEN – Ecuador.\n8/10/2020\, 14 hs. “OMC\, Covid y Derechos humanos” – Dra. Marlene Pinheiro\, Facultade Ari de Sa – Brasil\n29/10 – “Migraciones y Derechos Humanos” – Dr. Alex Valle Franco\, IAEN – Ecuador\n5/11 – 14 hs. “Litigio de interés público” – Mg. María Cristina Alé – Universität Erlangen-Nüremberg\, Alemania
URL:https://www.ucsf.edu.ar/evento/ciclo-de-encuentros-sobre-derechos-humanos/
LOCATION:Santa Fe
CATEGORIES:Home principal,Santa Fe,Facultades,Posadas,Reconquista,Derecho y Ciencia Política,IDAFFE Instituto de Derecho Ambiental, Forestal y Federal ,IDL Instituto de Derecho Laboral,IDPI Instituto de Derecho Público y de la Investigación,Sedes,IDPRI Instituto de Derecho Privado,Internacional,IDPRO Instituto de Derecho Procesal,IDSI Instituto de Doctrina Social de la Iglesia,Institutos
ATTACH;FMTTYPE=image/jpeg:https://www.ucsf.edu.ar/wp-content/uploads/2020/12/IMG_0432.jpg
END:VEVENT
BEGIN:VEVENT
DTSTART;TZID=America/Argentina/Buenos_Aires:20200909T190000
DTEND;TZID=America/Argentina/Buenos_Aires:20201105T190000
DTSTAMP:20260422T065922
CREATED:20200903T204626Z
LAST-MODIFIED:20200903T204626Z
UID:41604-1599678000-1604602800@www.ucsf.edu.ar
SUMMARY:Ciclo de encuentros sobre Derechos Humanos
DESCRIPTION:  \nEl próximo miércoles 9 de septiembre a las 19 horas se dará inicio al Ciclo de Encuentros sobre Derechos Humanos. En el primer encuentro\, la Dra. Guadalupe Martino\, dará una conferencia titulada “Economía y Derechos Humanos: aportes desde la economía de Francisco”. El enlace de acceso a la conferencia puede solicitarse al siguiente correo electrónico: abonet@ucsf.edu.ar \nEste ciclo busca generar un espacio de diálogo y debate entre académicos de diferentes universidades y se enmarca en la Cátedra Abierta sobre Derechos Humanos\, surgida a partir del proyecto denominado “Derechos humanos y Economía. Relaciones y tensiones entre los derechos sociales y ambientales y el orden jurídico-económico transnacional” de la UCSF. \nEsta cátedra surge ante la necesidad de encontrar un espacio donde canalizar los resultados y avances de las investigaciones\, pero\, además\, como un ámbito propicio para estrechar y consolidar lazos personales e institucionales. Será un espacio que permita desarrollar acciones que promuevan el intercambio de perspectivas y miradas con actores de otros sectores\, además del estrictamente académico: la política\, la economía\, la práctica jurídica\, etc. Es así como una propuesta que surge de un ámbito académico – en este caso\, de la UCSF -\, procura articular saberes\, tanto con impacto eco-social como en relación con los Derechos Humanos. \nA su vez\, la Cátedra busca consolidar una red de cooperación académica entre académicos locales y extranjeros\, con los cuales se comparte una perspectiva crítico-reflexiva de los Derechos Humanos y un horizonte común de justicia eco-social. \nEste tipo de iniciativas promueven la investigación y la internacionalización de la educación superior\, entendidas ambas como funciones esenciales en toda universidad\, más aún si se trata de cuestiones que fomentan el diálogo entre disciplinas y actores esenciales con miras a la cooperación internacional al desarrollo. \nDescargar folleto \nDetalle de los encuentros: \n\n9/9/2020\, 19 hs. “Economía y Derechos Humanos. Aportes desde la Economía de Francisco” – Dra. Guadalupe Martino – Argentina\n11/9/2020\, 15 hs.- “Derechos Humanos y Pueblos andinos” – Dr. Alex Valle Franco\, IAEN – Ecuador.\n8/10/2020\, 14 hs. “OMC\, Covid y Derechos humanos” – Dra. Marlene Pinheiro\, Facultade Ari de Sa – Brasil\n29/10 – “Migraciones y Derechos Humanos” – Dr. Alex Valle Franco\, IAEN – Ecuador\n5/11 – 14 hs. “Litigio de interés público” – Mg. María Cristina Alé – Universität Erlangen-Nüremberg\, Alemania
URL:https://www.ucsf.edu.ar/evento/ciclo-de-encuentros-sobre-derechos-humanos-2/
LOCATION:Santa Fe
CATEGORIES:Home principal,Santa Fe,Facultades,Posadas,Reconquista,Derecho y Ciencia Política,IDAFFE Instituto de Derecho Ambiental, Forestal y Federal ,IDL Instituto de Derecho Laboral,IDPI Instituto de Derecho Público y de la Investigación,Sedes,IDPRI Instituto de Derecho Privado,Internacional,IDPRO Instituto de Derecho Procesal,IDSI Instituto de Doctrina Social de la Iglesia,Institutos
END:VEVENT
BEGIN:VEVENT
DTSTART;TZID=America/Argentina/Buenos_Aires:20201019T193000
DTEND;TZID=America/Argentina/Buenos_Aires:20201019T210000
DTSTAMP:20260422T065922
CREATED:20201017T210916Z
LAST-MODIFIED:20201017T212501Z
UID:38262-1603135800-1603141200@www.ucsf.edu.ar
SUMMARY:Psicomotricidad: Los tiempos fundantes de la imagen del cuerpo. Lo no constituido en escena
DESCRIPTION:Inscripciones en linea aqui\nPsicomotricidad: \nLos tiempos fundantes de la imagen del cuerpo. Lo no constituido en escena.\nDisertante: Nicolás Miguel Martinez. \nPsicomotricista en consultorios en la ciudad de Concepción del Uruguay\, Entre Ríos.\n● Profesor titular. Cátedra “Práctica Psicomotriz Educativa”\, del tercer año del\nProfesorado de Educación Especial con orientación en discapacidad\nintelectual\, Escuela Normal Superior República Oriental del Uruguay.\n● Miembro de la Asociación Civil “Forum Infancias” sede Concordia\,Entre Ríos. \n  \n \nVicerrectorado Académico le está invitando a una reunión de Zoom programada. \nUnirse a la reunión Zoom\nhttps://zoom.us/j/92290015643?pwd=UHZpN2ZIMG1XN0dtQTFRNm12eC80dz09 \nID de reunión: 922 9001 5643\nCódigo de acceso: 625131
URL:https://www.ucsf.edu.ar/evento/psicomotricidad-los-tiempos-fundantes-de-la-imagen-del-cuerpo-lo-no-constituido-en-escena/
LOCATION:Santa Fe
CATEGORIES:Santa Fe,Facultades,Rosario,Ciencias de la Salud,Carreras de Grado,Reconquista,Rafaela,Licenciatura en Kinesiología y Fisioterapia,Licenciatura en Terapia Ocupacional
END:VEVENT
BEGIN:VEVENT
DTSTART;TZID=America/Argentina/Buenos_Aires:20201019T193000
DTEND;TZID=America/Argentina/Buenos_Aires:20201019T210000
DTSTAMP:20260422T065922
CREATED:20201017T210916Z
LAST-MODIFIED:20201017T210916Z
UID:41632-1603135800-1603141200@www.ucsf.edu.ar
SUMMARY:Psicomotricidad: Los tiempos fundantes de la imagen del cuerpo. Lo no constituido en escena
DESCRIPTION:Inscripciones en linea aqui\nPsicomotricidad: \nLos tiempos fundantes de la imagen del cuerpo. Lo no constituido en escena.\nDisertante: Nicolás Miguel Martinez. \nPsicomotricista en consultorios en la ciudad de Concepción del Uruguay\, Entre Ríos.\n● Profesor titular. Cátedra “Práctica Psicomotriz Educativa”\, del tercer año del\nProfesorado de Educación Especial con orientación en discapacidad\nintelectual\, Escuela Normal Superior República Oriental del Uruguay.\n● Miembro de la Asociación Civil “Forum Infancias” sede Concordia\,Entre Ríos. \n  \n \nVicerrectorado Académico le está invitando a una reunión de Zoom programada. \nUnirse a la reunión Zoom\nhttps://zoom.us/j/92290015643?pwd=UHZpN2ZIMG1XN0dtQTFRNm12eC80dz09 \nID de reunión: 922 9001 5643\nCódigo de acceso: 625131
URL:https://www.ucsf.edu.ar/evento/psicomotricidad-los-tiempos-fundantes-de-la-imagen-del-cuerpo-lo-no-constituido-en-escena-2/
LOCATION:Untitled\, Santa Fe\, Argentina
CATEGORIES:Santa Fe,Facultades,Rosario,Ciencias de la Salud,Carreras de Grado,Reconquista,Rafaela,Licenciatura en Kinesiología y Fisioterapia,Licenciatura en Terapia Ocupacional
END:VEVENT
BEGIN:VEVENT
DTSTART;TZID=America/Argentina/Buenos_Aires:20201023T160000
DTEND;TZID=America/Argentina/Buenos_Aires:20201023T180000
DTSTAMP:20260422T065922
CREATED:20201006T145713Z
LAST-MODIFIED:20201006T145713Z
UID:41625-1603468800-1603476000@www.ucsf.edu.ar
SUMMARY:Jornadas virtuales sobre Derechos de las Personas con Discapacidad: Personas Mayores
DESCRIPTION:El próximo viernes 23 de octubre a las 16 horas continúan las jornadas virtuales sobre “Derechos de las Personas con Discapacidad”. En esta oportunidad\, la Abog. Adriana Perez y la Dra. Elisabet Vidal\, conversarán sobre las “Personas Mayores”. \nAl igual que las anteriores\, se trata de una actividad no arancelada con inscripción previa aquí. \nLink para acceder a la charla: \n\nhttps://zoom.us/j/97762157086?pwd=WVIwRTVzK0RicDEzeDY4aFovQjU2QT0\n\n\nMeeting ID: 977 6215 7086\nPasscode: 673896
URL:https://www.ucsf.edu.ar/evento/jornadas-virtuales-sobre-derechos-de-las-personas-con-discapacidad-2/
LOCATION:Santa Fe
CATEGORIES:Home principal,Facultades,Ciencias de la Salud,Internacional
END:VEVENT
BEGIN:VEVENT
DTSTART;TZID=America/Argentina/Buenos_Aires:20201023T160000
DTEND;TZID=America/Argentina/Buenos_Aires:20201023T180000
DTSTAMP:20260422T065922
CREATED:20201006T145713Z
LAST-MODIFIED:20201021T142030Z
UID:38067-1603468800-1603476000@www.ucsf.edu.ar
SUMMARY:Jornadas virtuales sobre Derechos de las Personas con Discapacidad: Personas Mayores
DESCRIPTION:El próximo viernes 23 de octubre a las 16 horas continúan las jornadas virtuales sobre “Derechos de las Personas con Discapacidad”. En esta oportunidad\, la Abog. Adriana Perez y la Dra. Elisabet Vidal\, conversarán sobre las “Personas Mayores”. \nAl igual que las anteriores\, se trata de una actividad no arancelada con inscripción previa aquí. \nLink para acceder a la charla: \n\nhttps://zoom.us/j/97762157086?pwd=WVIwRTVzK0RicDEzeDY4aFovQjU2QT0\n\n\nMeeting ID: 977 6215 7086\nPasscode: 673896
URL:https://www.ucsf.edu.ar/evento/jornadas-virtuales-sobre-derechos-de-las-personas-con-discapacidad/
LOCATION:Santa Fe
CATEGORIES:Home principal,Facultades,Ciencias de la Salud,Derecho y Ciencia Política,Internacional
END:VEVENT
BEGIN:VEVENT
DTSTART;TZID=America/Argentina/Buenos_Aires:20201023T190000
DTEND;TZID=America/Argentina/Buenos_Aires:20201023T210000
DTSTAMP:20260422T065922
CREATED:20201020T115117Z
LAST-MODIFIED:20201020T183936Z
UID:38325-1603479600-1603486800@www.ucsf.edu.ar
SUMMARY:Sem. Internacional: Aportes de la Doctrina Social de la Iglesia para Tiempos de Pos-Coronavirus
DESCRIPTION:  \n  \n    \nARGENTINA\n \nCOLOMBIA\n\nALEMANIA\n                                                                                                              \nLibre y Gratuito. \nAportes de la Doctrina Social de la Iglesia para Tiempos de Pos-Coronavirus \nPbro. Luis Ferney Lopez Jiménez. \nPresenta: Thomas Krüggeler Ph.D.. Director. Departamento de América Latina \nServicio Católico de Intercambio Académico (KAAD). 53129 Bonn – Alemania \nCoordina: Dr. Fabian Jerkovich (Director DSI.UCSF). \nmás información para inscripciones en linea.
URL:https://www.ucsf.edu.ar/evento/seminario-web-aportes-de-la-doctrina-social-de-la-iglesia-para-tiempos-de-pos-coronavirus/
LOCATION:Santa Fe
CATEGORIES:Ciencias de la Salud
END:VEVENT
BEGIN:VEVENT
DTSTART;TZID=America/Argentina/Buenos_Aires:20201023T190000
DTEND;TZID=America/Argentina/Buenos_Aires:20201023T210000
DTSTAMP:20260422T065922
CREATED:20201020T115117Z
LAST-MODIFIED:20201020T115117Z
UID:41633-1603479600-1603486800@www.ucsf.edu.ar
SUMMARY:Sem. Internacional: Aportes de la Doctrina Social de la Iglesia para Tiempos de Pos-Coronavirus
DESCRIPTION:  \n  \n    \nARGENTINA\n \nCOLOMBIA\n\nALEMANIA\n                                                                                                              \nLibre y Gratuito. \nAportes de la Doctrina Social de la Iglesia para Tiempos de Pos-Coronavirus \nPbro. Luis Ferney Lopez Jiménez. \nPresenta: Thomas Krüggeler Ph.D.. Director. Departamento de América Latina \nServicio Católico de Intercambio Académico (KAAD). 53129 Bonn – Alemania \nCoordina: Dr. Fabian Jerkovich (Director DSI.UCSF). \nmás información para inscripciones en linea.
URL:https://www.ucsf.edu.ar/evento/seminario-web-aportes-de-la-doctrina-social-de-la-iglesia-para-tiempos-de-pos-coronavirus-2/
LOCATION:Untitled\, Santa Fe\, Argentina
CATEGORIES:Ciencias de la Salud
END:VEVENT
BEGIN:VEVENT
DTSTART;TZID=America/Argentina/Buenos_Aires:20201024T093000
DTEND;TZID=America/Argentina/Buenos_Aires:20201024T103000
DTSTAMP:20260422T065922
CREATED:20201020T223711Z
LAST-MODIFIED:20201021T013738Z
UID:38384-1603531800-1603535400@www.ucsf.edu.ar
SUMMARY:Introducción al Gestor Bibliografico Citavi.
DESCRIPTION:Inscripciones en línea: Libre y Gratuito. Cupos limitados.\nBIBLIOTECA DE LA UNIVERSIDAD CATOLICA DE SANTA FE \nCENTRO DE RECURSOS PARA EL APRENDIZAJE Y LA INVESTIGACIÓN. \n“Es el proceso de recopilación y extracción de datos importantes en nuestro proceso de aprendizaje\, de las fuentes bibliográficas como: libros\, revistas\, periódicos\, internet\, y fuentes no bibliográficos\, que son objeto de estudios. Las fichas tienen forma rectangular de diversos tamaños\, que debemos tener a la mano para cualquier trabajo\, que debemos guardarla en un fichero\, ordenando por orden alfabético\, por temas y por otras índoles de nuestro interés.” ( Wilfredo David Auris Villegas)\n\n\nIntroducción al Gestor Bibliográfico Citavi. \nDr.Dr.  Guillermo Kerz \nRedacto su Tesis Doctoral en Medicina utilizando Citavi. \nPresenta: Lic. Ana Maria Alberdi. Red de Bibliotecas UCSF. \nObjetivos: \n. Primeros Pasos: \nDescargar Citavi gratuito o Citavi licencia completa para comunidad UCSF. Diferencias. \nIniciar Sesión \nCrear un Proyecto. \nGuardar copia de seguridad. \nGuardar en el equipo o en la nube de Alemania. \nCitavi no sólo me es de gran ayuda cuando redacto mis trabajos académicos\, sino también a la hora de estructurar ideas y pensamientos en la fase preliminar. \nVioletta Ziegler\, Ruhr-Universität\, Bochum (Alemania) \n  \n \nUnirse a la reunión Zoom\nhttps://zoom.us/j/96569585036?pwd=M2xPU0phbjJxSTVoUDFhQzBPY2RRZz09 \nID de reunión: 965 6958 5036\nCódigo de acceso: 815782 \n  \n  \n. \n  \n 
URL:https://www.ucsf.edu.ar/evento/introduccion-al-gestor-bibliografico-citavi/
LOCATION:Santa Fe
CATEGORIES:Santa Fe,Rosario,Carreras de Grado,Posadas,Reconquista,Rafaela,Gualeguaychú,Sedes,Investigación
END:VEVENT
BEGIN:VEVENT
DTSTART;TZID=America/Argentina/Buenos_Aires:20201024T093000
DTEND;TZID=America/Argentina/Buenos_Aires:20201024T103000
DTSTAMP:20260422T065922
CREATED:20201020T223711Z
LAST-MODIFIED:20201020T223711Z
UID:41634-1603531800-1603535400@www.ucsf.edu.ar
SUMMARY:Introducción al Gestor Bibliografico Citavi.
DESCRIPTION:Inscripciones en línea: Libre y Gratuito. Cupos limitados.\nBIBLIOTECA DE LA UNIVERSIDAD CATOLICA DE SANTA FE \nCENTRO DE RECURSOS PARA EL APRENDIZAJE Y LA INVESTIGACIÓN. \n“Es el proceso de recopilación y extracción de datos importantes en nuestro proceso de aprendizaje\, de las fuentes bibliográficas como: libros\, revistas\, periódicos\, internet\, y fuentes no bibliográficos\, que son objeto de estudios. Las fichas tienen forma rectangular de diversos tamaños\, que debemos tener a la mano para cualquier trabajo\, que debemos guardarla en un fichero\, ordenando por orden alfabético\, por temas y por otras índoles de nuestro interés.” ( Wilfredo David Auris Villegas)\n\n\nIntroducción al Gestor Bibliográfico Citavi. \nDr.Dr.  Guillermo Kerz \nRedacto su Tesis Doctoral en Medicina utilizando Citavi. \nPresenta: Lic. Ana Maria Alberdi. Red de Bibliotecas UCSF. \nObjetivos: \n. Primeros Pasos: \nDescargar Citavi gratuito o Citavi licencia completa para comunidad UCSF. Diferencias. \nIniciar Sesión \nCrear un Proyecto. \nGuardar copia de seguridad. \nGuardar en el equipo o en la nube de Alemania. \nCitavi no sólo me es de gran ayuda cuando redacto mis trabajos académicos\, sino también a la hora de estructurar ideas y pensamientos en la fase preliminar. \nVioletta Ziegler\, Ruhr-Universität\, Bochum (Alemania) \n  \n \nUnirse a la reunión Zoom\nhttps://zoom.us/j/96569585036?pwd=M2xPU0phbjJxSTVoUDFhQzBPY2RRZz09 \nID de reunión: 965 6958 5036\nCódigo de acceso: 815782 \n  \n  \n. \n  \n 
URL:https://www.ucsf.edu.ar/evento/introduccion-al-gestor-bibliografico-citavi-2/
LOCATION:Untitled\, Santa Fe\, Argentina
CATEGORIES:Santa Fe,Rosario,Carreras de Grado,Posadas,Reconquista,Rafaela,Gualeguaychú,Sedes,Investigación
END:VEVENT
END:VCALENDAR