BEGIN:VCALENDAR
VERSION:2.0
PRODID:-//UCSF - Universidad Católica de Santa Fe - ECPv5.14.2.1//NONSGML v1.0//EN
CALSCALE:GREGORIAN
METHOD:PUBLISH
X-WR-CALNAME:UCSF - Universidad Católica de Santa Fe
X-ORIGINAL-URL:https://www.ucsf.edu.ar
X-WR-CALDESC:Events for UCSF - Universidad Católica de Santa Fe
REFRESH-INTERVAL;VALUE=DURATION:PT1H
X-Robots-Tag:noindex
X-PUBLISHED-TTL:PT1H
BEGIN:VTIMEZONE
TZID:America/Argentina/Buenos_Aires
BEGIN:STANDARD
TZOFFSETFROM:-0300
TZOFFSETTO:-0300
TZNAME:-03
DTSTART:20200101T000000
END:STANDARD
END:VTIMEZONE
BEGIN:VEVENT
DTSTART;TZID=America/Argentina/Buenos_Aires:20201127T190000
DTEND;TZID=America/Argentina/Buenos_Aires:20201127T203000
DTSTAMP:20260422T065925
CREATED:20201122T213318Z
LAST-MODIFIED:20201122T222931Z
UID:39185-1606503600-1606509000@www.ucsf.edu.ar
SUMMARY:Seminario de Investigación: Corrientes epistemológicas contemporáneas.
DESCRIPTION:Inscripciones en linea aqui.\nSeminario de Investigación: Corrientes epistemológicas contemporáneas. \nNeopositivismo lógico. Falsacionismo.  Los paradigmas de Kuhn. Los programas de investigación científica de Lakatos. El anarquismo epistemológico de Feyerabend. Estado actual del debate. \nDr. Eduardo Ibañez \nDoctor en Filosofía por la Ucsf . Docente categoría B titular de Epistemología\, Lógica y Metodología de Investigación de la UCSF. Autor de cuatro textos y 36 artículos . \n \nDestinatarios: \nInvestigadores con Becas de Iniciación\, Promoción o avanzados como de extensión de la UCSF. Investigadores\, Doctorandos\, Maestrandos\, docentes y alumnos de nuestra comunidad universitaria como de otras Universidades. Se entregan Certificados a quienes lo soliciten. \nUnirse a la reunión Zoom\nhttps://zoom.us/j/99990326620?pwd=cmZ4OHpsaThULzc4L2RabnNodytYZz09 \nID de reunión: 999 9032 6620\nCódigo de acceso: 035852 \n  \n 
URL:https://www.ucsf.edu.ar/evento/seminario-de-investigacion-corrientes-epistemologicas-contemporaneas/
LOCATION:Santa Fe
CATEGORIES:Santa Fe,Rosario,Posadas,Reconquista,Rafaela,Gualeguaychú,Sedes,Investigación
END:VEVENT
BEGIN:VEVENT
DTSTART;TZID=America/Argentina/Buenos_Aires:20201127T190000
DTEND;TZID=America/Argentina/Buenos_Aires:20201127T203000
DTSTAMP:20260422T065925
CREATED:20201122T213318Z
LAST-MODIFIED:20201122T213318Z
UID:41653-1606503600-1606509000@www.ucsf.edu.ar
SUMMARY:Seminario de Investigación: Corrientes epistemológicas contemporáneas.
DESCRIPTION:Inscripciones en linea aqui.\nSeminario de Investigación: Corrientes epistemológicas contemporáneas. \nNeopositivismo lógico. Falsacionismo.  Los paradigmas de Kuhn. Los programas de investigación científica de Lakatos. El anarquismo epistemológico de Feyerabend. Estado actual del debate. \nDr. Eduardo Ibañez \nDoctor en Filosofía por la Ucsf . Docente categoría B titular de Epistemología\, Lógica y Metodología de Investigación de la UCSF. Autor de cuatro textos y 36 artículos . \n \nDestinatarios: \nInvestigadores con Becas de Iniciación\, Promoción o avanzados como de extensión de la UCSF. Investigadores\, Doctorandos\, Maestrandos\, docentes y alumnos de nuestra comunidad universitaria como de otras Universidades. Se entregan Certificados a quienes lo soliciten. \nUnirse a la reunión Zoom\nhttps://zoom.us/j/99990326620?pwd=cmZ4OHpsaThULzc4L2RabnNodytYZz09 \nID de reunión: 999 9032 6620\nCódigo de acceso: 035852 \n  \n 
URL:https://www.ucsf.edu.ar/evento/seminario-de-investigacion-corrientes-epistemologicas-contemporaneas-2/
LOCATION:Untitled\, Santa Fe\, Argentina
CATEGORIES:Santa Fe,Rosario,Posadas,Reconquista,Rafaela,Gualeguaychú,Sedes,Investigación
END:VEVENT
BEGIN:VEVENT
DTSTART;TZID=America/Argentina/Buenos_Aires:20201128T093000
DTEND;TZID=America/Argentina/Buenos_Aires:20201128T110000
DTSTAMP:20260422T065925
CREATED:20201115T152247Z
LAST-MODIFIED:20201115T210552Z
UID:38962-1606555800-1606561200@www.ucsf.edu.ar
SUMMARY:CICLO WEB SOBRE  INGLÉS ACADÉMICO. "REDACTANDO UN CV EN INGLÉS”.
DESCRIPTION: Inscripciones en linea aqui: Libre y Gratuito.\nDestinada a Investigadores\, Docentes y Alumnos de la UCSF y de otras Universidad \n“Redactando un CV en Inglés”\nProf. Eduardo Quintana \n \nEl Currículum Vitae (CV) es una representación de nuestra identidad académica y de la trayectoria en nuestro ámbito de estudio\, docencia o campo de investigación. Muestra nuestras credenciales y logros académicos\, experiencia en investigaciones y otras actividades relevantes. \nEl CV es uno de los documentos más importantes que debemos presentar al llevar a cabo actividades académicas\, postularnos a puestos de investigación\, solicitar una beca en universidades del extranjero\, o aplicar para un trabajo internacional. \nPor ello valdrá la pena invertir algo de tiempo en practicar cómo redactar un CV en idioma inglés. \n  \nCV \nProfesor nacional de Inglés\, 1994. Postítulo “Interpretación y Traducción de Textos Jurídicos en Inglés” otorgado por la Fac. Ciencias Jurídicas y Sociales\, UNL\, 1998. \nHace 26 años que ejerce la docencia en la UCSF en la enseñanza de inglés con fines académicos. Publicó artículos de la especialidad en la Revista “En Contacto” UCSF. Representando a la UCSF\, presentó ponencias en el “V Annual English Teachers and Students Congress”\, en Salta y en el “1º Congreso del NOA de Enseñanza y Aprendizaje del Inglés” en Jujuy\, 1999. Elaboró junto a la Lic. Perla Hassan un Proyecto de Investigación aprobado por la UCSF\, 2008-2009. Coautor del Proyecto de Capacitación: “6to. Congreso Nacional de Profesores\, Traductores y Estudiantes de Inglés” en la Red Provincial de Formación Docente Continúa\, 1998. Entre las tareas de extensión\, desde el 2009\, tuvo a cargo los Talleres de Inglés de la PUAM\, y actualmente dicta clases en el Taller de Inglés para Viajeros en el Programa Universidad Abierta (PUA) de la UCSF. \n  \nUnirse a la reunión Zoom\nhttps://zoom.us/j/93346169890?pwd=MFVkWmV2eDZnWXJZVHNHdzRDalRSZz09 \nID de reunión: 933 4616 9890\nCódigo de acceso: 657914 \n  \n  \n 
URL:https://www.ucsf.edu.ar/evento/ciclo-web-sobre-ingles-academico-redactando-un-cv-en-ingles/
LOCATION:Santa Fe
CATEGORIES:Santa Fe,Ciencias de la Salud,Rosario,Posadas,Reconquista,Rafaela,Gualeguaychú,Sedes,Investigación
END:VEVENT
BEGIN:VEVENT
DTSTART;TZID=America/Argentina/Buenos_Aires:20201128T093000
DTEND;TZID=America/Argentina/Buenos_Aires:20201128T110000
DTSTAMP:20260422T065925
CREATED:20201115T152247Z
LAST-MODIFIED:20201115T152247Z
UID:41648-1606555800-1606561200@www.ucsf.edu.ar
SUMMARY:CICLO WEB SOBRE  INGLÉS ACADÉMICO. "REDACTANDO UN CV EN INGLÉS”.
DESCRIPTION: Inscripciones en linea aqui: Libre y Gratuito.\nDestinada a Investigadores\, Docentes y Alumnos de la UCSF y de otras Universidad \n“Redactando un CV en Inglés”\nProf. Eduardo Quintana \n \nEl Currículum Vitae (CV) es una representación de nuestra identidad académica y de la trayectoria en nuestro ámbito de estudio\, docencia o campo de investigación. Muestra nuestras credenciales y logros académicos\, experiencia en investigaciones y otras actividades relevantes. \nEl CV es uno de los documentos más importantes que debemos presentar al llevar a cabo actividades académicas\, postularnos a puestos de investigación\, solicitar una beca en universidades del extranjero\, o aplicar para un trabajo internacional. \nPor ello valdrá la pena invertir algo de tiempo en practicar cómo redactar un CV en idioma inglés. \n  \nCV \nProfesor nacional de Inglés\, 1994. Postítulo “Interpretación y Traducción de Textos Jurídicos en Inglés” otorgado por la Fac. Ciencias Jurídicas y Sociales\, UNL\, 1998. \nHace 26 años que ejerce la docencia en la UCSF en la enseñanza de inglés con fines académicos. Publicó artículos de la especialidad en la Revista “En Contacto” UCSF. Representando a la UCSF\, presentó ponencias en el “V Annual English Teachers and Students Congress”\, en Salta y en el “1º Congreso del NOA de Enseñanza y Aprendizaje del Inglés” en Jujuy\, 1999. Elaboró junto a la Lic. Perla Hassan un Proyecto de Investigación aprobado por la UCSF\, 2008-2009. Coautor del Proyecto de Capacitación: “6to. Congreso Nacional de Profesores\, Traductores y Estudiantes de Inglés” en la Red Provincial de Formación Docente Continúa\, 1998. Entre las tareas de extensión\, desde el 2009\, tuvo a cargo los Talleres de Inglés de la PUAM\, y actualmente dicta clases en el Taller de Inglés para Viajeros en el Programa Universidad Abierta (PUA) de la UCSF. \n  \nUnirse a la reunión Zoom\nhttps://zoom.us/j/93346169890?pwd=MFVkWmV2eDZnWXJZVHNHdzRDalRSZz09 \nID de reunión: 933 4616 9890\nCódigo de acceso: 657914 \n  \n  \n 
URL:https://www.ucsf.edu.ar/evento/ciclo-web-sobre-ingles-academico-redactando-un-cv-en-ingles-2/
LOCATION:Untitled\, Santa Fe\, Argentina
CATEGORIES:Santa Fe,Ciencias de la Salud,Rosario,Posadas,Reconquista,Rafaela,Gualeguaychú,Sedes,Investigación
END:VEVENT
BEGIN:VEVENT
DTSTART;TZID=America/Argentina/Buenos_Aires:20201128T110000
DTEND;TZID=America/Argentina/Buenos_Aires:20201128T130000
DTSTAMP:20260422T065925
CREATED:20201120T160118Z
LAST-MODIFIED:20201124T151821Z
UID:39116-1606561200-1606568400@www.ucsf.edu.ar
SUMMARY:Respondiendo Preguntas: Curso específico de Primeros Auxilios
DESCRIPTION:  \nEl “Programa Universidad Abierta para la Casa Común”\, dependiente de la Secretaría de Ciencia y Técnica\, y Extensión\, comunica que está abierta la inscripción para la segunda edición del “Curso virtual de Primeros Auxilios”. \nEl mismo está destinado al público en general y es de carácter gratuito. \nSe llevará  a cabo el día sábado 28 de noviembre\, a las 11 hs. por Zoom. \nEn esta oportunidad\, los participantes podrán\, previamente\, y con una antelación de 48 horas de realizarse el mismo\, efectuar sus consultas específicas\, las que serán tratadas y respondidas en el curso. \nDisertantes: Gabriel González: Rector ISPI 9195. Cruz Roja Argentina. Santa Fe. \nJuan Gudiño: Instructor Nacional\, Cruz Roja Argentina.\n¡Los esperamos! \nPara informes e inscripciones comunicarse vía Email a nsturla@ucsf.edu.ar \nUnirse a la reunión Zoom\nhttps://zoom.us/j/97550059022?pwd=N0RmQzZEWVZIR0pRTGd2VUxETmpYZz09 \nID de reunión: 975 5005 9022\nCódigo de acceso: 878454
URL:https://www.ucsf.edu.ar/evento/curso-especifico-de-primeros-auxilios/
LOCATION:Santa Fe
CATEGORIES:PUA, Programa Universidad Abierta,Institutos
END:VEVENT
BEGIN:VEVENT
DTSTART;TZID=America/Argentina/Buenos_Aires:20201128T110000
DTEND;TZID=America/Argentina/Buenos_Aires:20201128T130000
DTSTAMP:20260422T065925
CREATED:20201120T160118Z
LAST-MODIFIED:20201120T160118Z
UID:41652-1606561200-1606568400@www.ucsf.edu.ar
SUMMARY:Respondiendo Preguntas: Curso específico de Primeros Auxilios
DESCRIPTION:  \nEl “Programa Universidad Abierta para la Casa Común”\, dependiente de la Secretaría de Ciencia y Técnica\, y Extensión\, comunica que está abierta la inscripción para la segunda edición del “Curso virtual de Primeros Auxilios”. \nEl mismo está destinado al público en general y es de carácter gratuito. \nSe llevará  a cabo el día sábado 28 de noviembre\, a las 11 hs. por Zoom. \nEn esta oportunidad\, los participantes podrán\, previamente\, y con una antelación de 48 horas de realizarse el mismo\, efectuar sus consultas específicas\, las que serán tratadas y respondidas en el curso. \nDisertantes: Gabriel González: Rector ISPI 9195. Cruz Roja Argentina. Santa Fe. \nJuan Gudiño: Instructor Nacional\, Cruz Roja Argentina.\n¡Los esperamos! \nPara informes e inscripciones comunicarse vía Email a nsturla@ucsf.edu.ar \nUnirse a la reunión Zoom\nhttps://zoom.us/j/97550059022?pwd=N0RmQzZEWVZIR0pRTGd2VUxETmpYZz09 \nID de reunión: 975 5005 9022\nCódigo de acceso: 878454
URL:https://www.ucsf.edu.ar/evento/curso-especifico-de-primeros-auxilios-2/
LOCATION:Untitled\, Santa Fe\, Argentina
CATEGORIES:PUA, Programa Universidad Abierta,Institutos
END:VEVENT
END:VCALENDAR