BEGIN:VCALENDAR
VERSION:2.0
PRODID:-//UCSF - Universidad Católica de Santa Fe - ECPv5.14.2.1//NONSGML v1.0//EN
CALSCALE:GREGORIAN
METHOD:PUBLISH
X-WR-CALNAME:UCSF - Universidad Católica de Santa Fe
X-ORIGINAL-URL:https://www.ucsf.edu.ar
X-WR-CALDESC:Events for UCSF - Universidad Católica de Santa Fe
REFRESH-INTERVAL;VALUE=DURATION:PT1H
X-Robots-Tag:noindex
X-PUBLISHED-TTL:PT1H
BEGIN:VTIMEZONE
TZID:America/Argentina/Buenos_Aires
BEGIN:STANDARD
TZOFFSETFROM:-0300
TZOFFSETTO:-0300
TZNAME:-03
DTSTART:20200101T000000
END:STANDARD
END:VTIMEZONE
BEGIN:VEVENT
DTSTART;TZID=America/Argentina/Buenos_Aires:20201202T190000
DTEND;TZID=America/Argentina/Buenos_Aires:20201202T193000
DTSTAMP:20260422T010313
CREATED:20201115T203438Z
LAST-MODIFIED:20201201T171950Z
UID:38981-1606935600-1606937400@www.ucsf.edu.ar
SUMMARY:CICLO DE CONFERENCIAS: Fuentes y tradiciones comunes a judíos y cristianos.
DESCRIPTION:Inscribete en linea aqui. Libre y Gratuito. \nPrimera conferencia: \n“La Biblia hebrea y su recepción griega en los orígenes del cristianismo” \n \nDisertante: Dr. Juan Carlos Alby. \nDoctor en Filosofía por la Universidad Católica de Santa Fe; Bioquímico por la Universidad Nacional del Litoral y Licenciado en Filosofía por la Universidad Católica de Santa Fe. Es Profesor Titular Ordinario de Filosofía medieval y renacentsita en la Facultad de Humanidades y Ciencias de la Universidad Nacional del Litoral y de Antropología en la Facultad de Ciencias Médicas de la misma universidad. Es investigador y presidente del Consejo de Investigaciones de la Universidad Católica de Santa Fe. \nContenidos \nLa traducción griega de la Biblia hebrea en la Alejandría ptolemaica. Recepción de la Septuaginta en los orígenes del cristianismo. Interacciones y conflictos en torno al texto bíblico entre los judíos y los Padres de la Iglesia. El intento de armonización de las versiones hebrea y griega en las Héxaplas de Orígenes (siglo III e.c.). San Jerónimo y la búsqueda de la veritas hebraica (siglo IV e. c.). \nUnirse a la reunión Zoom\nhttps://zoom.us/j/95968297438?pwd=UDF5NmZRNlh3aEZ6ZWdURVhhbWNsUT09 \nID de reunión: 959 6829 7438\nCódigo de acceso: 694978
URL:https://www.ucsf.edu.ar/evento/ciclo-de-conferencias-fuentes-y-tradiciones-comunes-a-judios-y-cristianos/
LOCATION:Santa Fe
CATEGORIES:Santa Fe,Rosario,Posadas,Reconquista,Rafaela,Gualeguaychú,Sedes,Investigación
END:VEVENT
BEGIN:VEVENT
DTSTART;TZID=America/Argentina/Buenos_Aires:20201202T190000
DTEND;TZID=America/Argentina/Buenos_Aires:20201202T193000
DTSTAMP:20260422T010313
CREATED:20201115T203438Z
LAST-MODIFIED:20201115T203438Z
UID:41649-1606935600-1606937400@www.ucsf.edu.ar
SUMMARY:CICLO DE CONFERENCIAS: Fuentes y tradiciones comunes a judíos y cristianos.
DESCRIPTION:Inscribete en linea aqui. Libre y Gratuito. \nPrimera conferencia: \n“La Biblia hebrea y su recepción griega en los orígenes del cristianismo” \n \nDisertante: Dr. Juan Carlos Alby. \nDoctor en Filosofía por la Universidad Católica de Santa Fe; Bioquímico por la Universidad Nacional del Litoral y Licenciado en Filosofía por la Universidad Católica de Santa Fe. Es Profesor Titular Ordinario de Filosofía medieval y renacentsita en la Facultad de Humanidades y Ciencias de la Universidad Nacional del Litoral y de Antropología en la Facultad de Ciencias Médicas de la misma universidad. Es investigador y presidente del Consejo de Investigaciones de la Universidad Católica de Santa Fe. \nContenidos \nLa traducción griega de la Biblia hebrea en la Alejandría ptolemaica. Recepción de la Septuaginta en los orígenes del cristianismo. Interacciones y conflictos en torno al texto bíblico entre los judíos y los Padres de la Iglesia. El intento de armonización de las versiones hebrea y griega en las Héxaplas de Orígenes (siglo III e.c.). San Jerónimo y la búsqueda de la veritas hebraica (siglo IV e. c.). \nUnirse a la reunión Zoom\nhttps://zoom.us/j/95968297438?pwd=UDF5NmZRNlh3aEZ6ZWdURVhhbWNsUT09 \nID de reunión: 959 6829 7438\nCódigo de acceso: 694978
URL:https://www.ucsf.edu.ar/evento/ciclo-de-conferencias-fuentes-y-tradiciones-comunes-a-judios-y-cristianos-3/
LOCATION:Untitled\, Santa Fe\, Argentina
CATEGORIES:Santa Fe,Rosario,Posadas,Reconquista,Rafaela,Gualeguaychú,Sedes,Investigación
END:VEVENT
BEGIN:VEVENT
DTSTART;TZID=America/Argentina/Buenos_Aires:20201203T190000
DTEND;TZID=America/Argentina/Buenos_Aires:20201203T203000
DTSTAMP:20260422T010313
CREATED:20201201T175442Z
LAST-MODIFIED:20201201T181820Z
UID:39434-1607022000-1607027400@www.ucsf.edu.ar
SUMMARY:Reunión informativa: lanzamiento de la Licenciatura en Administración de Empresas Digitales
DESCRIPTION:Queremos invitarte\, en el marco del lanzamiento de la Licenciatura en Administración de Empresas Digitales (LAED)\, a participar de una reunión informativa en donde presentaremos la carrera y en la que podrás preguntar todo lo que necesites sobre esta nueva oferta educativa\, la primera 100 % a distancia de la Argentina y una de las pocas en América Latina\, sobre negocios digitales.  \nLa LAED es una carrera de cuatro años\, de la Universidad Católica de Santa Fe\, dirigida a generar profesionales especialistas tanto en el emprendedorismo como en la transformación digital de las empresas\, en donde podrás cursar asignaturas de administración y de habilidades digitales\, desde tu propia casa.  \nTe esperamos el jueves 3/12 a las 19 hs. Más abajo te copiamos el link de Zoom. \n  \n\nReunión informativa Licenciatura en Administración de Empresas Digitales \nHora: 3 dic 2020 07:00 PM Buenos Aires\, Georgetown \nUnirse a la reunión Zoom \nhttps://zoom.us/j/96138852264?pwd=anBEa2tXK2hRYWdQSDQ4Y3JJaDJTUT09 \nID de reunión: 961 3885 2264 \nCódigo de acceso: 587473 \n 
URL:https://www.ucsf.edu.ar/evento/reunion-informativa-lanzamiento-de-la-licenciatura-en-administracion-de-empresas-digitales-s/
LOCATION:Santa Fe
CATEGORIES:Graduados
ORGANIZER;CN="Facultad%20de%20Ciencias%20Econ%C3%B3micas":MAILTO:gvelazquez@ucsf.edu.ar
END:VEVENT
BEGIN:VEVENT
DTSTART;TZID=America/Argentina/Buenos_Aires:20201203T190000
DTEND;TZID=America/Argentina/Buenos_Aires:20201203T203000
DTSTAMP:20260422T010313
CREATED:20201201T175442Z
LAST-MODIFIED:20201201T175442Z
UID:41657-1607022000-1607027400@www.ucsf.edu.ar
SUMMARY:Reunión informativa: lanzamiento de la Licenciatura en Administración de Empresas Digitales
DESCRIPTION:Queremos invitarte\, en el marco del lanzamiento de la Licenciatura en Administración de Empresas Digitales (LAED)\, a participar de una reunión informativa en donde presentaremos la carrera y en la que podrás preguntar todo lo que necesites sobre esta nueva oferta educativa\, la primera 100 % a distancia de la Argentina y una de las pocas en América Latina\, sobre negocios digitales.  \nLa LAED es una carrera de cuatro años\, de la Universidad Católica de Santa Fe\, dirigida a generar profesionales especialistas tanto en el emprendedorismo como en la transformación digital de las empresas\, en donde podrás cursar asignaturas de administración y de habilidades digitales\, desde tu propia casa.  \nTe esperamos el jueves 3/12 a las 19 hs. Más abajo te copiamos el link de Zoom. \n  \n\nReunión informativa Licenciatura en Administración de Empresas Digitales \nHora: 3 dic 2020 07:00 PM Buenos Aires\, Georgetown \nUnirse a la reunión Zoom \nhttps://zoom.us/j/96138852264?pwd=anBEa2tXK2hRYWdQSDQ4Y3JJaDJTUT09 \nID de reunión: 961 3885 2264 \nCódigo de acceso: 587473 \n 
URL:https://www.ucsf.edu.ar/evento/reunion-informativa-lanzamiento-de-la-licenciatura-en-administracion-de-empresas-digitales-s-3/
LOCATION:Untitled\, Santa Fe\, Argentina
CATEGORIES:Graduados
END:VEVENT
BEGIN:VEVENT
DTSTART;TZID=America/Argentina/Buenos_Aires:20201204T193000
DTEND;TZID=America/Argentina/Buenos_Aires:20201204T203000
DTSTAMP:20260422T010313
CREATED:20201201T133629Z
LAST-MODIFIED:20201201T135223Z
UID:39376-1607110200-1607113800@www.ucsf.edu.ar
SUMMARY:Experiencias académicas en el exterior: como\, por que y para que?
DESCRIPTION:Nodo Reconquista \nDelegada del Rector: Lic Lucrecia Cripovich. \n \n Inscripciones en linea Aqui\nExperiencias académicas en el exterior: como\, por que y para que? \nAinelen Radosevich\, Licenciada en Nutricion (UNL\, Argentina\, 2013)\, Magister en Epidemiologia en Salud Publica (FIOCRUZ\, Brasil\, 2015)\, Magister en Salud Publica (Johns Hopkins Bloomberg School of Public Health\, Estados Unidos\, 2020)\, Doctoranda en Ciencias de la Salud (FURG-UCSF). Coordinadora de Salud\, Municipio de Reconquista\, Investigadora y Docente de Epidemiologia y Salud Publica UCSF y UNL. \n \nEl objetivo de la charla será repasar experiencias académicas en el exterior\, especialmente en el área de salud publica y epidemiologia con un foco en estudios de postgrado\, desde tres ejes: como\, porque y para que. El como repasara opciones para materializar la intención de estudiar en el exterior y como podemos prepararnos para tener opciones. El porque de estudiar en el exterior tendrá su foco en los beneficios y desafíos que trae aparejado el paso por el exterior. Finalmente\, el para que de la charla se focalizara en el regreso a nuestro país\, la reinserción en el ámbito laboral y académico y el impacto de nuestra experiencia en la comunidad. \nUnirse a la reunión Zoom\nhttps://zoom.us/j/96606189813?pwd=dzJ3ZHBqSEFrbHZtZVFvMENjYk1VUT09 \nID de reunión: 966 0618 9813\nCódigo de acceso: 194871 \n 
URL:https://www.ucsf.edu.ar/evento/experiencias-academicas-en-el-exterior-como-por-que-y-para-que/
LOCATION:Santa Fe
CATEGORIES:Santa Fe,Rosario,Posadas,Reconquista,Rafaela,Gualeguaychú,Sedes,Investigación
END:VEVENT
BEGIN:VEVENT
DTSTART;TZID=America/Argentina/Buenos_Aires:20201204T193000
DTEND;TZID=America/Argentina/Buenos_Aires:20201204T203000
DTSTAMP:20260422T010313
CREATED:20201201T133629Z
LAST-MODIFIED:20201201T133629Z
UID:41656-1607110200-1607113800@www.ucsf.edu.ar
SUMMARY:Experiencias académicas en el exterior: como\, por que y para que?
DESCRIPTION:Nodo Reconquista \nDelegada del Rector: Lic Lucrecia Cripovich. \n \n Inscripciones en linea Aqui\nExperiencias académicas en el exterior: como\, por que y para que? \nAinelen Radosevich\, Licenciada en Nutricion (UNL\, Argentina\, 2013)\, Magister en Epidemiologia en Salud Publica (FIOCRUZ\, Brasil\, 2015)\, Magister en Salud Publica (Johns Hopkins Bloomberg School of Public Health\, Estados Unidos\, 2020)\, Doctoranda en Ciencias de la Salud (FURG-UCSF). Coordinadora de Salud\, Municipio de Reconquista\, Investigadora y Docente de Epidemiologia y Salud Publica UCSF y UNL. \n \nEl objetivo de la charla será repasar experiencias académicas en el exterior\, especialmente en el área de salud publica y epidemiologia con un foco en estudios de postgrado\, desde tres ejes: como\, porque y para que. El como repasara opciones para materializar la intención de estudiar en el exterior y como podemos prepararnos para tener opciones. El porque de estudiar en el exterior tendrá su foco en los beneficios y desafíos que trae aparejado el paso por el exterior. Finalmente\, el para que de la charla se focalizara en el regreso a nuestro país\, la reinserción en el ámbito laboral y académico y el impacto de nuestra experiencia en la comunidad. \nUnirse a la reunión Zoom\nhttps://zoom.us/j/96606189813?pwd=dzJ3ZHBqSEFrbHZtZVFvMENjYk1VUT09 \nID de reunión: 966 0618 9813\nCódigo de acceso: 194871 \n 
URL:https://www.ucsf.edu.ar/evento/experiencias-academicas-en-el-exterior-como-por-que-y-para-que-2/
LOCATION:Untitled\, Santa Fe\, Argentina
CATEGORIES:Santa Fe,Rosario,Posadas,Reconquista,Rafaela,Gualeguaychú,Sedes,Investigación
END:VEVENT
BEGIN:VEVENT
DTSTART;TZID=America/Argentina/Buenos_Aires:20201205T093000
DTEND;TZID=America/Argentina/Buenos_Aires:20201205T110000
DTSTAMP:20260422T010313
CREATED:20201129T222201Z
LAST-MODIFIED:20201201T130946Z
UID:39299-1607160600-1607166000@www.ucsf.edu.ar
SUMMARY:Habilidades digitales en la enseñanza de la metodología de la investigación
DESCRIPTION:SCTyE Nodo Posadas\nDelegado del Rector: Arq. Pablo Pachoud \nFacultad de Derecho y Ciencias Políticas \nDecano: Dr. Enrique Muller. \n Inscripciones en linea aqui\nHabilidades digitales en la enseñanza de la metodología de la investigación \nLa virtualidad como una oportunidad para pensar\, crear y diseñar nuevas estrategias educativas. \nDisertante: Mario Antonio Fioravante \nAbogado\, docente universitario y especialista en la creación\, diseño\, administración y tutorización de aulas virtuales. \nobjetivos: \n\ncompartir la experiencia del docente en la enseñanza de la Metodología de la Investigación en el segundo año de la carrera de Abogacía;\ncompartir estrategias educativas posibles en la enseñanza de la Metodología del Investigación; y\ncompartir actividades virtuales posibles que prioricen las habilidades del Siglo XXI en la enseñanza de la Metodología del Investigación.\n\nCV \nCurso virtual “Creación y Administración de Cursos Online”\, del Departamento de Desarrollo Humano\, Educación y Empleo (DHDEE) de la Organización de los Estados Americanos (OEA)\, (2019). \nCurso virtual “Formación en Tutorías Virtual 2.0 10ma. edición”\, del Departamento de Desarrollo Humano\, Educación y Empleo (DHDEE) de la Organización de los Estados Americanos (OEA)\, (2018). \nCurso virtual “Clases mediadas por TIC. Nuevos formatos para aulas virtuales”\, del Departamento de Teleformación de la Universidad Católica de Santa Fe\, (2018). \nCurso virtual “Diseño de propuestas educativas con modalidad a distancia virtual y blended learning”\, del Departamento de Teleformación de la Universidad Católica de Santa Fe (2017). \nCurso virtual “Formación de tutores para planificar y desarrollar cursos virtuales en la UCSF”\, Departamento de Teleformación de la Universidad Católica de Santa Fe (2017). \nCurso virtual “Prácticas Educativas Mediadas por Tecnologías”\, del Departamento de Teleformación de la Universidad Católica de Santa Fe (2016). \nAutodidacta en la creación\, diseño\, administración y tutorización de las aulas virtuales de Introducción al Derecho\, Taller I – Técnicas de razonamiento jurídico\, Taller II – Técnicas de Expresión Jurídica\, Introducción al Conocimiento y a la Investigación Científica y Filosofía del Derecho de la Facultad de Derecho y Ciencia Política\, Sede Santos Mártires \nUnirse a la reunión Zoom\nhttps://zoom.us/j/93273713122?pwd=dXBkMXZZMUxXV1hxMWJSM0dveFVaQT09 \nID de reunión: 932 7371 3122\nCódigo de acceso: 263393 \n  \nEn un contexto de cambio abrupto y vertiginoso es necesario repensar la figura del docente y preguntarse sin ambages ¿Quién debe ser el protagonista\, el actor principal\, del aprendizaje en un entorno no presencial? ¿Qué es importante que aprenda? ¿Contenidos o habilidades para manejar esos contenidos? \n \nTradicionalmente\, el paradigma de la educación se basó en el aprendizaje de contenidos (“aprender algo“); pero\, como estos contenidos quedan obsoletos en poco tiempo\, el paradigma de la educación del Siglo XXI pone énfasis en el desarrollo de habilidades y competencias multidimensionales (“aprender a actuar sobre algo“). \nLa creación y diseño de estrategias educativas debe priorizar el desarrollo de las denominadas “Habilidades del Siglo XXI“\, que pueden dividirse en cuatro categorías: formas de pensar (creatividad e innovación\, pensamiento crítico\, toma de decisiones\, resolución de problemas complejos y aprender cómo aprendemos)\, formas de trabajar (colaboración y comunicación)\, formas de vivir en el mundo (ciudadanía digital y responsabilidad personal y social) y aprendizajes y herramientas (alfabetización digital y alfabetización en el manejo de la información). \nLa virtualidad es un terreno propicio para la exploración de nuevos formatos y para el diseño de nuevas estrategias didácticas en la enseñanza de la metodología de la ciencia. Es una oportunidad única para desarrollar y aplicar estrategias que prioricen las “Habilidades del Siglo XXI. \nPero\, sólo puede ser una oportunidad\, con la condición de superar la concepción del aula virtual como “repositorio de materiales“\, que sólo trasmite contenidos y donde el protagonista es el docente\, para convertirse un espacio de actividades (e-actividades)\, que priorice el desarrollo de habilidades y competencias y donde el protagonista es el alumno. \nUna propuesta posible de enseñanza de la metodología de la ciencia es crear y diseñar un espacio (presencial o virtual) donde los alumnos aprendan indagando\, trabajando colaborativamente\, resolviendo problemas y creando y diseñando un proyecto. Es decir\, ayudándose con las estrategias didácticas de aprendizaje colaborativo\, por indagación\, basado en problemas y orientado en proyectos. \n 
URL:https://www.ucsf.edu.ar/evento/39299/
LOCATION:Santa Fe
CATEGORIES:Santa Fe,Rosario,Posadas,Reconquista,Rafaela,Gualeguaychú,Sedes,Investigación
END:VEVENT
BEGIN:VEVENT
DTSTART;TZID=America/Argentina/Buenos_Aires:20201205T093000
DTEND;TZID=America/Argentina/Buenos_Aires:20201205T110000
DTSTAMP:20260422T010313
CREATED:20201129T222201Z
LAST-MODIFIED:20201129T222201Z
UID:41655-1607160600-1607166000@www.ucsf.edu.ar
SUMMARY:Habilidades digitales en la enseñanza de la metodología de la investigación
DESCRIPTION:SCTyE Nodo Posadas\nDelegado del Rector: Arq. Pablo Pachoud \nFacultad de Derecho y Ciencias Políticas \nDecano: Dr. Enrique Muller. \n Inscripciones en linea aqui\nHabilidades digitales en la enseñanza de la metodología de la investigación \nLa virtualidad como una oportunidad para pensar\, crear y diseñar nuevas estrategias educativas. \nDisertante: Mario Antonio Fioravante \nAbogado\, docente universitario y especialista en la creación\, diseño\, administración y tutorización de aulas virtuales. \nobjetivos: \n\ncompartir la experiencia del docente en la enseñanza de la Metodología de la Investigación en el segundo año de la carrera de Abogacía;\ncompartir estrategias educativas posibles en la enseñanza de la Metodología del Investigación; y\ncompartir actividades virtuales posibles que prioricen las habilidades del Siglo XXI en la enseñanza de la Metodología del Investigación.\n\nCV \nCurso virtual “Creación y Administración de Cursos Online”\, del Departamento de Desarrollo Humano\, Educación y Empleo (DHDEE) de la Organización de los Estados Americanos (OEA)\, (2019). \nCurso virtual “Formación en Tutorías Virtual 2.0 10ma. edición”\, del Departamento de Desarrollo Humano\, Educación y Empleo (DHDEE) de la Organización de los Estados Americanos (OEA)\, (2018). \nCurso virtual “Clases mediadas por TIC. Nuevos formatos para aulas virtuales”\, del Departamento de Teleformación de la Universidad Católica de Santa Fe\, (2018). \nCurso virtual “Diseño de propuestas educativas con modalidad a distancia virtual y blended learning”\, del Departamento de Teleformación de la Universidad Católica de Santa Fe (2017). \nCurso virtual “Formación de tutores para planificar y desarrollar cursos virtuales en la UCSF”\, Departamento de Teleformación de la Universidad Católica de Santa Fe (2017). \nCurso virtual “Prácticas Educativas Mediadas por Tecnologías”\, del Departamento de Teleformación de la Universidad Católica de Santa Fe (2016). \nAutodidacta en la creación\, diseño\, administración y tutorización de las aulas virtuales de Introducción al Derecho\, Taller I – Técnicas de razonamiento jurídico\, Taller II – Técnicas de Expresión Jurídica\, Introducción al Conocimiento y a la Investigación Científica y Filosofía del Derecho de la Facultad de Derecho y Ciencia Política\, Sede Santos Mártires \nUnirse a la reunión Zoom\nhttps://zoom.us/j/93273713122?pwd=dXBkMXZZMUxXV1hxMWJSM0dveFVaQT09 \nID de reunión: 932 7371 3122\nCódigo de acceso: 263393 \n  \nEn un contexto de cambio abrupto y vertiginoso es necesario repensar la figura del docente y preguntarse sin ambages ¿Quién debe ser el protagonista\, el actor principal\, del aprendizaje en un entorno no presencial? ¿Qué es importante que aprenda? ¿Contenidos o habilidades para manejar esos contenidos? \n \nTradicionalmente\, el paradigma de la educación se basó en el aprendizaje de contenidos (“aprender algo“); pero\, como estos contenidos quedan obsoletos en poco tiempo\, el paradigma de la educación del Siglo XXI pone énfasis en el desarrollo de habilidades y competencias multidimensionales (“aprender a actuar sobre algo“). \nLa creación y diseño de estrategias educativas debe priorizar el desarrollo de las denominadas “Habilidades del Siglo XXI“\, que pueden dividirse en cuatro categorías: formas de pensar (creatividad e innovación\, pensamiento crítico\, toma de decisiones\, resolución de problemas complejos y aprender cómo aprendemos)\, formas de trabajar (colaboración y comunicación)\, formas de vivir en el mundo (ciudadanía digital y responsabilidad personal y social) y aprendizajes y herramientas (alfabetización digital y alfabetización en el manejo de la información). \nLa virtualidad es un terreno propicio para la exploración de nuevos formatos y para el diseño de nuevas estrategias didácticas en la enseñanza de la metodología de la ciencia. Es una oportunidad única para desarrollar y aplicar estrategias que prioricen las “Habilidades del Siglo XXI. \nPero\, sólo puede ser una oportunidad\, con la condición de superar la concepción del aula virtual como “repositorio de materiales“\, que sólo trasmite contenidos y donde el protagonista es el docente\, para convertirse un espacio de actividades (e-actividades)\, que priorice el desarrollo de habilidades y competencias y donde el protagonista es el alumno. \nUna propuesta posible de enseñanza de la metodología de la ciencia es crear y diseñar un espacio (presencial o virtual) donde los alumnos aprendan indagando\, trabajando colaborativamente\, resolviendo problemas y creando y diseñando un proyecto. Es decir\, ayudándose con las estrategias didácticas de aprendizaje colaborativo\, por indagación\, basado en problemas y orientado en proyectos. \n 
URL:https://www.ucsf.edu.ar/evento/39299-2/
LOCATION:Untitled\, Santa Fe\, Argentina
CATEGORIES:Santa Fe,Rosario,Posadas,Reconquista,Rafaela,Gualeguaychú,Sedes,Investigación
END:VEVENT
END:VCALENDAR