BEGIN:VCALENDAR
VERSION:2.0
PRODID:-//UCSF - Universidad Católica de Santa Fe - ECPv5.14.2.1//NONSGML v1.0//EN
CALSCALE:GREGORIAN
METHOD:PUBLISH
X-WR-CALNAME:UCSF - Universidad Católica de Santa Fe
X-ORIGINAL-URL:https://www.ucsf.edu.ar
X-WR-CALDESC:Events for UCSF - Universidad Católica de Santa Fe
REFRESH-INTERVAL;VALUE=DURATION:PT1H
X-Robots-Tag:noindex
X-PUBLISHED-TTL:PT1H
BEGIN:VTIMEZONE
TZID:America/Argentina/Buenos_Aires
BEGIN:STANDARD
TZOFFSETFROM:-0300
TZOFFSETTO:-0300
TZNAME:-03
DTSTART:20200101T000000
END:STANDARD
END:VTIMEZONE
BEGIN:VEVENT
DTSTART;TZID=America/Argentina/Buenos_Aires:20201209T093000
DTEND;TZID=America/Argentina/Buenos_Aires:20201209T130000
DTSTAMP:20260422T010253
CREATED:20201201T233119Z
LAST-MODIFIED:20201201T233302Z
UID:39475-1607506200-1607518800@www.ucsf.edu.ar
SUMMARY:JORNADA "MADERA Y ARQUITECTURA" co-organizada por la UCSF\, ENSAN y la Alianza Francesa de Rosario
DESCRIPTION:El próximo miércoles 9 de diciembre\, entre las 9.30 y las 13 horas\, la Facultad de Arquitectura\, junto con la Escuela de Arquectura Nacional Superior de Arquitectura de Nancy y la Alianza Francesa de Rosario\, desarrollarán una jornada virtual\, sumando una más de las diversas actividades internacionales generadas en aprovechamiento de las tecnologías y con miras al fortalecimiento de la internacionalización. \nEsta jornada se constituye como un espacio para dialogar sobre el estado de la arquitectura de base constructiva en madera\, tanto en Francia como en Argentina\, abriendo además\, un espacio para pensar sobre las posibilidades de los arquitectos para responder a las nuevas demandas sociales de espacio y hábitat post COVID. \nSe trata de una actividad no arancelada con inscripción previa aquí \nSe entregarán certificados de asistencia. \nTraducción simultánea y en vivo por:  \nMarcela Gianni\, Rosario \nGabriela Roveda Peluffo\, CABA \nA través del Instituto Francés en Argentina. \nMás información: internacional@ucsf.edu.ar \nDisertaciones: \n1 “Arquitectura de madera en Francia\, inventario”  \nDuración 30 minutos \n(9:30 hs Arg – 13h30 Fra) \nPonentes: Caroline Leloup\, arquitecta MCA ENSAN \nFranck Besancon\, arquitecto MC investigador ENSAN \n2 “Taller Madera\, una primera experiencia ENSAN + UCSF”  \nDuración 15 minutos \n(10:10 hs Arg – 14h10 Fra) \nPonente: Paul Corre\, arquitecto ENSAN / ENSTIB Master BOIS \n3 “Arquitectura de madera en Argentina\, una nueva generación de arquitectos”  \nDuración 15 minutos (10:40 hs Arg – 14h40 Fra) \nPonente: Arquitecto Matías Taborda\, docente UCSF\, sede Posadas. \n4 “Industria y tecnología de la madera en Misiones\, Argentina”  \nDuración 15 minutos \n(11:10 hs Arg – 15h10 Fra) \nPonente: Arquitecto Jorge Celano\, docente UCSF\, sede Posadas \n5 “Perspectivas de la enseñanza de la arquitectura de madera en Argentina”  \nDuración 20 minutos \n(11:40 hs Arg – 15h40 Fra) \nPonentes: Arquitecto Oreste Blangini\, docente UCSF\, sedes Santa Fe y Rafaela Arquitecto Julio Toledo\, docente UCSF\, sede Rosario Oreste: \n6 Mesa redonda FRANCIA – ARGENTINA  \nDuración 30 minutos \n(12:10 hs Arg – 16h10 Fra) \nModerada por: Arquitecto Gabriel Stivala\, docente UCSF\, sede Rosario. \nSe invita a los disertantes a responder preguntas formuladas en el chat o reforzar conceptos según el moderador.  \n \n 
URL:https://www.ucsf.edu.ar/evento/jornada-madera-y-arquitectura-co-organizada-por-la-ucsf-ensan-y-la-alianza-francesa-de-rosario/
LOCATION:Santa Fe
CATEGORIES:Internacional
END:VEVENT
BEGIN:VEVENT
DTSTART;TZID=America/Argentina/Buenos_Aires:20201209T093000
DTEND;TZID=America/Argentina/Buenos_Aires:20201209T130000
DTSTAMP:20260422T010253
CREATED:20201201T233119Z
LAST-MODIFIED:20201201T233119Z
UID:41659-1607506200-1607518800@www.ucsf.edu.ar
SUMMARY:JORNADA "MADERA Y ARQUITECTURA" co-organizada por la UCSF\, ENSAN y la Alianza Francesa de Rosario
DESCRIPTION:El próximo miércoles 9 de diciembre\, entre las 9.30 y las 13 horas\, la Facultad de Arquitectura\, junto con la Escuela de Arquectura Nacional Superior de Arquitectura de Nancy y la Alianza Francesa de Rosario\, desarrollarán una jornada virtual\, sumando una más de las diversas actividades internacionales generadas en aprovechamiento de las tecnologías y con miras al fortalecimiento de la internacionalización. \nEsta jornada se constituye como un espacio para dialogar sobre el estado de la arquitectura de base constructiva en madera\, tanto en Francia como en Argentina\, abriendo además\, un espacio para pensar sobre las posibilidades de los arquitectos para responder a las nuevas demandas sociales de espacio y hábitat post COVID. \nSe trata de una actividad no arancelada con inscripción previa aquí \nSe entregarán certificados de asistencia. \nTraducción simultánea y en vivo por:  \nMarcela Gianni\, Rosario \nGabriela Roveda Peluffo\, CABA \nA través del Instituto Francés en Argentina. \nMás información: internacional@ucsf.edu.ar \nDisertaciones: \n1 “Arquitectura de madera en Francia\, inventario”  \nDuración 30 minutos \n(9:30 hs Arg – 13h30 Fra) \nPonentes: Caroline Leloup\, arquitecta MCA ENSAN \nFranck Besancon\, arquitecto MC investigador ENSAN \n2 “Taller Madera\, una primera experiencia ENSAN + UCSF”  \nDuración 15 minutos \n(10:10 hs Arg – 14h10 Fra) \nPonente: Paul Corre\, arquitecto ENSAN / ENSTIB Master BOIS \n3 “Arquitectura de madera en Argentina\, una nueva generación de arquitectos”  \nDuración 15 minutos (10:40 hs Arg – 14h40 Fra) \nPonente: Arquitecto Matías Taborda\, docente UCSF\, sede Posadas. \n4 “Industria y tecnología de la madera en Misiones\, Argentina”  \nDuración 15 minutos \n(11:10 hs Arg – 15h10 Fra) \nPonente: Arquitecto Jorge Celano\, docente UCSF\, sede Posadas \n5 “Perspectivas de la enseñanza de la arquitectura de madera en Argentina”  \nDuración 20 minutos \n(11:40 hs Arg – 15h40 Fra) \nPonentes: Arquitecto Oreste Blangini\, docente UCSF\, sedes Santa Fe y Rafaela Arquitecto Julio Toledo\, docente UCSF\, sede Rosario Oreste: \n6 Mesa redonda FRANCIA – ARGENTINA  \nDuración 30 minutos \n(12:10 hs Arg – 16h10 Fra) \nModerada por: Arquitecto Gabriel Stivala\, docente UCSF\, sede Rosario. \nSe invita a los disertantes a responder preguntas formuladas en el chat o reforzar conceptos según el moderador.  \n \n 
URL:https://www.ucsf.edu.ar/evento/jornada-madera-y-arquitectura-co-organizada-por-la-ucsf-ensan-y-la-alianza-francesa-de-rosario-2/
LOCATION:Santa Fe
CATEGORIES:Internacional
END:VEVENT
BEGIN:VEVENT
DTSTART;TZID=America/Argentina/Buenos_Aires:20201209T190000
DTEND;TZID=America/Argentina/Buenos_Aires:20201209T203000
DTSTAMP:20260422T010253
CREATED:20201115T212020Z
LAST-MODIFIED:20201115T234256Z
UID:38997-1607540400-1607545800@www.ucsf.edu.ar
SUMMARY:CICLO DE CONFERENCIAS: Fuentes y tradiciones comunes a judíos y cristianos.
DESCRIPTION: Inscripciones en línea: Libre y Gratuito.\nSegunda conferencia:  \n“Fuentes y tradiciones de la cultura judía. Desde los tiempos bíblicos a la actualidad” \n \nDisertante: Prof. José Przepiorka \nEs el líder espiritual y seminarista de la comunidad Judía de Santa Fe. \nCursó sus estudios en la Mijlála Aron Bresler y en la Universidad Bar Ilan de Israel. \nEs profesor de Hebreo\, tradiciones y ciencias bíblicas. \nActualmente cursa sus estudios rabínicos en el Seminario Rabínico Latinoamericano Marshall Meyer. \nContenidos \nUn recorrido por la historia en orden a la comprensión de algunas prácticas. \nUnirse a la reunión Zoom\nhttps://zoom.us/j/99460524888?pwd=N000QXYwTnZHUStYMWwwV3hlRWQ4UT09 \nID de reunión: 994 6052 4888\nCódigo de acceso: 380404 \n 
URL:https://www.ucsf.edu.ar/evento/ciclo-de-conferencias-fuentes-y-tradiciones-comunes-a-judios-y-cristianos-2/
LOCATION:Santa Fe
CATEGORIES:PUA, Programa Universidad Abierta,Santa Fe,Rosario,Posadas,Reconquista,Rafaela,Gualeguaychú,Sedes,Investigación
END:VEVENT
BEGIN:VEVENT
DTSTART;TZID=America/Argentina/Buenos_Aires:20201209T190000
DTEND;TZID=America/Argentina/Buenos_Aires:20201209T203000
DTSTAMP:20260422T010253
CREATED:20201115T212020Z
LAST-MODIFIED:20201115T212020Z
UID:41650-1607540400-1607545800@www.ucsf.edu.ar
SUMMARY:CICLO DE CONFERENCIAS: Fuentes y tradiciones comunes a judíos y cristianos.
DESCRIPTION: Inscripciones en línea: Libre y Gratuito.\nSegunda conferencia:  \n“Fuentes y tradiciones de la cultura judía. Desde los tiempos bíblicos a la actualidad” \n \nDisertante: Prof. José Przepiorka \nEs el líder espiritual y seminarista de la comunidad Judía de Santa Fe. \nCursó sus estudios en la Mijlála Aron Bresler y en la Universidad Bar Ilan de Israel. \nEs profesor de Hebreo\, tradiciones y ciencias bíblicas. \nActualmente cursa sus estudios rabínicos en el Seminario Rabínico Latinoamericano Marshall Meyer. \nContenidos \nUn recorrido por la historia en orden a la comprensión de algunas prácticas. \nUnirse a la reunión Zoom\nhttps://zoom.us/j/99460524888?pwd=N000QXYwTnZHUStYMWwwV3hlRWQ4UT09 \nID de reunión: 994 6052 4888\nCódigo de acceso: 380404 \n 
URL:https://www.ucsf.edu.ar/evento/ciclo-de-conferencias-fuentes-y-tradiciones-comunes-a-judios-y-cristianos-2-2/
LOCATION:Untitled\, Santa Fe\, Argentina
CATEGORIES:PUA, Programa Universidad Abierta,Santa Fe,Rosario,Posadas,Reconquista,Rafaela,Gualeguaychú,Sedes,Investigación
END:VEVENT
BEGIN:VEVENT
DTSTART;TZID=America/Argentina/Buenos_Aires:20201211T090000
DTEND;TZID=America/Argentina/Buenos_Aires:20201211T103000
DTSTAMP:20260422T010253
CREATED:20201207T125134Z
LAST-MODIFIED:20201207T131811Z
UID:39509-1607677200-1607682600@www.ucsf.edu.ar
SUMMARY:Conociendo la Biblioteca Electrónica de Ciencia y Tecnología de la Nación - Mincyt
DESCRIPTION:Organizado conjuntamente por la Secretaria Académica y\nla Secretaria de Ciencia\, Técnica y Extensión.\n Inscripciones en linea aqui.\nConociendo la Biblioteca Electrónica Mincyt\nLa Biblioteca Electrónica de Ciencia y Tecnología brinda a los investigadores argentinos acceso\, desde las instituciones habilitadas\, a través de Internet al texto completo de 26.164 títulos de revistas científico-técnicas\, 22.719 libros\, 3.164 estándares\, 29.802 conferencias y congresos\, y a bases de datos referenciales de gran valor para la comunidad científica. \nExpositores: \nAna Alberdi.  \nDirectora de la Red de Bibliotecas UCSF. Centro de recursos de aprendizaje e investigación (CRAI) \nMa.Cecilia Palacios \nBibliotecaria egresada en  UNL.\n?️Estudiante de licenciatura en Bibliotecología y documentación de la UNDMP .\n?️Integrante de la red latinoamericana de mentoring y desarrollo profesional para bibliotecarios. “Bibliotecarios con Valor.”\n \nObjetivos:\nBrindar una introducción a la estructura y recursos científicos que ofrece Mincyt.\nConocer los recursos científicos que ofrece la biblioteca\n\nUnirse a la reunión Zoom\nhttps://zoom.us/j/96650060355?pwd=aDFMQ0llTm9zZWp4OFA3MmZsWGNYdz09ID de reunión: 966 5006 0355\nCódigo de acceso: 448056\n\n\n 
URL:https://www.ucsf.edu.ar/evento/conociendo-la-biblioteca-electronica-de-ciencia-y-tecnologia-de-la-nacion-mincyt/
LOCATION:Santa Fe
CATEGORIES:Facultades,Santa Fe,Rosario,Posadas,Reconquista,Gualeguaychú,Sedes,IEHDS Instituto de Ecología Humana y Desarrollo Sustentable,Investigación,Institutos,IIFCS Instituto de Investigación de la Facultad de Ciencias de la Salud
END:VEVENT
BEGIN:VEVENT
DTSTART;TZID=America/Argentina/Buenos_Aires:20201211T090000
DTEND;TZID=America/Argentina/Buenos_Aires:20201211T103000
DTSTAMP:20260422T010253
CREATED:20201207T125134Z
LAST-MODIFIED:20201207T125134Z
UID:41660-1607677200-1607682600@www.ucsf.edu.ar
SUMMARY:Conociendo la Biblioteca Electrónica de Ciencia y Tecnología de la Nación - Mincyt
DESCRIPTION:Organizado conjuntamente por la Secretaria Académica y\nla Secretaria de Ciencia\, Técnica y Extensión.\n Inscripciones en linea aqui.\nConociendo la Biblioteca Electrónica Mincyt\nLa Biblioteca Electrónica de Ciencia y Tecnología brinda a los investigadores argentinos acceso\, desde las instituciones habilitadas\, a través de Internet al texto completo de 26.164 títulos de revistas científico-técnicas\, 22.719 libros\, 3.164 estándares\, 29.802 conferencias y congresos\, y a bases de datos referenciales de gran valor para la comunidad científica. \nExpositores: \nAna Alberdi.  \nDirectora de la Red de Bibliotecas UCSF. Centro de recursos de aprendizaje e investigación (CRAI) \nMa.Cecilia Palacios \nBibliotecaria egresada en  UNL.\n🔷️Estudiante de licenciatura en Bibliotecología y documentación de la UNDMP .\n🔷️Integrante de la red latinoamericana de mentoring y desarrollo profesional para bibliotecarios. “Bibliotecarios con Valor.”\n \nObjetivos:\nBrindar una introducción a la estructura y recursos científicos que ofrece Mincyt.\nConocer los recursos científicos que ofrece la biblioteca\n\nUnirse a la reunión Zoom\nhttps://zoom.us/j/96650060355?pwd=aDFMQ0llTm9zZWp4OFA3MmZsWGNYdz09ID de reunión: 966 5006 0355\nCódigo de acceso: 448056\n\n\n 
URL:https://www.ucsf.edu.ar/evento/conociendo-la-biblioteca-electronica-de-ciencia-y-tecnologia-de-la-nacion-mincyt-2/
LOCATION:Santa Fe
CATEGORIES:Facultades,Santa Fe,Rosario,Posadas,Reconquista,Gualeguaychú,Sedes,IEHDS Instituto de Ecología Humana y Desarrollo Sustentable,Investigación,Institutos,IIFCS Instituto de Investigación de la Facultad de Ciencias de la Salud
END:VEVENT
BEGIN:VEVENT
DTSTART;TZID=America/Argentina/Buenos_Aires:20201212T093000
DTEND;TZID=America/Argentina/Buenos_Aires:20201212T110000
DTSTAMP:20260422T010253
CREATED:20201129T214515Z
LAST-MODIFIED:20201129T215546Z
UID:39284-1607765400-1607770800@www.ucsf.edu.ar
SUMMARY:Bioética de investigación. La experiencia del comité del Hospital JM Cullen
DESCRIPTION:  \n \n \n\nInscripciones en linea aqui\nBioética de investigación. La experiencia del comité del Hospital JM Cullen\nModerador: Dr. Pablo Dusso\nExpositores: Integrantes del CEI del hospital JM Cullen \nCV \nPresidente del Comité de Bioética del hospital J M Cullen \nMiembro de la “International Society for Vascular Surgery” \nDocente adjunto del módulo de cirugía vascular de la Carrera de Post Graduados en Cirugía General. Universidad Nacional de Rosario \n  \nUnirse a Zoom.\nhttps://zoom.us/j/93298580902?pwd=bWJxM3dGc2RhcXVHbzYwMGpPaTZNQT09 \nID de reunión: 932 9858 0902\nCódigo de acceso: 396029
URL:https://www.ucsf.edu.ar/evento/bioetica-de-investigacion-la-experiencia-del-comite-del-hospital-jm-cullen/
LOCATION:Santa Fe
CATEGORIES:Santa Fe,Rosario,Posadas,Reconquista,Rafaela,Gualeguaychú,Sedes,Investigación
END:VEVENT
BEGIN:VEVENT
DTSTART;TZID=America/Argentina/Buenos_Aires:20201212T093000
DTEND;TZID=America/Argentina/Buenos_Aires:20201212T110000
DTSTAMP:20260422T010253
CREATED:20201129T214515Z
LAST-MODIFIED:20201129T214515Z
UID:41654-1607765400-1607770800@www.ucsf.edu.ar
SUMMARY:Bioética de investigación. La experiencia del comité del Hospital JM Cullen
DESCRIPTION:  \n \n \n\nInscripciones en linea aqui\nBioética de investigación. La experiencia del comité del Hospital JM Cullen\nModerador: Dr. Pablo Dusso\nExpositores: Integrantes del CEI del hospital JM Cullen \nCV \nPresidente del Comité de Bioética del hospital J M Cullen \nMiembro de la “International Society for Vascular Surgery” \nDocente adjunto del módulo de cirugía vascular de la Carrera de Post Graduados en Cirugía General. Universidad Nacional de Rosario \n  \nUnirse a Zoom.\nhttps://zoom.us/j/93298580902?pwd=bWJxM3dGc2RhcXVHbzYwMGpPaTZNQT09 \nID de reunión: 932 9858 0902\nCódigo de acceso: 396029
URL:https://www.ucsf.edu.ar/evento/bioetica-de-investigacion-la-experiencia-del-comite-del-hospital-jm-cullen-2/
LOCATION:Untitled\, Santa Fe\, Argentina
CATEGORIES:Santa Fe,Rosario,Posadas,Reconquista,Rafaela,Gualeguaychú,Sedes,Investigación
END:VEVENT
END:VCALENDAR