BEGIN:VCALENDAR
VERSION:2.0
PRODID:-//UCSF - Universidad Católica de Santa Fe - ECPv5.14.2.1//NONSGML v1.0//EN
CALSCALE:GREGORIAN
METHOD:PUBLISH
X-WR-CALNAME:UCSF - Universidad Católica de Santa Fe
X-ORIGINAL-URL:https://www.ucsf.edu.ar
X-WR-CALDESC:Events for UCSF - Universidad Católica de Santa Fe
REFRESH-INTERVAL;VALUE=DURATION:PT1H
X-Robots-Tag:noindex
X-PUBLISHED-TTL:PT1H
BEGIN:VTIMEZONE
TZID:America/Argentina/Buenos_Aires
BEGIN:STANDARD
TZOFFSETFROM:-0300
TZOFFSETTO:-0300
TZNAME:-03
DTSTART:20200101T000000
END:STANDARD
END:VTIMEZONE
BEGIN:VEVENT
DTSTART;TZID=America/Argentina/Buenos_Aires:20201217T190000
DTEND;TZID=America/Argentina/Buenos_Aires:20201217T203000
DTSTAMP:20260422T010145
CREATED:20201201T180259Z
LAST-MODIFIED:20201201T180259Z
UID:41658-1608231600-1608237000@www.ucsf.edu.ar
SUMMARY:Reunión informativa: lanzamiento de la Licenciatura en Administración de Empresas Digitales
DESCRIPTION:Queremos invitarte\, en el marco del lanzamiento de la Licenciatura en Administración de Empresas Digitales (LAED)\, a participar de una reunión informativa en donde presentaremos la carrera y en la que podrás preguntar todo lo que necesites sobre esta nueva oferta educativa\, la primera 100 % a distancia de la Argentina y una de las pocas en América Latina\, sobre negocios digitales.  \nLa LAED es una carrera de cuatro años\, de la Universidad Católica de Santa Fe\, dirigida a generar profesionales especialistas tanto en el emprendedorismo como en la transformación digital de las empresas\, en donde podrás cursar asignaturas de administración y de habilidades digitales\, desde tu propia casa.  \nTe esperamos el jueves 17/12 a las 19 hs. Más abajo te copiamos el link de Zoom. \n  \nReunión informativa Licenciatura en Administración de Empresas Digitales\nHora: 17 dic 2020 07:00 PM Buenos Aires\, Georgetown\n\nUnirse a la reunión Zoom\nhttps://zoom.us/j/97117086836?pwd=Q0lzc1c1c3I3cmtlUDlQL1YzWm9zUT09\n\nID de reunión: 971 1708 6836\nCódigo de acceso: 721397
URL:https://www.ucsf.edu.ar/evento/reunion-informativa-lanzamiento-de-la-licenciatura-en-administracion-de-empresas-digitales-s-2-2/
LOCATION:Untitled\, Santa Fe\, Argentina
CATEGORIES:Graduados
END:VEVENT
BEGIN:VEVENT
DTSTART;TZID=America/Argentina/Buenos_Aires:20201217T190000
DTEND;TZID=America/Argentina/Buenos_Aires:20201217T203000
DTSTAMP:20260422T010145
CREATED:20201201T180259Z
LAST-MODIFIED:20201201T181728Z
UID:39444-1608231600-1608237000@www.ucsf.edu.ar
SUMMARY:Reunión informativa: lanzamiento de la Licenciatura en Administración de Empresas Digitales
DESCRIPTION:Queremos invitarte\, en el marco del lanzamiento de la Licenciatura en Administración de Empresas Digitales (LAED)\, a participar de una reunión informativa en donde presentaremos la carrera y en la que podrás preguntar todo lo que necesites sobre esta nueva oferta educativa\, la primera 100 % a distancia de la Argentina y una de las pocas en América Latina\, sobre negocios digitales.  \nLa LAED es una carrera de cuatro años\, de la Universidad Católica de Santa Fe\, dirigida a generar profesionales especialistas tanto en el emprendedorismo como en la transformación digital de las empresas\, en donde podrás cursar asignaturas de administración y de habilidades digitales\, desde tu propia casa.  \nTe esperamos el jueves 17/12 a las 19 hs. Más abajo te copiamos el link de Zoom. \n  \nReunión informativa Licenciatura en Administración de Empresas Digitales\nHora: 17 dic 2020 07:00 PM Buenos Aires\, Georgetown\n\nUnirse a la reunión Zoom\nhttps://zoom.us/j/97117086836?pwd=Q0lzc1c1c3I3cmtlUDlQL1YzWm9zUT09\n\nID de reunión: 971 1708 6836\nCódigo de acceso: 721397
URL:https://www.ucsf.edu.ar/evento/reunion-informativa-lanzamiento-de-la-licenciatura-en-administracion-de-empresas-digitales-s-2/
LOCATION:Santa Fe
CATEGORIES:Graduados
ORGANIZER;CN="Facultad%20de%20Ciencias%20Econ%C3%B3micas":MAILTO:gvelazquez@ucsf.edu.ar
END:VEVENT
BEGIN:VEVENT
DTSTART;TZID=America/Argentina/Buenos_Aires:20201218T160000
DTEND;TZID=America/Argentina/Buenos_Aires:20201218T173000
DTSTAMP:20260422T010145
CREATED:20201217T144929Z
LAST-MODIFIED:20201217T144929Z
UID:39651-1608307200-1608312600@www.ucsf.edu.ar
SUMMARY:Ceremonia virtual de Cuidado de la Creación y Cierre del Año Académico
DESCRIPTION:Programa: \n16 hs. Inicio formal. \nPalabras introductorias a cargo de Presidente del Directorio de la UCSF\, Dr. Armando De Feo (h) \n16:15. “Compromiso público de UCSF con la Creación”\, a cargo del Sr. Rector de la UCSF\, Mgter Eugenio Martin De Palma. \n16:30. Inicio de la Agenda Municipios sustentables – Curso De información Jurídica empresaria a cargo del Sr. Decano de la Facultad de Derecho y Ciencia Política\, Dr. Enrique Muller y la delegada UVT Posadas. \n16:45. Curso de Formación Jurídica Ambiental\, a cargo del Sr Vicerrector Académico de la UCSF\, Dr. Guillermo Kerz. \n17 hs. Palabras de cierre a cargo del Presidente del Directorio\, Dr. Armando DE FEO (h) \nLectura Oración por nuestra Tierra\, a cargo del Vicerrector de Formación\, Pbro. Lic. Carlos Hugo Scatizza. \n  \nUnirse a la reunión Zoom: https://zoom.us/j/91557516969?pwd=dkR3bGRDQVlqZjdEZWJ0TXd5OThCdz09 \nID de reunión: 915 5751 6969 \nCódigo de acceso: 498319
URL:https://www.ucsf.edu.ar/evento/ceremonia-virtual-de-cuidado-de-la-creacion-y-cierre-del-ano-academico/
LOCATION:Santa Fe
CATEGORIES:Home principal,Facultades,Santa Fe,Rosario,Posadas,Derecho y Ciencia Política,Reconquista,Rafaela,Gualeguaychú,Sedes
ORGANIZER;CN="Facultad%20de%20Derecho%20y%20Ciencia%20Pol%C3%ADtica%20-%20Sede%20Posadas":MAILTO:posadas@ucsf.edu.ar
END:VEVENT
BEGIN:VEVENT
DTSTART;TZID=America/Argentina/Buenos_Aires:20201218T160000
DTEND;TZID=America/Argentina/Buenos_Aires:20201218T173000
DTSTAMP:20260422T010145
CREATED:20201217T144929Z
LAST-MODIFIED:20201217T144929Z
UID:41661-1608307200-1608312600@www.ucsf.edu.ar
SUMMARY:Ceremonia virtual de Cuidado de la Creación y Cierre del Año Académico
DESCRIPTION:Programa: \n16 hs. Inicio formal. \nPalabras introductorias a cargo de Presidente del Directorio de la UCSF\, Dr. Armando De Feo (h) \n16:15. “Compromiso público de UCSF con la Creación”\, a cargo del Sr. Rector de la UCSF\, Mgter Eugenio Martin De Palma. \n16:30. Inicio de la Agenda Municipios sustentables – Curso De información Jurídica empresaria a cargo del Sr. Decano de la Facultad de Derecho y Ciencia Política\, Dr. Enrique Muller y la delegada UVT Posadas. \n16:45. Curso de Formación Jurídica Ambiental\, a cargo del Sr Vicerrector Académico de la UCSF\, Dr. Guillermo Kerz. \n17 hs. Palabras de cierre a cargo del Presidente del Directorio\, Dr. Armando DE FEO (h) \nLectura Oración por nuestra Tierra\, a cargo del Vicerrector de Formación\, Pbro. Lic. Carlos Hugo Scatizza. \n  \nUnirse a la reunión Zoom: https://zoom.us/j/91557516969?pwd=dkR3bGRDQVlqZjdEZWJ0TXd5OThCdz09 \nID de reunión: 915 5751 6969 \nCódigo de acceso: 498319
URL:https://www.ucsf.edu.ar/evento/ceremonia-virtual-de-cuidado-de-la-creacion-y-cierre-del-ano-academico-2/
LOCATION:Santa Fe
CATEGORIES:Home principal,Facultades,Santa Fe,Rosario,Posadas,Reconquista,Rafaela,Gualeguaychú,Sedes
ORGANIZER;CN="Facultad%20de%20Derecho%20y%20Ciencia%20Pol%C3%ADtica%20-%20Sede%20Posadas":MAILTO:posadas@ucsf.edu.ar
END:VEVENT
END:VCALENDAR