BEGIN:VCALENDAR
VERSION:2.0
PRODID:-//UCSF - Universidad Católica de Santa Fe - ECPv5.14.2.1//NONSGML v1.0//EN
CALSCALE:GREGORIAN
METHOD:PUBLISH
X-WR-CALNAME:UCSF - Universidad Católica de Santa Fe
X-ORIGINAL-URL:https://www.ucsf.edu.ar
X-WR-CALDESC:Events for UCSF - Universidad Católica de Santa Fe
REFRESH-INTERVAL;VALUE=DURATION:PT1H
X-Robots-Tag:noindex
X-PUBLISHED-TTL:PT1H
BEGIN:VTIMEZONE
TZID:America/Argentina/Buenos_Aires
BEGIN:STANDARD
TZOFFSETFROM:-0300
TZOFFSETTO:-0300
TZNAME:-03
DTSTART:20210101T000000
END:STANDARD
END:VTIMEZONE
BEGIN:VEVENT
DTSTART;TZID=America/Argentina/Buenos_Aires:20210225T100000
DTEND;TZID=America/Argentina/Buenos_Aires:20210225T120000
DTSTAMP:20260421T202114
CREATED:20210213T152749Z
LAST-MODIFIED:20210213T152749Z
UID:40245-1614247200-1614254400@www.ucsf.edu.ar
SUMMARY:Universidad Abierta: Seminario Web: Medición de contaminantes químicos en el aire
DESCRIPTION:Se encuentra abierta la inscripción para el Seminario Web: “Medición de contaminantes químicos en el aire”\, organizado por la “Universidad Abierta para la Casa Común” (UA)\, dependiente de la Secretaría de Ciencia y Técnica\, y Extensión de la UCSF. Edición Verano \nInscripción online aquí\nDisertantes: Dra. María Alejandra Canteros.  \nJueves 25 de febrero\, a las 10 hs. \nDe carácter gratuito. \nDestinatarios: público en general interesado en la temática; miembros de la Comunidad de la UCSF  y de otras Universidades e Instituciones. \nUnirse a la reunión Zoom \nhttps://zoom.us/j/93902762998?pwd=T2hVbURRQVV4UTYwT1d1TDJoNWlRdz09 \nID de reunión: 939 0276 2998 \nCódigo de acceso: 556062 \nObjetivos:  \nSensibilizar sobre la importancia de la calidad del aire en la salud pública e introducción a los métodos de evaluación de la misma.  \nReseña actividades. \nDra. María Alejandra Canteros \n \n  \n  \n  \n  \n  \n  \n  \n  \n  \n  \nCV abreviado \nBIOQUIMICA: Facultad de Bioquímica y Ciencias biológicas de la Universidad Nacional del Litoral (FBCB -UNL). Santa Fe. Argentina. \nTítulo homologado al título español de Licenciada en Bioquímica. \nMASTER EN ECOAUDITORIAS Y PROGRAMACION EMPRESARIAL DEL MEDIO AMBIENTE: Instituto de Investigaciones Ecológicas. Málaga. \nDOCTOR EN BIOQUIMICA. Facultad de Medicina de la Universidad de Oviedo. Principado de Asturias. España. \nProfesional Principal del Consejo Nacional de Investigaciones Científicas y Técnicas (CONICET). \nProfesor Titular en educación superior – universitaria. UNL\, FBCB – ESS\, Contaminación y Saneamiento del Aire. \nMiembro del IDICYT -UCSF. \n¡Los esperamos! \nContacto: nsturla@ucsf.edu.arultadultad
URL:https://www.ucsf.edu.ar/evento/universidad-para-la-casa-comun-seminario-web-medicion-de-contaminantes-quimicos-en-el-aire/
LOCATION:Santa Fe
CATEGORIES:PUA, Programa Universidad Abierta,Investigación,Institutos
END:VEVENT
BEGIN:VEVENT
DTSTART;TZID=America/Argentina/Buenos_Aires:20210225T180000
DTEND;TZID=America/Argentina/Buenos_Aires:20210225T193000
DTSTAMP:20260421T202114
CREATED:20210218T141336Z
LAST-MODIFIED:20210218T141336Z
UID:41664-1614276000-1614281400@www.ucsf.edu.ar
SUMMARY:Reunión Informativa Nuevos Profesorados Universitarios (Santa fe y zona)
DESCRIPTION:Se trata de los nuevos Profesorados en Enseñanza Superior en Historia\, Lengua o Filosofía de Institutos terciarios. Para solicitar la información de acceso a la reunión virtual\, contactarse a mballabeni@ucsf.edu.ar
URL:https://www.ucsf.edu.ar/evento/reunion-informativa-nuevos-profesorados-universitarios-santa-fe-y-zona/
LOCATION:Santa Fe
CATEGORIES:Facultades,Profesorado en Enseñanza Superior
END:VEVENT
BEGIN:VEVENT
DTSTART;TZID=America/Argentina/Buenos_Aires:20210227T093000
DTEND;TZID=America/Argentina/Buenos_Aires:20210227T110000
DTSTAMP:20260421T202114
CREATED:20210221T134744Z
LAST-MODIFIED:20210221T134744Z
UID:41667-1614418200-1614423600@www.ucsf.edu.ar
SUMMARY:Universidad Abierta para la casa Común. Webinar: ¿Qué es la medicina integrativa?
DESCRIPTION:Edición Verano \nSe encuentra abierta la inscripción para el Seminario Web: ¿Qué es la Medicina Integrativa? organizado por la “Universidad Abierta para la Casa Común” (UA)\, dependiente de la Secretaría de Ciencia y Técnica\, y Extensión de la UCSF.  \nLa Medicina Integrativa (M.I.) emerge en el mundo hace algunos años como un nuevo paradigma en salud\, no opuesto a la medicina convencional\, sino complementario y centrado en el ser humano llamado paciente. \nDisertante: Prof. Dr. Luis del Rio Diez \nDía: sábado 27 de febrero\, a las 9:30 hs. \nDestinatarios: profesionales y personal de la salud; público en general interesado en la temática; miembros de la Comunidad de la UCSF  y de otras Universidades e Instituciones. \nDe carácter gratuito \nInscripciones en línea aquí\nObjetivos: \nRealizar un recorrido por la historia de la Medicina Integrativa hasta nuestros días. \nDeterminar qué es y qué no es M.I. Qué saberes la componen\, de qué conocimientos y corrientes se nutre. \nMostrar  la aplicación de la M. I en el mundo y en qué centros de reconocido prestigio científico internacional se desarrolla\, poniendo énfasis en las bases y evidencias científicas que la respaldan. \nPlantear cuál podría ser el futuro de la M.I. dentro de los sistemas de salud existentes. \nVicerrectorado Académico le está invitando a una reunión de Zoom programada. \nUnirse a la reunión Zoom\nhttps://zoom.us/j/96889930820?pwd=dHE4RUM3aGdwTFRNQnRaMzFQMzR2dz09 \nID de reunión: 968 8993 0820\nCódigo de acceso: 597026 \nCV abreviado: Dr. Luis del Rio Diez \nMédico: Mat. 7969 (Colegio de Médicos de la Primera Circunscripción de la Prov. de Santa Fe)  \nEspecialista en Cirugía General. Carrera de Post Grado de la Facultad de Cs. Ms. de Rosario\, U.N.R. Especialista en Coloproctología  \nEspecialista en Medicina de Urgencia y Catástrofes. Profesor en Medicina (Pontificia Universidad Católica Argentina. U.C.A. sede Rosario). Formación en Planificación Estratégica Situacional en Salud\, Escuela de Salud Pública de Brasil. Fundación Oswaldo Cruz (F.I.O Cruz) Rio de Janeiro\, Brasil. Profesional Titulado y Homologado por la A.I.S. (Asociación internacional de Sintergética). Jefe del Servicio de Cirugía General del Hospital de Emergencias de Rosario\, Dr. Clemente Álvarez (HECA). Actualmente en Comisión de Servicios en el Ministerio de Salud de la Provincia de Santa Fe\, Dirección General de Promoción y Protección de la Salud\, ámbito del I.A.P.O.S\, para la formulación de programas\, protocolos y tareas de normalización. \n \nPara informes comunicarse vía E -Mail a nsturla@ucsf.edu.ar
URL:https://www.ucsf.edu.ar/evento/seminario-web-que-es-la-medicina-integrativa/
LOCATION:Untitled\, Santa Fe\, Argentina
CATEGORIES:Santa Fe,Facultades,Rosario,Ciencias de la Salud,Posadas,Reconquista,Rafaela,Gualeguaychú,Sedes,IEHDS Instituto de Ecología Humana y Desarrollo Sustentable,Investigación,Institutos,IIFCS Instituto de Investigación de la Facultad de Ciencias de la Salud
END:VEVENT
END:VCALENDAR