BEGIN:VCALENDAR
VERSION:2.0
PRODID:-//UCSF - Universidad Católica de Santa Fe - ECPv5.14.2.1//NONSGML v1.0//EN
CALSCALE:GREGORIAN
METHOD:PUBLISH
X-WR-CALNAME:UCSF - Universidad Católica de Santa Fe
X-ORIGINAL-URL:https://www.ucsf.edu.ar
X-WR-CALDESC:Events for UCSF - Universidad Católica de Santa Fe
REFRESH-INTERVAL;VALUE=DURATION:PT1H
X-Robots-Tag:noindex
X-PUBLISHED-TTL:PT1H
BEGIN:VTIMEZONE
TZID:America/Argentina/Buenos_Aires
BEGIN:STANDARD
TZOFFSETFROM:-0300
TZOFFSETTO:-0300
TZNAME:-03
DTSTART:20210101T000000
END:STANDARD
END:VTIMEZONE
BEGIN:VEVENT
DTSTART;TZID=America/Argentina/Buenos_Aires:20210304T180000
DTEND;TZID=America/Argentina/Buenos_Aires:20210304T193000
DTSTAMP:20260421T184101
CREATED:20210218T141453Z
LAST-MODIFIED:20210218T141453Z
UID:41665-1614880800-1614886200@www.ucsf.edu.ar
SUMMARY:Reunión Informativa Nuevos Profesorados Universitarios (Concordia y zona)
DESCRIPTION:Se trata de los nuevos Profesorados en Enseñanza Superior en Historia\, Lengua o Filosofía de Institutos terciarios. Para solicitar la información de acceso a la reunión virtual\, contactarse a mballabeni@ucsf.edu.ar
URL:https://www.ucsf.edu.ar/evento/reunion-informativa-nuevos-profesorados-universitarios-concordia-y-zona/
LOCATION:Santa Fe
CATEGORIES:Facultades,Profesorado en Enseñanza Superior
END:VEVENT
END:VCALENDAR