BEGIN:VCALENDAR
VERSION:2.0
PRODID:-//UCSF - Universidad Católica de Santa Fe - ECPv5.14.2.1//NONSGML v1.0//EN
CALSCALE:GREGORIAN
METHOD:PUBLISH
X-WR-CALNAME:UCSF - Universidad Católica de Santa Fe
X-ORIGINAL-URL:https://www.ucsf.edu.ar
X-WR-CALDESC:Events for UCSF - Universidad Católica de Santa Fe
REFRESH-INTERVAL;VALUE=DURATION:PT1H
X-Robots-Tag:noindex
X-PUBLISHED-TTL:PT1H
BEGIN:VTIMEZONE
TZID:America/Argentina/Buenos_Aires
BEGIN:STANDARD
TZOFFSETFROM:-0300
TZOFFSETTO:-0300
TZNAME:-03
DTSTART:20210101T000000
END:STANDARD
END:VTIMEZONE
BEGIN:VEVENT
DTSTART;TZID=America/Argentina/Buenos_Aires:20210309T080000
DTEND;TZID=America/Argentina/Buenos_Aires:20210309T170000
DTSTAMP:20260421T202048
CREATED:20210302T135909Z
LAST-MODIFIED:20210308T065106Z
UID:40555-1615276800-1615309200@www.ucsf.edu.ar
SUMMARY:Evento próximo
DESCRIPTION:bla bla bla
URL:https://www.ucsf.edu.ar/evento/evento-proximo/
LOCATION:UCSF Santa Fe\, Echagüe 7151\, Santa Fe\, Santa Fe\, Argentina
CATEGORIES:Arquitectura y Diseño,Facultades,Ciencias Agropecuarias,Derecho y Ciencia Política
ATTACH;FMTTYPE=image/jpeg:https://www.ucsf.edu.ar/wp-content/uploads/2020/12/comunidad-fondo-internacional.jpg
GEO:-31.6069451;-60.6709418
X-APPLE-STRUCTURED-LOCATION;VALUE=URI;X-ADDRESS=UCSF Santa Fe Echagüe 7151 Santa Fe Santa Fe Argentina;X-APPLE-RADIUS=500;X-TITLE=Echagüe 7151:geo:-60.6709418,-31.6069451
END:VEVENT
BEGIN:VEVENT
DTSTART;TZID=America/Argentina/Buenos_Aires:20210311T200000
DTEND;TZID=America/Argentina/Buenos_Aires:20210311T213000
DTSTAMP:20260421T202048
CREATED:20210218T141642Z
LAST-MODIFIED:20210311T124504Z
UID:41666-1615492800-1615498200@www.ucsf.edu.ar
SUMMARY:Reunión Informativa Nuevos Profesorados Universitarios (Rosario)
DESCRIPTION:Se trata de los nuevos Profesorados en Enseñanza Superior en Lengua o Filosofía de Institutos terciarios. Para solicitar la información de acceso a la reunión virtual\, contactarse a mballabeni@ucsf.edu.ar
URL:https://www.ucsf.edu.ar/evento/reunion-informativa-nuevos-profesorados-universitarios-rosario/
LOCATION:Santa Fe
CATEGORIES:Facultades,Profesorado en Enseñanza Superior
ATTACH;FMTTYPE=image/jpeg:https://www.ucsf.edu.ar/wp-content/uploads/2021/02/nuevas-carreras-historia_1-e1615466694141.jpg
END:VEVENT
BEGIN:VEVENT
DTSTART;TZID=America/Argentina/Buenos_Aires:20210312T180000
DTEND;TZID=America/Argentina/Buenos_Aires:20210312T190000
DTSTAMP:20260421T202048
CREATED:20210226T180521Z
LAST-MODIFIED:20210604T124959Z
UID:41668-1615572000-1615575600@www.ucsf.edu.ar
SUMMARY:Seminario Web: Finanzas para no financistas
DESCRIPTION:  \nLa Secretaría de Ciencia y Técnica\, y Extensión de la UCSF\, a través de la “Universidad Abierta para la Casa Común” en conjunto con la Asociación Docente de la Universidad Católica de Santa Fe (ADUCSF)\, la Asociación del Personal Universidad Católica (APUC) y la Pastoral Universitaria\, organizan el Seminario Web: “Finanzas Para No Financistas”. \n  \nDisertante: Lic. Roberto Pablo Buemo \nDía: viernes 12 de marzo\, de 18 a 19 hs. \nDestinatarios: personal docente y no docente de la UCSF\, público en general. \nValor de la entrada: un alimento no perecedero\, el que deberá ser entregado en la Pastoral Universitaria de cada sede de la UCSF o en mesa de entradas. \nInscripciones en línea aquí\nObjetivos:  \nAyudar a las personas a manejar sus finanzas en épocas inflacionarias. \nLograr controlar las finanzas. \nHacer crecer los ahorros familiares. \nhttps://www.google.com/url?q=https://zoom.us/j/95175947802?pwd%3Dc2RoZDNQZkJMMW0zeUxKZGVUVXU4Zz09&sa=D&source=calendar&usd=2&usg=AOvVaw3TC32m6ywk9OWJIc2pkVEv \nID de reunión: 951 7594 7802 \nCódigo de acceso: 720760 \nLic. en Administración: Roberto Pablo Buemo \n  \nCV abreviado \nLicenciado en Administración. Docente Universitario de Universidad Católica de Santa Fe en Facultad de Ciencias Económicas y Facultad de Arquitectura. Socio y administrador de estudio contable. Experiencia como asistente de gerencia. Curso de competencias digitales y formación docente. \n  \n¡Los esperamos! \nContacto: nsturla@ucsf.edu.ar
URL:https://www.ucsf.edu.ar/evento/seminario-web-finanzas-para-no-financistas/
LOCATION:Instituto de Derecho Penal
CATEGORIES:Facultades,PUA, Programa Universidad Abierta,Ciencias Económicas,Investigación,Institutos
ATTACH;FMTTYPE=image/jpeg:https://www.ucsf.edu.ar/wp-content/uploads/2021/02/Flyer-Finanzas-para-no-financistas-01-1-e1615466599882.jpg
END:VEVENT
END:VCALENDAR