BEGIN:VCALENDAR
VERSION:2.0
PRODID:-//UCSF - Universidad Católica de Santa Fe - ECPv5.14.2.1//NONSGML v1.0//EN
CALSCALE:GREGORIAN
METHOD:PUBLISH
X-WR-CALNAME:UCSF - Universidad Católica de Santa Fe
X-ORIGINAL-URL:https://www.ucsf.edu.ar
X-WR-CALDESC:Events for UCSF - Universidad Católica de Santa Fe
REFRESH-INTERVAL;VALUE=DURATION:PT1H
X-Robots-Tag:noindex
X-PUBLISHED-TTL:PT1H
BEGIN:VTIMEZONE
TZID:America/Argentina/Buenos_Aires
BEGIN:STANDARD
TZOFFSETFROM:-0300
TZOFFSETTO:-0300
TZNAME:-03
DTSTART:20210101T000000
END:STANDARD
END:VTIMEZONE
BEGIN:VEVENT
DTSTART;TZID=America/Argentina/Buenos_Aires:20210325T100000
DTEND;TZID=America/Argentina/Buenos_Aires:20210325T113000
DTSTAMP:20260421T154447
CREATED:20210316T223026Z
LAST-MODIFIED:20210323T132213Z
UID:42435-1616666400-1616671800@www.ucsf.edu.ar
SUMMARY:Presentación del libro "Los orígenes del Mesías de Israel" Adrián Taranzano
DESCRIPTION:La Secretaría de Ciencia y Técnica\, y Extensión a través de la “Universidad Abierta para la Casa Común”\, de la UCSF\, organizan la presentación del Libro: “Los Orígenes del Mesías de Israel”. Los relatos del nacimiento de Jesús. \n \nAutor – Disertante: Exégeta y Teólogo: Adrián Taranzano. \nPresentación a cargo del Padre: Domingo Alberto Bosio \nDía: jueves 25 de marzo\, a las 10 hs. \n Inscripciones\nDestinatarios: Público en general; Comunidad Universitaria de la UCSF y de otras Universidades e Instituciones. \nUnirse a la reunión Zoom https://zoom.us/j/99294354368?pwd=Yyt2a0luaWhjcjByblpxV0xNVDNidz09 \nID de reunión: 992 9435 4368 \nCódigo de acceso: 070062 \nFoto Adrián Taranzano \n \nCV. Abreviado \nEstudió en el Pontificio Istituto Biblico (2007-2010)\nEs licenciado en exégesis bíblica por el Pontificio Istituto Bíblico de Roma (Italia) y doctor en Teología por la Ludwig-Maximilian-Universität de Múnich (Alemania). En ambos centros europeos se ha graduado con la máxima calificación académica (Summa cum Laude) y en Alemania fue premiado con el Promotionspreis de la Münchener Universitätsgesellschaft (Förderpreis 2015). Ha publicado diversos trabajos científicos y de divulgación y actualmente se desempeña como docente de exégesis científica\, especialmente de Nuevo Testamento. Ha estudiado latín\, griego\, hebreo\, arameo y siríaco. Para el trabajo de investigación\, su conocimiento del inglés\, francés\, italiano y alemán le permite tener acceso a la bibliografía contemporánea más actualizada. \nPara informes comunicarse Vía E-mail a nsturla@ucsf.edu.ar \n 
URL:https://www.ucsf.edu.ar/evento/presentacion-del-libro-los-origenes-del-mesias-de-israel-adrian-taranzano/
LOCATION:Santa Fe
CATEGORIES:Alumnos,Santa Fe,Rosario,Becas,Posadas,Reconquista,Rafaela,Gualeguaychú,Investigación
END:VEVENT
BEGIN:VEVENT
DTSTART;TZID=America/Argentina/Buenos_Aires:20210325T120000
DTEND;TZID=America/Argentina/Buenos_Aires:20210325T130000
DTSTAMP:20260421T154447
CREATED:20210323T141024Z
LAST-MODIFIED:20210323T154148Z
UID:42650-1616673600-1616677200@www.ucsf.edu.ar
SUMMARY:Misa de Acción de Gracias por la declaración de Venerable del Dr. Jerome Lejeune
DESCRIPTION:El próximo jueves 25\, se desarrollará la Jornada por la Vida para conmemorar la Solemnidad de la Anunciación del Señor. \nPor ello\, en el marco de esa actividad\, a las 12 hs.\, en el hall de ingreso a la UCSF -Sede Santa Fe\, será la celebración de la misa en Acción de gracias al Señor por la “declaración de Venerable del Dr Jerome Lejeune”\, Patrono del Instituto de Bioética. \n \n 
URL:https://www.ucsf.edu.ar/evento/misa-de-accion-de-gracias-por-la-declaracion-de-venerable-del-dr-jerome-lejeune/
LOCATION:Santa Fe
CATEGORIES:IB Instituto de Bioética Jerome Lejeune
END:VEVENT
BEGIN:VEVENT
DTSTART;TZID=America/Argentina/Buenos_Aires:20210325T120000
DTEND;TZID=America/Argentina/Buenos_Aires:20210325T130000
DTSTAMP:20260421T154447
CREATED:20210324T040824Z
LAST-MODIFIED:20210324T040824Z
UID:42694-1616673600-1616677200@www.ucsf.edu.ar
SUMMARY:Misa de inicio de clases
DESCRIPTION:Este Jueves 25/3 a las 12 hs.\, en el hall central de la Universidad\, se celebrará la Misa de inicio del año lectivo. \nDurante la celebración pediremos a nuestro Padre por la canonización del siervo de Dios Jérôme Lejeune\, médico pediatra\, genetista y activista pro-vida. Habrá bendición de embarazadas; y finalizaremos la Misa bendiciendo la nueva imagen de María de Guadalupe.
URL:https://www.ucsf.edu.ar/evento/misa-de-inicio-de-clases/
LOCATION:Santa Fe
CATEGORIES:Vicerrectorado de Formación
END:VEVENT
BEGIN:VEVENT
DTSTART;TZID=America/Argentina/Buenos_Aires:20210325T160000
DTEND;TZID=America/Argentina/Buenos_Aires:20210325T173000
DTSTAMP:20260421T154447
CREATED:20210317T130133Z
LAST-MODIFIED:20210323T120414Z
UID:42454-1616688000-1616693400@www.ucsf.edu.ar
SUMMARY:Estrategias de la industria alimentaria para combatir el etiquetado frontal de alimentos en México
DESCRIPTION:El próximo jueves 25 de marzo a las 16 horas se desarrollará el webinar “Estrategias de la industrial alimentaria para combatir el etiquetado frontal delos alimentos en México: lecciones para América Latina”.\n\nLa implementación de políticas de regulación del etiquetado frontal en alimentos que indiquen de modo simple y claro al consumidor el contenido en exceso de grasas\, sal y azúcar ha encontrado resistencias por parte de la industria alimentaria para bloquear dichos intentos.\nRecientemente México ha implementado los sellos de advertencia y para ello debió sortear diferentes estrategias de interferencia que intentaron retrasar\, modificar o evitar su incorporación en la normativa nacional.\nLa experiencia de este país resulta relevante para el aprendizaje de la política de países latinoamericanos que tienen intenciones de imitar dichas políticas.\n\nEs por ello que el Instituto de Investigaciones de la Facultad de Ciencias de la Salud\, conjuntamente con el área de Cooperación Internacional de la UCSF ha generado esta iniciativa destinada a estudiantes\, profesores\, investigadores y público en general interesado en la temática.\n\nSe trata de una actividad sin costo\, con inscripción previa.
URL:https://www.ucsf.edu.ar/evento/estrategias-de-la-industria-alimentaria-para-combatir-el-etiquetado-frontal-de-alimentos-en-mexico/
LOCATION:UCSF Santa Fe\, Echagüe 7151\, Santa Fe\, Santa Fe\, Argentina
ATTACH;FMTTYPE=image/jpeg:https://www.ucsf.edu.ar/wp-content/uploads/2021/03/LEY-ETIQUETAS-FEED_1-copia-e1616500939929.jpg
GEO:-31.6069451;-60.6709418
X-APPLE-STRUCTURED-LOCATION;VALUE=URI;X-ADDRESS=UCSF Santa Fe Echagüe 7151 Santa Fe Santa Fe Argentina;X-APPLE-RADIUS=500;X-TITLE=Echagüe 7151:geo:-60.6709418,-31.6069451
END:VEVENT
BEGIN:VEVENT
DTSTART;TZID=America/Argentina/Buenos_Aires:20210326T180000
DTEND;TZID=America/Argentina/Buenos_Aires:20210326T193000
DTSTAMP:20260421T154447
CREATED:20210315T135032Z
LAST-MODIFIED:20210316T170734Z
UID:42122-1616781600-1616787000@www.ucsf.edu.ar
SUMMARY:Conferencia de Apertura de la Diplomatura Actualización Derecho de Daños - Segundo Semestre
DESCRIPTION:El día viernes 26 de marzo de 2021  a las 18 horas\, se realizará la conferencia de inauguración del segundo cuatrimestre de la “Diplomatura en Derecho de Daños. Aspectos Sustanciales y Procesales”\, organizada por la Facultad de Derecho y Ciencia Política y aprobada por Resolución de Rectorado N° 11.285. \nLa Diplomatura comenzó su dictado bajo la modalidad virtual en septiembre de 2020\, con más de 70 inscriptos y con clases a cargo de juristas de renombre regional\, nacional e internacional. \nLa conferencia estará a cargo del Dr. Adolfo Alvarado Velloso y se titula “Los principios de la prueba en el proceso de daños” \nInvitamos a todos a unirse a la conferencia\, la cual será de acceso libre. \nUnirse a la reunión Zoom \nhttps://zoom.us/j/92206389701?pwd=Z2taVUxFTURma3ZZcVhieHRDVHR5Zz09 \nDeseamos a quienes cursan la Diplomatura un fructífero cuatrimestre para todos\, que tendrá a los aspectos procesales del  Derecho de Daños como protagonista de nuestro estudio\, materializado en clases a cargo de especialistas en la materia. \n  \nLos esperamos. \n  \nDr. Enrique Müller (Director) \nDr. Cristian Werlen y Dr. Mario Barucca (Coordinadores) \n  \n  \n  \n  \n  \n 
URL:https://www.ucsf.edu.ar/evento/conferencia-de-apertura-de-la-diplomatura-actualizacion-derecho-de-danos-segundo-semestre/
LOCATION:UCSF Santa Fe\, Echagüe 7151\, Santa Fe\, Santa Fe\, Argentina
CATEGORIES:Abogacía,Santa Fe,Facultades,Carreras de Grado,Posadas,Reconquista,Derecho y Ciencia Política
ATTACH;FMTTYPE=image/jpeg:https://www.ucsf.edu.ar/wp-content/uploads/2020/08/DERECHO-DAÑOS-144176-1.jpg
GEO:-31.6069451;-60.6709418
X-APPLE-STRUCTURED-LOCATION;VALUE=URI;X-ADDRESS=UCSF Santa Fe Echagüe 7151 Santa Fe Santa Fe Argentina;X-APPLE-RADIUS=500;X-TITLE=Echagüe 7151:geo:-60.6709418,-31.6069451
END:VEVENT
END:VCALENDAR