BEGIN:VCALENDAR
VERSION:2.0
PRODID:-//UCSF - Universidad Católica de Santa Fe - ECPv5.14.2.1//NONSGML v1.0//EN
CALSCALE:GREGORIAN
METHOD:PUBLISH
X-WR-CALNAME:UCSF - Universidad Católica de Santa Fe
X-ORIGINAL-URL:https://www.ucsf.edu.ar
X-WR-CALDESC:Events for UCSF - Universidad Católica de Santa Fe
REFRESH-INTERVAL;VALUE=DURATION:PT1H
X-Robots-Tag:noindex
X-PUBLISHED-TTL:PT1H
BEGIN:VTIMEZONE
TZID:America/Argentina/Buenos_Aires
BEGIN:STANDARD
TZOFFSETFROM:-0300
TZOFFSETTO:-0300
TZNAME:-03
DTSTART:20210101T000000
END:STANDARD
END:VTIMEZONE
BEGIN:VEVENT
DTSTART;TZID=America/Argentina/Buenos_Aires:20210406T183000
DTEND;TZID=America/Argentina/Buenos_Aires:20210406T193000
DTSTAMP:20260421T202056
CREATED:20210329T033255Z
LAST-MODIFIED:20210329T125915Z
UID:42791-1617733800-1617737400@www.ucsf.edu.ar
SUMMARY:Misa Pascual en la Sede Santa Fe
DESCRIPTION:El Martes 6 de Abril celebramos en comunidad la “Misa Pascual”. \nLos esperamos a las 18:30 hs. en los jardines de la Universidad.
URL:https://www.ucsf.edu.ar/evento/misa-pascual/
LOCATION:UCSF Santa Fe\, Echagüe 7151\, Santa Fe\, Santa Fe\, Argentina
CATEGORIES:Vicerrectorado de Formación
ATTACH;FMTTYPE=image/jpeg:https://www.ucsf.edu.ar/wp-content/uploads/2021/03/misa-pascua-01-e1617022735889.jpg
GEO:-31.6069451;-60.6709418
X-APPLE-STRUCTURED-LOCATION;VALUE=URI;X-ADDRESS=UCSF Santa Fe Echagüe 7151 Santa Fe Santa Fe Argentina;X-APPLE-RADIUS=500;X-TITLE=Echagüe 7151:geo:-60.6709418,-31.6069451
END:VEVENT
BEGIN:VEVENT
DTSTART;TZID=America/Argentina/Buenos_Aires:20210409T173000
DTEND;TZID=America/Argentina/Buenos_Aires:20210409T190000
DTSTAMP:20260421T202056
CREATED:20210407T163056Z
LAST-MODIFIED:20210531T125845Z
UID:43021-1617989400-1617994800@www.ucsf.edu.ar
SUMMARY:Círculo de reflexión socio-eco-jurídica
DESCRIPTION:El Círculo de reflexión socio-eco-jurídica sirve de espacio de intercambio y análisis de textos actuales\, emblemáticos o disparadores sobre sobre problemáticas socio-eco-jurídicas actuales de nivel local\, regional y global. Funcionan como espacio para el intercambio y debate interdisciplinario\, dada la convocatoria de alumnos\, docentes\, investigadores y profesionales del derecho y de otras áreas\, tanto de la UCSF\, como de otras instituciones. Por ellos estos círculos son una rica fuente de inspiración para el trabajo y la producción escrita de los miembros del equipo\, y de toda aquella persona de buena voluntad que desee participar. \nObjetivo\n– Conocer debates actuales que articulan las materias social\, ecológica y jurídica.\n– Intercambiar perspectivas con otros académicos e interesados en estas temáticas.\n– Generar un espacio académico de encuentro e intercambio. \nMetodología\nCada encuentro un investigador presenta un texto disparador que abre el debate e intercambio sobre el tema de referencia. \n  \nTodos los viernes 17.30 hs. \nOrganizan: Integrantes de la Cátedra de Derecho Internacional Público y Derechos Humanos y Proyecto de Investigación “Derecho y Economía” \nContacto: epiva@ucsf.edu.ar \nDatos de acceso: meet.google.com/mqg-ohnx-vcw \nActividad libre.
URL:https://www.ucsf.edu.ar/evento/circulo-de-reflexion-socio-eco-juridica/2021-04-09/
LOCATION:Santa Fe
CATEGORIES:Abogacía,Investigación Ecojurídica,Alumnos,Facultades,Carreras de Grado,Docentes,Posadas,Derecho y Ciencia Política,Reconquista,Sedes,Licenciatura en Relaciones Internacionales,Martillero Público y Corredor Inmobiliario,Notariado,Procuración
ATTACH;FMTTYPE=image/jpeg:https://www.ucsf.edu.ar/wp-content/uploads/2021/04/Circulo-de-reflexion-socio-eco-juridica-2021-1676182.jpg
ORGANIZER;CN="Facultad%20de%20Derecho%20y%20Ciencia%20Pol%C3%ADtica%20-%20Sede%20Posadas":MAILTO:posadas@ucsf.edu.ar
END:VEVENT
BEGIN:VEVENT
DTSTART;TZID=America/Argentina/Buenos_Aires:20210409T180000
DTEND;TZID=America/Argentina/Buenos_Aires:20210409T190000
DTSTAMP:20260421T202056
CREATED:20210323T165854Z
LAST-MODIFIED:20210604T124524Z
UID:42669-1617991200-1617994800@www.ucsf.edu.ar
SUMMARY:3er. Seminario Web: Finanzas para no financistas
DESCRIPTION:La Secretaría de Ciencia y Técnica\, y Extensión de la UCSF\, a través del “ Programa Universidad Abierta para la Casa Común” en conjunto con la Asociación Docente de la Universidad Católica de Santa Fe (ADUCSF)\, la Asociación del Personal Universidad Católica (APUC) y la Pastoral Universitaria\, organizan este Ciclo de Seminarios Web: “Finanzas Para No Financistas”. \n \nDisertante: Lic. Roberto Pablo Buemo \nDía: viernes 9 de abril\, de 18 a 19 hs. \nDestinatarios: personal docente y no docente de la UCSF\, público en general. \nValor de la entrada para la Comunidad de la UCSF: un alimento no perecedero\, el que deberá ser entregado en la Pastoral Universitaria de cada sede de la UCSF o en mesa de entradas. \nInscripciones online AQUÍ\nLink de Zoom: \nUnirse a la reunión Zoom\nhttps://zoom.us/j/99572343020?pwd=dnpQY2wwZVd2NUpqaGh6ZE80aGlKdz09 \nID de reunión: 995 7234 3020\nCódigo de acceso: 521525 \nTemario:\nCriterios a tener en cuenta a la hora de adquirir un préstamo. Conceptos de TNA\, TEA y CFT. Sistemas de amortización. Distintas posibilidades de crédito. Tarjetas de crédito\, créditos para consumo\, créditos personales\, créditos prendarios y créditos hipotecarios. Costos asociados. \nCV abreviado: Pablo Buemo\nLicenciado en Administración. Docente Universitario de Universidad Católica de Santa Fe en Facultad de Ciencias Económicas y Facultad de Arquitectura. Socio y administrador de estudio contable. Experiencia como asistente de gerencia. Curso de competencias digitales y formación docente. \nPara informes\, contactarse vía mail a nsturla@ucsf.edu.ar \nLas inscripciones se realizan online a través de esta página.
URL:https://www.ucsf.edu.ar/evento/3er-seminario-web-finanzas-para-no-financistas/
LOCATION:Santa Fe
CATEGORIES:Facultades,Santa Fe,Rosario,Ciencias Económicas,Posadas,Reconquista,Rafaela,Gualeguaychú,Sedes,Investigación
ATTACH;FMTTYPE=image/jpeg:https://www.ucsf.edu.ar/wp-content/uploads/2021/03/Flyer-Finanzas-para-no-financistas-01-1-1-e1617022964609.jpg
END:VEVENT
BEGIN:VEVENT
DTSTART;TZID=America/Argentina/Buenos_Aires:20210409T180000
DTEND;TZID=America/Argentina/Buenos_Aires:20210409T210000
DTSTAMP:20260421T202056
CREATED:20210316T190251Z
LAST-MODIFIED:20210318T124043Z
UID:42423-1617991200-1618002000@www.ucsf.edu.ar
SUMMARY:Seminario web: Permiso ¿Podemos pasar? Las emociones en la escuela
DESCRIPTION:Seminario de Educación Emocional destinado a Docentes de Educación Inicial y Primaria\, a cargo de la Dra Laura Oitana\, la Lic Silvina Fantín y Prof. Aldana Abad \nSe realizarán los encuentros los días 9\,16 y 23 de abril \nTiene una carga total de 20 hs repartidas en tres módulos\, con modalidad virtual. \nLa pandemia del COVID-19 ha causado un fuerte impacto psicológico en la sociedad en general y en las instituciones educativas en particular. El cierre de escuelas\, jardines y de otros centros educativos\, la necesidad del distanciamiento físico\, la pérdida de seres queridos y en ocasiones del trabajo\, la experiencia de vivir aprendizajes y enseñanzas a través de pantallas\, han generado situaciones de estrés y sentimientos de ansiedad e incertidumbre en los docentes. En este contexto en el cual la incertidumbre es una constante\, se hacen visibles demandas relacionadas con niveles de flexibilidad y gestión de las emociones\, para adaptarse a los cambios y responder a ellos de la mejor manera y lograr así el bienestar personal.\n“Es indispensable potenciar el desarrollo emocional de los docentes para que luego ellos puedan ayudar a sus alumnos a ser emocionalmente más competentes. Tan sólo así podremos provocar un proceso de transformación en el contexto educativo creando entornos escolares más positivos y saludables. Y todo ello permitirá caminar hacia una\nsociedad más compasiva\, alegre\, satisfecha\, comprensiva y empática” Bisquerra (2015)
URL:https://www.ucsf.edu.ar/evento/permiso-podemos-pasar/
LOCATION:Santa Fe
CATEGORIES:Facultades,Carreras de Grado,Licenciatura en Gestión de la Educación (CCC),Filosofía y Humanidades,Licenciatura en Ciencias de la Comunicación,Licenciatura en Ciencias de la Educación,Licenciatura en Filosofía,Profesorado en Ciencias de la Educación,Profesorado en Educación Primaria
ATTACH;FMTTYPE=image/jpeg:https://www.ucsf.edu.ar/wp-content/uploads/2021/03/EDUCACION-EMOCIONAL-2-feed_2.jpg
END:VEVENT
END:VCALENDAR