BEGIN:VCALENDAR
VERSION:2.0
PRODID:-//UCSF - Universidad Católica de Santa Fe - ECPv5.14.2.1//NONSGML v1.0//EN
CALSCALE:GREGORIAN
METHOD:PUBLISH
X-WR-CALNAME:UCSF - Universidad Católica de Santa Fe
X-ORIGINAL-URL:https://www.ucsf.edu.ar
X-WR-CALDESC:Events for UCSF - Universidad Católica de Santa Fe
REFRESH-INTERVAL;VALUE=DURATION:PT1H
X-Robots-Tag:noindex
X-PUBLISHED-TTL:PT1H
BEGIN:VTIMEZONE
TZID:America/Argentina/Buenos_Aires
BEGIN:STANDARD
TZOFFSETFROM:-0300
TZOFFSETTO:-0300
TZNAME:-03
DTSTART:20210101T000000
END:STANDARD
END:VTIMEZONE
BEGIN:VEVENT
DTSTART;TZID=America/Argentina/Buenos_Aires:20210412T160000
DTEND;TZID=America/Argentina/Buenos_Aires:20210412T180000
DTSTAMP:20260421T202139
CREATED:20210327T164537Z
LAST-MODIFIED:20210329T111206Z
UID:42784-1618243200-1618250400@www.ucsf.edu.ar
SUMMARY:Inicio de los Talleres de Inglés
DESCRIPTION:El “Programa Universidad Abierta para la Casa Común”\, dependiente de la Secretaría de Ciencia y Técnica\, y Extensión\, de la UCSF\, comunica que se encuentran abiertas las inscripciones para los Talleres de Inglés\, en sus diferentes niveles. \n \nFundamentación: \nLa expansión global del conocimiento\, las investigaciones científicas y su aplicación tecnológica\, generan un intercambio internacional de información. Éste adquiere un sentido de inmediatez gracias a la globalización del flujo comunicacional y al avance de las comunicaciones electrónicas\, satelitales\, televisivas\, teleconferencias\, Internet\, etc.\, lo cual ha potenciado la importancia y el rol de las lenguas extranjeras\, a través de las redes informáticas.\nMás allá de esta perspectiva pragmática\, los investigadores de la educación reconocen que la capacidad de funcionar con otros códigos lingüísticos propicia el desarrollo de estrategias más diversificadas de pensamiento\, de conceptualización y categorización del mundo\, y ayuda a la persona a adquirir un pensamiento más flexible y autónomo\, además que ejercita al cerebro\, lo cual evidentemente es más que beneficioso. \nDocente: Teacher Eduardo Quintana \nComienzo de clases: \nLunes 12 de abril – Nivel inicial \nMartes 13 de abril – Nivel intermedio \nMiércoles 14 de abril – Nivel avanzado \n(Los horarios pueden ser adecuados consensuadamente de acuerdo a la disponibilidad de los participantes y del docente) \nDestinatarios: \n\nPúblico en general.\nPersonal docente\, no docente y alumnos de la UCSF (Abonan el 50%).\n\nObjetivos generales: \nAdquirir o refrescar el idioma\, para comprender la lectura de textos.\nDesarrollar la habilidad de exponer ideas con orden y claridad.\nConocer\, durante este proceso\, temas de interés general\, mundial y que posibiliten el diálogo crítico.\nPracticar la escucha\, a través de videos\, audios\, al propio docente\, lecturas en voz alta y conversaciones entre los participantes del Taller. \nObjetivos Particulares:\nQue los alumnos sean capaces de: \nComprender mediante la lectura y escucha de textos\, grabaciones y videos acerca de la cultura de los países de habla inglesa\, los que se relacionan con el vocabulario específico de los viajes al exterior (hotelería\, aeropuertos\, compras\, turismo\, etc.) y sobre todo aquellos temas de particular interés de los alumnos.\nRevisar y profundizar en el conocimiento de la lengua inglesa (grammar).\nDesarrollar competencias lingüísticas en inglés (oral\, aural\, writing\, reading skills).\nDesenvolverse en inglés\, con propiedad y corrección lingüística\, en situaciones comunes de la vida diaria.\nEmplear los conocimientos adquiridos en este Taller como herramienta que les permita mejorar otros conocimientos de su interés personal.\nUtilizar la lengua extranjera\, de forma oral y escrita\, con el fin de poderse comunicar con fluidez y corrección mediante el uso de estrategias adecuadas.\ng) Valorar la lengua extranjera como medio de acceso a otros conocimientos y a otras culturas\, y como medio de comunicación y entendimiento internacional en un mundo multicultural. \nInscripciones Inglés Nivel Básico \nInscripciones Inglés Nivel Intermedio\nInscripciones Inglés Nivel Avanzado\n  \nIMPORTANTE: el valor que se abona por cada entrada\, corresponde al cuatrimestre completo. \nPara consultas\, comunicarse via mail a nsturla@ucsf.edu.ar
URL:https://www.ucsf.edu.ar/evento/inscripciones-abiertas-talleres-de-ingles/
LOCATION:Santa Fe
CATEGORIES:Santa Fe,Rosario,Posadas,Reconquista,Rafaela,Gualeguaychú,Sedes,Investigación
ATTACH;FMTTYPE=image/jpeg:https://www.ucsf.edu.ar/wp-content/uploads/2021/03/3-TALLERES-INGLES-PUA-historia-01-e1617016187257.jpg
ORGANIZER;CN="PUA":MAILTO:nsturla@ucsf.edu.ar
END:VEVENT
BEGIN:VEVENT
DTSTART;TZID=America/Argentina/Buenos_Aires:20210413T160000
DTEND;TZID=America/Argentina/Buenos_Aires:20210413T163000
DTSTAMP:20260421T202139
CREATED:20210413T145118Z
LAST-MODIFIED:20210413T145118Z
UID:43209-1618329600-1618331400@www.ucsf.edu.ar
SUMMARY:Misas en la Capilla Universitaria
DESCRIPTION:Las Misas en la Capilla Universitaria se celebrarán todos los Martes y Jueves a las 16 hs. \nNo te olvides de usar siempre barbijo y mantener la distancia.
URL:https://www.ucsf.edu.ar/evento/misas-en-la-capilla-universitaria/
LOCATION:UCSF Santa Fe\, Echagüe 7151\, Santa Fe\, Santa Fe\, Argentina
CATEGORIES:Vicerrectorado de Formación
GEO:-31.6069451;-60.6709418
X-APPLE-STRUCTURED-LOCATION;VALUE=URI;X-ADDRESS=UCSF Santa Fe Echagüe 7151 Santa Fe Santa Fe Argentina;X-APPLE-RADIUS=500;X-TITLE=Echagüe 7151:geo:-60.6709418,-31.6069451
END:VEVENT
BEGIN:VEVENT
DTSTART;TZID=America/Argentina/Buenos_Aires:20210413T180000
DTEND;TZID=America/Argentina/Buenos_Aires:20210413T190000
DTSTAMP:20260421T202139
CREATED:20210413T014955Z
LAST-MODIFIED:20210604T124300Z
UID:43190-1618336800-1618340400@www.ucsf.edu.ar
SUMMARY:4to. Seminario Web: Finanzas para no financistas
DESCRIPTION:La Secretaría de Ciencia y Técnica\, y Extensión de la UCSF\, a través de la “Universidad Abierta para la Casa Común” en conjunto con la Asociación Docente de la Universidad Católica de Santa Fe (ADUCSF)\, la Asociación del Personal Universidad Católica (APUC) y la Pastoral Universitaria\, organizan el Ciclo de Seminarios Web: “Finanzas Para No Financistas”. \n \nDisertante: Lic. Roberto Pablo Buemo \nDía: martes 13 de abril\, de 18 a 19 hs. \nDestinatarios: personal docente y no docente de la UCSF\, público en general. \nValor de la entrada: un alimento no perecedero\, el que deberá ser entregado en la Pastoral Universitaria de cada sede de la UCSF o en mesa de entradas. \nInscripciones AQUÍ\n  \nTemario del 4to. Seminario \nClase 4. El dilema de comprar a crédito o de contado. Las compras a crédito en un contexto inflacionario. Funcionamiento de las tarjetas de crédito\, su pago mínimo. Conveniencia o no de poseer más de una tarjeta de crédito. Promociones de bancos y supermercados. Uso de la tarjeta de débito para ahorrar. \nUnirse a la reunión Zoom\nhttps://zoom.us/j/91532155903?pwd=bzlzamQ5YnBFSVZCU2FiamkwcFFvZz09 \nID de reunión: 915 3215 5903\nCódigo de acceso: 397043 \nCV abreviado\nLicenciado en Administración. Docente Universitario de Universidad Católica de Santa Fe en Facultad de Ciencias Económicas y Facultad de Arquitectura. Socio y administrador de estudio contable. Experiencia como asistente de gerencia. Curso de competencias digitales y formación docente. \nContacto: nsturla@ucsf.edu.ar
URL:https://www.ucsf.edu.ar/evento/43190/
LOCATION:UCSF Santa Fe\, Echagüe 7151\, Santa Fe\, Santa Fe\, Argentina
CATEGORIES:Santa Fe,Facultades,Rosario,Ciencias Económicas,Posadas,Reconquista,Rafaela,Gualeguaychú,Sedes,Investigación
GEO:-31.6069451;-60.6709418
X-APPLE-STRUCTURED-LOCATION;VALUE=URI;X-ADDRESS=UCSF Santa Fe Echagüe 7151 Santa Fe Santa Fe Argentina;X-APPLE-RADIUS=500;X-TITLE=Echagüe 7151:geo:-60.6709418,-31.6069451
END:VEVENT
BEGIN:VEVENT
DTSTART;TZID=America/Argentina/Buenos_Aires:20210415T180000
DTEND;TZID=America/Argentina/Buenos_Aires:20210415T200000
DTSTAMP:20260421T202139
CREATED:20210407T170633Z
LAST-MODIFIED:20210408T161612Z
UID:43062-1618509600-1618516800@www.ucsf.edu.ar
SUMMARY:Conferencia Inaugural Diplomatura en Derecho Penal y Procesal Penal - Segunda Edición
DESCRIPTION:En el marco de la Diplomatura en derecho penal y procesal penal. “Discusiones actuales en un estado de derecho constitucional democrático” Segunda edición. \nOrganiza: Facultad de Derecho y Ciencia Política – Universidad Católica de Santa Fe. \nModalidad: Virtual \nDirectora Académica: Dra. Jaquelina Ana Balangione \nJORNADA DE APERTURA:  Conferencias: \nDra. Jaquelina Ana Balangione (Defensora Provincial) \nDaniel Erbetta Ministro de la Corte Suprema de Justicia de Santa Fe).\n 
URL:https://www.ucsf.edu.ar/evento/conferencia-inaugural-diplomatura-derecho-penal-segunda-edicion/
LOCATION:Santa Fe
CATEGORIES:Abogacía,Santa Fe,Facultades,Carreras de Grado,Posadas,Reconquista,Derecho y Ciencia Política,Sedes,Licenciatura en Relaciones Internacionales,Martillero Público y Corredor Inmobiliario,Notariado,Procuración
ATTACH;FMTTYPE=image/jpeg:https://www.ucsf.edu.ar/wp-content/uploads/2021/04/DIPLOMATURA-PENAL-2021-012.jpg
ORGANIZER;CN="Facultad%20de%20Derecho%20y%20Ciencia%20Pol%C3%ADtica%20-%20Sede%20Posadas":MAILTO:posadas@ucsf.edu.ar
END:VEVENT
BEGIN:VEVENT
DTSTART;TZID=America/Argentina/Buenos_Aires:20210415T184000
DTEND;TZID=America/Argentina/Buenos_Aires:20210415T203000
DTSTAMP:20260421T202139
CREATED:20210407T183103Z
LAST-MODIFIED:20210407T183103Z
UID:43071-1618512000-1618518600@www.ucsf.edu.ar
SUMMARY:Visitamos a Ntra. Sra. de Guadalupe\, Patrona de nuestra Casa
DESCRIPTION:El próximo Jueves 15 de Abril\, a las 18:40 hs.\, nos reuniremos en el hall central de la Universidad para salir en procesión hasta la Basílica “Nuestra Señora de Guadalupe”\, donde participaremos como comunidad de la Novena y Misa en honor de nuestra Madre.
URL:https://www.ucsf.edu.ar/evento/visitamos-a-ntra-sra-de-guadalupe-patrona-de-nuestra-casa/
LOCATION:Santa Fe
CATEGORIES:Vicerrectorado de Formación
END:VEVENT
BEGIN:VEVENT
DTSTART;TZID=America/Argentina/Buenos_Aires:20210416T150000
DTEND;TZID=America/Argentina/Buenos_Aires:20210416T200000
DTSTAMP:20260421T202139
CREATED:20210302T153756Z
LAST-MODIFIED:20210318T124557Z
UID:41669-1618585200-1618603200@www.ucsf.edu.ar
SUMMARY:Diplomatura en Bioética
DESCRIPTION:La finalidad de esta diplomatura es capacitar en el conocimiento de la Bioética y en el análisis racional de la dimensión ética del desarrollo científico y médico\, de forma que respete los valores inherentes a la persona humana\, la verdad integral sobre el hombre y el mundo. Iniciar así una preparación para abordar dilemas bioéticos en relación con los adelantos biotecnológicos que involucran especialmente a la vida humana.
URL:https://www.ucsf.edu.ar/evento/diplomatura-en-bioetica/
LOCATION:UCSF Santa Fe\, Echagüe 7151\, Santa Fe\, Santa Fe\, Argentina
CATEGORIES:IB Instituto de Bioética Jerome Lejeune,Institutos
ATTACH;FMTTYPE=image/jpeg:https://www.ucsf.edu.ar/wp-content/uploads/2021/03/DIPLOMATURA-EN-BIOETICA-2021-feed-01-e1615466517405.jpg
ORGANIZER;CN="Instituto%20de%20Bio%C3%A9tica%20%22J%C3%A8r%C3%B4me%20Lejeune%22":MAILTO:bioetica@ucsf.edu.ar
GEO:-31.6069451;-60.6709418
X-APPLE-STRUCTURED-LOCATION;VALUE=URI;X-ADDRESS=UCSF Santa Fe Echagüe 7151 Santa Fe Santa Fe Argentina;X-APPLE-RADIUS=500;X-TITLE=Echagüe 7151:geo:-60.6709418,-31.6069451
END:VEVENT
END:VCALENDAR