BEGIN:VCALENDAR
VERSION:2.0
PRODID:-//UCSF - Universidad Católica de Santa Fe - ECPv5.14.2.1//NONSGML v1.0//EN
CALSCALE:GREGORIAN
METHOD:PUBLISH
X-WR-CALNAME:UCSF - Universidad Católica de Santa Fe
X-ORIGINAL-URL:https://www.ucsf.edu.ar
X-WR-CALDESC:Events for UCSF - Universidad Católica de Santa Fe
REFRESH-INTERVAL;VALUE=DURATION:PT1H
X-Robots-Tag:noindex
X-PUBLISHED-TTL:PT1H
BEGIN:VTIMEZONE
TZID:America/Argentina/Buenos_Aires
BEGIN:STANDARD
TZOFFSETFROM:-0300
TZOFFSETTO:-0300
TZNAME:-03
DTSTART:20210101T000000
END:STANDARD
END:VTIMEZONE
BEGIN:VEVENT
DTSTART;TZID=America/Argentina/Buenos_Aires:20210420T140000
DTEND;TZID=America/Argentina/Buenos_Aires:20210420T150000
DTSTAMP:20260421T154526
CREATED:20210415T131337Z
LAST-MODIFIED:20210415T160552Z
UID:43267-1618927200-1618930800@www.ucsf.edu.ar
SUMMARY:Conversionales con Andrés Malamud: el Mercosur
DESCRIPTION:Desde el Observatorio de Política Internacional de la Facultad de Derecho y Ciencia Política invitamos a la comunidad académica a participar de una nueva edición de nuestro Ciclo “Conversionales”\, esta vez para hablar sobre los procesos de integración en la región y con un invitado muy especial: Andrés Malamud\, Licenciado en Ciencias Políticas por la UBA\, Doctor en Ciencias Sociales y Políticas e investigador de la Universidad de Portugal. \nEl encuentro virtual será moderado por la coordinadora del Observatorio\, Lic Lucía Mayo y tendrá lugar el día martes 20 de abril a las 14 hs. \nPara participar\, se debe acceder desde el perfil de Instagram: @opi.ucsf \nMás información: obs.internacional@ucsf.edu.ar
URL:https://www.ucsf.edu.ar/evento/conversionales-con-andres-malamud-el-mercosur/
LOCATION:UCSF Santa Fe\, Echagüe 7151\, Santa Fe\, Santa Fe\, Argentina
CATEGORIES:OPI - Observatorio de Política Internacional
ATTACH;FMTTYPE=image/png:https://www.ucsf.edu.ar/wp-content/uploads/2021/04/Sin-título.png
ORGANIZER;CN="Observatorio%20de%20Pol%C3%ADtica%20Internacional":MAILTO:obs.internacional@ucsf.edu.ar
GEO:-31.6069451;-60.6709418
X-APPLE-STRUCTURED-LOCATION;VALUE=URI;X-ADDRESS=UCSF Santa Fe Echagüe 7151 Santa Fe Santa Fe Argentina;X-APPLE-RADIUS=500;X-TITLE=Echagüe 7151:geo:-60.6709418,-31.6069451
END:VEVENT
BEGIN:VEVENT
DTSTART;TZID=America/Argentina/Buenos_Aires:20210420T180000
DTEND;TZID=America/Argentina/Buenos_Aires:20210420T190000
DTSTAMP:20260421T154526
CREATED:20210419T141542Z
LAST-MODIFIED:20210604T124116Z
UID:43353-1618941600-1618945200@www.ucsf.edu.ar
SUMMARY:5to. y 6to. Seminarios Web "Finanzas para no financistas"
DESCRIPTION:La Secretaría de Ciencia y Técnica\, y Extensión de la UCSF\, a través del  “Programa Universidad Abierta” en conjunto con la Asociación Docente de la Universidad Católica de Santa Fe (ADUCSF)\, la Asociación del Personal Universidad Católica (APUC) y la Pastoral Universitaria\, organizan el Ciclo de Seminarios Web: “Finanzas Para No Financistas”. \n \nDisertante: Lic. Roberto Pablo Buemo \nDías: martes 20 y 27 de abril\, de 18 a 19 hs. \nDestinatarios: personal docente y no docente de la UCSF\, público en general. \nValor de la entrada: un alimento no perecedero\, el que deberá ser entregado en la Pastoral Universitaria de cada sede de la UCSF o en mesa de entradas. \nInscripciones 5to y 6to. Seminario \nTemario del 5to. Seminario:\nEl ahorro. Razones para ahorrar. Qué hacer con el dinero que se ahorra. Elementos a\ntener en cuenta: Rendimiento\, riesgo y plazos. \nUnirse a la reunión Zoom https://zoom.us/j/93153044508?pwd=N09xZXduazBJQzc2LytDQUJkLzdpdz09 \nID de reunión: 931 5304 4508 \nCódigo de acceso: 449022 \nTemario del 6to.Seminario:\nAhorro en un contexto inflacionario. Inversiones financieras: Plazo fijo tradicional\,\nplazo fijo UVA\, plazo fijo UVA pre cancelable y fondo común de inversión. \nUnirse a la reunión Zoom\nhttps://zoom.us/j/98290635331?pwd=M0R5UUFDc2tCS1d6UDhnQ01talI4Zz09 \nID de reunión: 982 9063 5331\nCódigo de acceso: 878253 \nInscripciones online 5to. y 6to. Seminarios\, en el link de abajo:\nhttps://www.eventbrite.com.ar/e/5to-y-6to-seminarios-web-finanzas-para-no-financistas-tickets-151489060859?aff=Inscripciones \n  \nCV abreviado \nLicenciado en Administración. Docente Universitario de Universidad Católica de Santa Fe en Facultad de Ciencias Económicas y Facultad de Arquitectura. Socio y administrador de estudio contable. Experiencia como asistente de gerencia. Curso de competencias digitales y formación docente. \nContacto: nsturla@ucsf.edu.ar
URL:https://www.ucsf.edu.ar/evento/5to-y-6to-seminarios-web-finanzas-para-no-financistas/
LOCATION:UCSF Santa Fe\, Echagüe 7151\, Santa Fe\, Santa Fe\, Argentina
CATEGORIES:Facultades,Santa Fe,Rosario,Ciencias Económicas,Posadas,Reconquista,Rafaela,Gualeguaychú,Sedes,Investigación
ORGANIZER;CN="Vicerrectorado%20de%20Formaci%C3%B3n":MAILTO:vrecform@ucsf.edu.ar
GEO:-31.6069451;-60.6709418
X-APPLE-STRUCTURED-LOCATION;VALUE=URI;X-ADDRESS=UCSF Santa Fe Echagüe 7151 Santa Fe Santa Fe Argentina;X-APPLE-RADIUS=500;X-TITLE=Echagüe 7151:geo:-60.6709418,-31.6069451
END:VEVENT
BEGIN:VEVENT
DTSTART;TZID=America/Argentina/Buenos_Aires:20210421T170000
DTEND;TZID=America/Argentina/Buenos_Aires:20210721T190000
DTSTAMP:20260421T154526
CREATED:20210407T144634Z
LAST-MODIFIED:20210701T124240Z
UID:43001-1619024400-1626894000@www.ucsf.edu.ar
SUMMARY:Taller: Abriendo Futuro a través de la Historia y el Folklore Nacional
DESCRIPTION:“El Programa Universidad Abierta para la Casa Común” dependiente de la Secretaría de Ciencia y Técnica\, y Extensión\, comunica que se encuentra abierta la inscripción al Taller anual: “Abriendo Futuro a través de la Historia y el Folklore Nacional”. \nEn dicho Taller\, se abordarán los autores y/o personajes\, desarrollándose aspectos vinculados al contexto histórico de sus obras\, detalles de sus vidas y pensamiento\, trabajándose en cada caso con archivos de Power Point.\nAdemás\, se interpretarán temas musicales elaborados por cada uno de estos autores\, o aquellas canciones que\, sin ser de su autoría\, son identificables con cada intérprete.\nSe trata\, sin más\, de un acto educativo no estandarizado\, con un organización académica que procura analizar las diferencias entre algunos de los autores fundacionales del folklore nacional\, actualizando algunos de los debates propuestos en sus obras. \nEl presente espacio académico-musical\, es además una propuesta que tiene por finalidad trabajar las diversas funciones de la memoria a través de imágenes\, canciones e historias. \nDocente: Dr. Víctor Hadad \nComienzo de clases: día miércoles 21 de abril\, de 17 a 19 hs. \nDestinatarios: público en general\, personal docente\, no docente y alumnos de la UCSF y de otras Instituciones Educativas y Universidades. \nModalidad: semi-presencial \nCursado: dos cuatrimestres \nINSCRIPCIÓN ONLINE AQUÍ\n  \n  \nDr. Víctor Hadad \n \nCV Abreviado \nIntegrante del dúo folklórico KALLPA YAKU y autor del libro YAPUY (microrrelatos políticos y culturales). \nEntre otros antecedentes\, fue: \nDirector Provincial de Entes Portuarios y Túnel Subfluvial del Ministerio de Aguas\, Servicios Públicos y Medio Ambiente de la Provincia de Santa Fe (Decreto del Poder Ejecutivo Provincial nro 516/2011) – Enero 2012 /Diciembre 2015\nIntegrante del Grupo de Expertos para el estudio del nuevo enlace físico del Area Metropolitana Santa Fe – Paraná (Decreto del Poder Ejecutivo Provincial Nro 003/2012)\nDirector Representante por el Gobierno de la Provincia de Santa Fe en el Ente Interprovincial Túnel Subfluvial Raúl Uranga Carlos Sylvestre Begnis (setiembre 2009/octubre 2010) – Decreto del Poder Ejecutivo Provincial Nro. 1537/09\nColaborador en el Proyecto Puente – Parque Cultura del Río (Gobierno de la Provincia de Santa Fe)\nAsesor legal Representación Santa Fe – Ente Interprovincial Túnel Subfluvial Raúl Uranga Carlos Sylvestre Begnis (enero 2008/agosto 2009) \nPara informes comunicarse vía E-mail a nsturla@ucsf.edu.ar \nLas inscripciones se realizan online a través del link ut-supra
URL:https://www.ucsf.edu.ar/evento/nuevo-taller-abriendo-futuro-a-traves-de-la-historia-y-el-folklore-nacional/
LOCATION:Santa Fe
CATEGORIES:Santa Fe,Rosario,Posadas,Reconquista,Rafaela,Gualeguaychú,Sedes
ORGANIZER;CN="PUA":MAILTO:nsturla@ucsf.edu.ar
END:VEVENT
END:VCALENDAR