BEGIN:VCALENDAR
VERSION:2.0
PRODID:-//UCSF - Universidad Católica de Santa Fe - ECPv5.14.2.1//NONSGML v1.0//EN
CALSCALE:GREGORIAN
METHOD:PUBLISH
X-WR-CALNAME:UCSF - Universidad Católica de Santa Fe
X-ORIGINAL-URL:https://www.ucsf.edu.ar
X-WR-CALDESC:Events for UCSF - Universidad Católica de Santa Fe
REFRESH-INTERVAL;VALUE=DURATION:PT1H
X-Robots-Tag:noindex
X-PUBLISHED-TTL:PT1H
BEGIN:VTIMEZONE
TZID:America/Argentina/Buenos_Aires
BEGIN:STANDARD
TZOFFSETFROM:-0300
TZOFFSETTO:-0300
TZNAME:-03
DTSTART:20210101T000000
END:STANDARD
END:VTIMEZONE
BEGIN:VEVENT
DTSTART;TZID=America/Argentina/Buenos_Aires:20210421T170000
DTEND;TZID=America/Argentina/Buenos_Aires:20210721T190000
DTSTAMP:20260421T141712
CREATED:20210407T144634Z
LAST-MODIFIED:20210701T124240Z
UID:43001-1619024400-1626894000@www.ucsf.edu.ar
SUMMARY:Taller: Abriendo Futuro a través de la Historia y el Folklore Nacional
DESCRIPTION:“El Programa Universidad Abierta para la Casa Común” dependiente de la Secretaría de Ciencia y Técnica\, y Extensión\, comunica que se encuentra abierta la inscripción al Taller anual: “Abriendo Futuro a través de la Historia y el Folklore Nacional”. \nEn dicho Taller\, se abordarán los autores y/o personajes\, desarrollándose aspectos vinculados al contexto histórico de sus obras\, detalles de sus vidas y pensamiento\, trabajándose en cada caso con archivos de Power Point.\nAdemás\, se interpretarán temas musicales elaborados por cada uno de estos autores\, o aquellas canciones que\, sin ser de su autoría\, son identificables con cada intérprete.\nSe trata\, sin más\, de un acto educativo no estandarizado\, con un organización académica que procura analizar las diferencias entre algunos de los autores fundacionales del folklore nacional\, actualizando algunos de los debates propuestos en sus obras. \nEl presente espacio académico-musical\, es además una propuesta que tiene por finalidad trabajar las diversas funciones de la memoria a través de imágenes\, canciones e historias. \nDocente: Dr. Víctor Hadad \nComienzo de clases: día miércoles 21 de abril\, de 17 a 19 hs. \nDestinatarios: público en general\, personal docente\, no docente y alumnos de la UCSF y de otras Instituciones Educativas y Universidades. \nModalidad: semi-presencial \nCursado: dos cuatrimestres \nINSCRIPCIÓN ONLINE AQUÍ\n  \n  \nDr. Víctor Hadad \n \nCV Abreviado \nIntegrante del dúo folklórico KALLPA YAKU y autor del libro YAPUY (microrrelatos políticos y culturales). \nEntre otros antecedentes\, fue: \nDirector Provincial de Entes Portuarios y Túnel Subfluvial del Ministerio de Aguas\, Servicios Públicos y Medio Ambiente de la Provincia de Santa Fe (Decreto del Poder Ejecutivo Provincial nro 516/2011) – Enero 2012 /Diciembre 2015\nIntegrante del Grupo de Expertos para el estudio del nuevo enlace físico del Area Metropolitana Santa Fe – Paraná (Decreto del Poder Ejecutivo Provincial Nro 003/2012)\nDirector Representante por el Gobierno de la Provincia de Santa Fe en el Ente Interprovincial Túnel Subfluvial Raúl Uranga Carlos Sylvestre Begnis (setiembre 2009/octubre 2010) – Decreto del Poder Ejecutivo Provincial Nro. 1537/09\nColaborador en el Proyecto Puente – Parque Cultura del Río (Gobierno de la Provincia de Santa Fe)\nAsesor legal Representación Santa Fe – Ente Interprovincial Túnel Subfluvial Raúl Uranga Carlos Sylvestre Begnis (enero 2008/agosto 2009) \nPara informes comunicarse vía E-mail a nsturla@ucsf.edu.ar \nLas inscripciones se realizan online a través del link ut-supra
URL:https://www.ucsf.edu.ar/evento/nuevo-taller-abriendo-futuro-a-traves-de-la-historia-y-el-folklore-nacional/
LOCATION:Santa Fe
CATEGORIES:Santa Fe,Rosario,Posadas,Reconquista,Rafaela,Gualeguaychú,Sedes
ORGANIZER;CN="PUA":MAILTO:nsturla@ucsf.edu.ar
END:VEVENT
BEGIN:VEVENT
DTSTART;TZID=America/Argentina/Buenos_Aires:20210427T093000
DTEND;TZID=America/Argentina/Buenos_Aires:20210730T113000
DTSTAMP:20260421T141712
CREATED:20210423T141303Z
LAST-MODIFIED:20210701T124255Z
UID:43497-1619515800-1627644600@www.ucsf.edu.ar
SUMMARY:Continúan abiertas las inscripciones a los Cursos de Inglés PUA
DESCRIPTION:El “Programa Universidad Abierta”\, dependiente de la Secretaría de Ciencia y Técnica\, y Extensión\, de la UCSF\, comunica que continúan abiertas las inscripciones a los Cursos de Inglés en sus diferentes niveles. \n¿Para qué me sirve aprender este idioma?\nPara ser capaces de:  \n\nUtilizar los conocimientos adquiridos como una herramienta de formación académica y personal.\nComprender\, mediante la lectura y escucha de textos\, grabaciones y videos\,  la cultura de países de habla inglesa\, y sobre todo aquellos temas de su interés particular.\nAmpliar y profundizar el conocimiento de la lengua inglesa (grammar).\nDesarrollar competencias lingüísticas en inglés (oral\, aural\, writing\, reading skills).\nDesenvolverse en en el idioma con propiedad y corrección lingüística\, en situaciones comunes de la vida diaria.\n Acceder a bibliografía escrita en este idioma. Entre otros… \n\nTeacher: Eduardo Quintana \nDestinatarios: público en general; alumnos\, personal docente y no docente de la UCSF (abonan el 50% del cuatrimestre completo). \nCursado: dos cuatrimestres \nNivel Inicial: martes de 9:30 a 11:30 hs. \nInscripciones online en el link de abajo \n ⇓ \nhttps://www.eventbrite.com.ar/e/curso-de-ingles-nivel-inicial-tickets-152849114817?aff=Inscripciones \n  \nNivel Intermedio y Avanzado: miércoles de 18:30 a 20:30 hs\, \nInscripciones online en el link de abajo \n ⇓ \nhttps://www.eventbrite.com.ar/e/curso-de-ingles-nivel-intermedio-y-avanzado-tickets-152865604137?aff=Inscripciones \n\nSe entregarán certificados.\n¡Sumate! No pierdas esta excelente oportunidad de potenciar tus conocimientos\, logrando una formación académica más integral. \nContacto: nsturla@ucsf.edu.ar \n 
URL:https://www.ucsf.edu.ar/evento/continuan-abiertas-las-inscripciones-a-los-cursos-de-ingles-pua/
LOCATION:UCSF Santa Fe\, Echagüe 7151\, Santa Fe\, Santa Fe\, Argentina
CATEGORIES:Santa Fe,Rosario,Posadas,Reconquista,Rafaela,Gualeguaychú,Sedes,Investigación
ORGANIZER;CN="Vicerrectorado%20de%20Formaci%C3%B3n":MAILTO:vrecform@ucsf.edu.ar
GEO:-31.6069451;-60.6709418
X-APPLE-STRUCTURED-LOCATION;VALUE=URI;X-ADDRESS=UCSF Santa Fe Echagüe 7151 Santa Fe Santa Fe Argentina;X-APPLE-RADIUS=500;X-TITLE=Echagüe 7151:geo:-60.6709418,-31.6069451
END:VEVENT
BEGIN:VEVENT
DTSTART;TZID=America/Argentina/Buenos_Aires:20210504T160000
DTEND;TZID=America/Argentina/Buenos_Aires:20210504T170000
DTSTAMP:20260421T141712
CREATED:20210503T193212Z
LAST-MODIFIED:20210503T193212Z
UID:43766-1620144000-1620147600@www.ucsf.edu.ar
SUMMARY:Misa por los trabajadores
DESCRIPTION:El Martes 4 de Mayo a las 16 hs. se celebrará la Santa Misa\, pidiendo a San José Obrero por el trabajo. Rezaremos especialmente por todos los trabajadores de nuestra Casa.
URL:https://www.ucsf.edu.ar/evento/misa-por-los-trabajadores/
LOCATION:UCSF Santa Fe\, Echagüe 7151\, Santa Fe\, Santa Fe\, Argentina
GEO:-31.6069451;-60.6709418
X-APPLE-STRUCTURED-LOCATION;VALUE=URI;X-ADDRESS=UCSF Santa Fe Echagüe 7151 Santa Fe Santa Fe Argentina;X-APPLE-RADIUS=500;X-TITLE=Echagüe 7151:geo:-60.6709418,-31.6069451
END:VEVENT
BEGIN:VEVENT
DTSTART;TZID=America/Argentina/Buenos_Aires:20210505T180000
DTEND;TZID=America/Argentina/Buenos_Aires:20210505T200000
DTSTAMP:20260421T141712
CREATED:20210406T140413Z
LAST-MODIFIED:20210406T144044Z
UID:42965-1620237600-1620244800@www.ucsf.edu.ar
SUMMARY:Curso de Formación en el área pedagógico-didáctica para docentes de la UCSF
DESCRIPTION:La Asesoría Pedagógica de la UCSF\, dependiente de la Secretaría Académica de Rectorado\, invita a los docentes de todas las Sedes de la Universidad a participar del Curso de Formación en el área pedagógico-didáctica para Profesionales en ejercicio de la Docencia Universitaria en nuestra Institución – NIVEL INICIAL.\nEl mismo se desarrollará bajo la modalidad virtual\, los días Miércoles con una frecuencia semanal\, comenzando el 5 de Mayo y finalizando el 7 de Julio.\nPor medio de éste\, los profesores podrán cumplimentar los requisitos establecidos en el Programa de Carrera Docente de esta Casa.\nEs una actividad gratuita para los docentes de la UCSF y se entregarán certificados de aprobación.\nPara mayor información e inscripción\, hacer click aquí  \nAnte consultas\, escribir a: mrgomez@ucsf.edu.ar \n 
URL:https://www.ucsf.edu.ar/evento/curso-de-formacion-en-el-area-pedagogico-didactica-para-docentes-de-la-ucsf/
LOCATION:Vía Zoom\, Argentina
CATEGORIES:Home principal,Graduados,Asesoría Pedagógica,A distancia,Arquitectura y Diseño,Ciencias Agropecuarias,Santa Fe,Facultades,Rosario,Ciencias de la Salud,Ciencias Económicas,Posadas,Derecho y Ciencia Política,Reconquista,LA UCSF,Filosofía y Humanidades,Rafaela,Psicología,Vicerrectorado de Formación,Gualeguaychú,Concordia,Sedes
ATTACH;FMTTYPE=image/jpeg:https://www.ucsf.edu.ar/wp-content/uploads/2021/04/Curso-docente-2021-01-e1617720000524.jpg
ORGANIZER;CN="Asesor%C3%ADa%20Pedag%C3%B3gica":MAILTO:asepedagogica@ucsf.edu.ar
END:VEVENT
BEGIN:VEVENT
DTSTART;TZID=America/Argentina/Buenos_Aires:20210508T083000
DTEND;TZID=America/Argentina/Buenos_Aires:20210508T133000
DTSTAMP:20260421T141712
CREATED:20210318T133553Z
LAST-MODIFIED:20210323T115858Z
UID:42520-1620462600-1620480600@www.ucsf.edu.ar
SUMMARY:Diplomatura Evaluación Neuropsicológica en Adultos
DESCRIPTION:La creciente demanda social ha solicitado un progresivo reconocimiento profesional del neuropsicólogo clínico como especialista de la psicología en el ámbito de la salud. \nLa formación del profesional especializado en neuropsicología comprende las bases teórico-prácticas de neuroanatomía funcional y patológica\, procesos cognitivos básicos y técnicas de neuroimagen\, así como de los instrumentos necesarios para la evaluación neuropsicológica e intervención de pacientes con necesidades de rehabilitación y/o estimulación en todas las dimensiones de la funcionalidad. El objetivo de la Diplomatura es la formación de profesionales especializados en neuropsicología a través de la asimilación de contenidos teórico-prácticos necesarios para la evaluación neuropsicológica en adultos. \nInicia: 8 de mayo De 8:30 a 13:30 hs.\nConsultas e inscripción: fdelossantos@ucsf.edu.ar\nLugar: Sede UCSF Rosario (Moreno 1056)\nDestinada a: Licenciados en Psicología\, Psicólogos\, Psicopedagogos\, profesionales de la Salud y estudiantes avanzados de carreras aﬁnes.\nDisertantes: Mg. Emilia Samit\, Mg. María Eugenia Roibón\, Mg. Silvina Micchielli\, Mg. Mercedes Oviedo. \n 
URL:https://www.ucsf.edu.ar/evento/evaluacion-neuropsicologica-en-adultos/
LOCATION:UCSF Sede Rosario\, Moreno 1056\, Rosario\, Santa Fe\, 2000\, Argentina
CATEGORIES:Santa Fe,Facultades,Rosario,Carreras de Grado,Reconquista,Psicología,Sedes,Licenciatura en Psicología,Licenciatura en Psicopedagogía
ATTACH;FMTTYPE=image/jpeg:https://www.ucsf.edu.ar/wp-content/uploads/2021/03/Evaluacion-Psicologica-en-Adultos-FEED_1.jpg
ORGANIZER;CN="Facultad%20de%20Psicolog%C3%ADa":MAILTO:ralarcon@ucsf.edu.ar
GEO:-32.9491666;-60.6519119
X-APPLE-STRUCTURED-LOCATION;VALUE=URI;X-ADDRESS=UCSF Sede Rosario Moreno 1056 Rosario Santa Fe 2000 Argentina;X-APPLE-RADIUS=500;X-TITLE=Moreno 1056:geo:-60.6519119,-32.9491666
END:VEVENT
BEGIN:VEVENT
DTSTART;TZID=America/Argentina/Buenos_Aires:20210508T093000
DTEND;TZID=America/Argentina/Buenos_Aires:20210508T103000
DTSTAMP:20260421T141712
CREATED:20210430T151623Z
LAST-MODIFIED:20210508T083634Z
UID:43715-1620466200-1620469800@www.ucsf.edu.ar
SUMMARY:Presentación de la investigación: Escolares con dificultad del lenguaje.
DESCRIPTION:  \n  \n  \n  \n  \n  \n  \nINSCRIBIRSE EN LINEA AQUI \nInscribiéndose en línea recibirá el vínculo por zoom 12 horas antes. \n  \nDr. Horacio Dotti \n* Director Proyecto ‘Dedicaciones Semiexclusivas’ (UCSF-2013); Director ‘Programa de Actividades Científicas y Tecnológicas’ (PACT-UNL\, 2016); Director Proyecto ‘Curso de Acción para la Investigación y Desarrollo’ (CAID-UNL-2016). Áreas de investigación: Psicolingüística y Adquisición del Lenguaje\, con especial énfasis en el procesamiento léxico y sintáctico. \n  \n  \nObjetivos de la exposición: \n\nPresentar un breve panorama acerca del Trastorno Específico del Lenguaje (TEL);\nExponer aspectos teóricos y metodológicos de un estudio acerca del TEL en escolares de la ciudad de Santa Fe;\n\n  \n \n 
URL:https://www.ucsf.edu.ar/evento/43715/
LOCATION:UCSF Santa Fe\, Echagüe 7151\, Santa Fe\, Santa Fe\, Argentina
CATEGORIES:Facultades,Alumnos,Carreras de Grado,Filosofía y Humanidades,Licenciatura en Ciencias de la Comunicación,Investigación
GEO:-31.6069451;-60.6709418
X-APPLE-STRUCTURED-LOCATION;VALUE=URI;X-ADDRESS=UCSF Santa Fe Echagüe 7151 Santa Fe Santa Fe Argentina;X-APPLE-RADIUS=500;X-TITLE=Echagüe 7151:geo:-60.6709418,-31.6069451
END:VEVENT
BEGIN:VEVENT
DTSTART;TZID=America/Argentina/Buenos_Aires:20210508T111500
DTEND;TZID=America/Argentina/Buenos_Aires:20210508T121500
DTSTAMP:20260421T141713
CREATED:20210427T182155Z
LAST-MODIFIED:20210507T105130Z
UID:43575-1620472500-1620476100@www.ucsf.edu.ar
SUMMARY:Ciclo de Seminarios Web: Política Internacional y Terrorismo Global
DESCRIPTION:“El Programa Universidad Abierta para la Casa Común“\, dependiente de la Secretaría de Ciencia y Técnica\, y Extensión y la Facultad de Derecho y Ciencia Política\, de la UCSF\, comunican que se encuentra abierta la inscripción para el Ciclo de Seminarios Web: “Política Internacional y Terrorismo Global. El por qué de los conflictos”. \n \nObjetivos generales: \nExplicar las causales de actuales conflictos internacionales\, comenzando por sus orígenes más remotos y bíblicos. ¿Cómo\, dónde y por qué surgieron? \nMetodología de acción\, finalidades de cada grupo. Entre otros. \nDisertante: Dr. Bruno Carlino \nFecha de inicio: sábado 8 de mayo\, a las 11:15 hs. \nDestinatarios: público en general; comunidad de la UCSF\, y de otras Instituciones y Universidades. \nModalidad: Virtual \nEste Ciclo se desarrollará en cuatro Seminarios Web. \nInscripciones online aquí.\n   ⇓ \nhttps://www.eventbrite.com.ar/e/ciclo-de-seminarios-web-politica-internacional-y-terrorismo-global-tickets-152560726239?aff=Inscripciones \nTemario breve y orientativo de los temas que se abordarán: \nPrimer Seminario Web: sábado 8 de mayo\, a las 11:15 hs. \nCristianismo\, Judaísmo e Islamismo \nLa Bliblia\, La Torah y el Corán: cuerpo doctrinario de las mismas. \nComprender y diferenciar cada una de sus Doctrinas filosóficas (Filosofía de vida de cada una) \nCaracterísticas generales\, semejanzas y similitudes. \nSegundo Seminario: sábado 15 de mayo\, a las 11:15 hs. \nEl complejo mundo musulmán. Terrorismo global. \nAnalizar los diferentes grupos étnicos. \nTercer Seminario Web: Sábado 22 de mayo\, a las 11:15 hs. \nComplejidades de los países que predican el Islam. \nFoco de conflictos: Israel-Palestina\, India Pakitán; Irák- Irán. \nRealizar un recorrido  histórico para vislumbrar la actualidad del problema. \nCuarto Seminario: Sábado 29 de mayo\, a las 11:15 hs. \nGrupo terroristas: Hezbollah\, Al Fatah\, Al Qaeda\, Isis (La yihad islámica: guerra Santa) \nDr. Bruno Carlino \n \nCV abreviado: \nDoctor en Derecho Público\, Política y Gobierno. Universidad Nacional del Nordeste. (UNNE)\nPolitólogo-Lic. En Ciencias Políticas. Facultad de Ciencias Políticas. (Universidad Argentina John F. Kennedy).\nProfesor Universitario: Facultad de Psicología\, Educación y Relaciones Humanas. (Universidad de la Cuenca del Plata).\nDiplomado en Gestión Pública\, Política y Gobierno. Organización Demócrata Cristiana de América (ODCA). Santiago de Chile.\nDocente de “Problemática Política Contemporánea y Argentina Comparada”. (Instituto Superior de Formación y Capacitación Docente Nº1)\nDocente de “Comunicación Social y Opinión Pública”. (Instituto Superior de Formación y Capacitación Docente Nº1). \nDocente de Teoría Política y Pensamiento Político Argentino. (Instituto Superior de Formación y Capacitación Docente Nº1).\n \nDocente/ asistente en el Curso Anual de Capacitación de Dirigentes Políticos\, del instituto Nacional de Capacitación de Dirigentes Políticos y Sociales (INCAP) del Ministerio del Interior de la Nación y la Escuela Nacional de Gobierno del instituto Nacional de la Administración Pública. (19 de abril al 30 de noviembre del 2001). \nDocente/ asistente del Curso Anual de Capacitación de Dirigentes Políticos y Sociales\, del Instituto Nacional de Capacitación de Dirigentes Políticos y Sociales (INCAP) del Ministerio del Interior de la Nación. \nPara informes: contactarse Vía E-mail a nsturla@ucsf.edu.ar \n 
URL:https://www.ucsf.edu.ar/evento/ciclo-de-seminarios-web-politica-internacional-y-terrorismo-global-g/
LOCATION:UCSF Santa Fe\, Echagüe 7151\, Santa Fe\, Santa Fe\, Argentina
CATEGORIES:Santa Fe,Rosario,Posadas,Reconquista,Rafaela,Gualeguaychú,Sedes,Investigación
GEO:-31.6069451;-60.6709418
X-APPLE-STRUCTURED-LOCATION;VALUE=URI;X-ADDRESS=UCSF Santa Fe Echagüe 7151 Santa Fe Santa Fe Argentina;X-APPLE-RADIUS=500;X-TITLE=Echagüe 7151:geo:-60.6709418,-31.6069451
END:VEVENT
END:VCALENDAR