BEGIN:VCALENDAR
VERSION:2.0
PRODID:-//UCSF - Universidad Católica de Santa Fe - ECPv5.14.2.1//NONSGML v1.0//EN
CALSCALE:GREGORIAN
METHOD:PUBLISH
X-WR-CALNAME:UCSF - Universidad Católica de Santa Fe
X-ORIGINAL-URL:https://www.ucsf.edu.ar
X-WR-CALDESC:Events for UCSF - Universidad Católica de Santa Fe
REFRESH-INTERVAL;VALUE=DURATION:PT1H
X-Robots-Tag:noindex
X-PUBLISHED-TTL:PT1H
BEGIN:VTIMEZONE
TZID:America/Argentina/Buenos_Aires
BEGIN:STANDARD
TZOFFSETFROM:-0300
TZOFFSETTO:-0300
TZNAME:-03
DTSTART:20210101T000000
END:STANDARD
END:VTIMEZONE
BEGIN:VEVENT
DTSTART;TZID=America/Argentina/Buenos_Aires:20210421T170000
DTEND;TZID=America/Argentina/Buenos_Aires:20210721T190000
DTSTAMP:20260421T141535
CREATED:20210407T144634Z
LAST-MODIFIED:20210701T124240Z
UID:43001-1619024400-1626894000@www.ucsf.edu.ar
SUMMARY:Taller: Abriendo Futuro a través de la Historia y el Folklore Nacional
DESCRIPTION:“El Programa Universidad Abierta para la Casa Común” dependiente de la Secretaría de Ciencia y Técnica\, y Extensión\, comunica que se encuentra abierta la inscripción al Taller anual: “Abriendo Futuro a través de la Historia y el Folklore Nacional”. \nEn dicho Taller\, se abordarán los autores y/o personajes\, desarrollándose aspectos vinculados al contexto histórico de sus obras\, detalles de sus vidas y pensamiento\, trabajándose en cada caso con archivos de Power Point.\nAdemás\, se interpretarán temas musicales elaborados por cada uno de estos autores\, o aquellas canciones que\, sin ser de su autoría\, son identificables con cada intérprete.\nSe trata\, sin más\, de un acto educativo no estandarizado\, con un organización académica que procura analizar las diferencias entre algunos de los autores fundacionales del folklore nacional\, actualizando algunos de los debates propuestos en sus obras. \nEl presente espacio académico-musical\, es además una propuesta que tiene por finalidad trabajar las diversas funciones de la memoria a través de imágenes\, canciones e historias. \nDocente: Dr. Víctor Hadad \nComienzo de clases: día miércoles 21 de abril\, de 17 a 19 hs. \nDestinatarios: público en general\, personal docente\, no docente y alumnos de la UCSF y de otras Instituciones Educativas y Universidades. \nModalidad: semi-presencial \nCursado: dos cuatrimestres \nINSCRIPCIÓN ONLINE AQUÍ\n  \n  \nDr. Víctor Hadad \n \nCV Abreviado \nIntegrante del dúo folklórico KALLPA YAKU y autor del libro YAPUY (microrrelatos políticos y culturales). \nEntre otros antecedentes\, fue: \nDirector Provincial de Entes Portuarios y Túnel Subfluvial del Ministerio de Aguas\, Servicios Públicos y Medio Ambiente de la Provincia de Santa Fe (Decreto del Poder Ejecutivo Provincial nro 516/2011) – Enero 2012 /Diciembre 2015\nIntegrante del Grupo de Expertos para el estudio del nuevo enlace físico del Area Metropolitana Santa Fe – Paraná (Decreto del Poder Ejecutivo Provincial Nro 003/2012)\nDirector Representante por el Gobierno de la Provincia de Santa Fe en el Ente Interprovincial Túnel Subfluvial Raúl Uranga Carlos Sylvestre Begnis (setiembre 2009/octubre 2010) – Decreto del Poder Ejecutivo Provincial Nro. 1537/09\nColaborador en el Proyecto Puente – Parque Cultura del Río (Gobierno de la Provincia de Santa Fe)\nAsesor legal Representación Santa Fe – Ente Interprovincial Túnel Subfluvial Raúl Uranga Carlos Sylvestre Begnis (enero 2008/agosto 2009) \nPara informes comunicarse vía E-mail a nsturla@ucsf.edu.ar \nLas inscripciones se realizan online a través del link ut-supra
URL:https://www.ucsf.edu.ar/evento/nuevo-taller-abriendo-futuro-a-traves-de-la-historia-y-el-folklore-nacional/
LOCATION:Santa Fe
CATEGORIES:Santa Fe,Rosario,Posadas,Reconquista,Rafaela,Gualeguaychú,Sedes
ORGANIZER;CN="PUA":MAILTO:nsturla@ucsf.edu.ar
END:VEVENT
BEGIN:VEVENT
DTSTART;TZID=America/Argentina/Buenos_Aires:20210427T093000
DTEND;TZID=America/Argentina/Buenos_Aires:20210730T113000
DTSTAMP:20260421T141535
CREATED:20210423T141303Z
LAST-MODIFIED:20210701T124255Z
UID:43497-1619515800-1627644600@www.ucsf.edu.ar
SUMMARY:Continúan abiertas las inscripciones a los Cursos de Inglés PUA
DESCRIPTION:El “Programa Universidad Abierta”\, dependiente de la Secretaría de Ciencia y Técnica\, y Extensión\, de la UCSF\, comunica que continúan abiertas las inscripciones a los Cursos de Inglés en sus diferentes niveles. \n¿Para qué me sirve aprender este idioma?\nPara ser capaces de:  \n\nUtilizar los conocimientos adquiridos como una herramienta de formación académica y personal.\nComprender\, mediante la lectura y escucha de textos\, grabaciones y videos\,  la cultura de países de habla inglesa\, y sobre todo aquellos temas de su interés particular.\nAmpliar y profundizar el conocimiento de la lengua inglesa (grammar).\nDesarrollar competencias lingüísticas en inglés (oral\, aural\, writing\, reading skills).\nDesenvolverse en en el idioma con propiedad y corrección lingüística\, en situaciones comunes de la vida diaria.\n Acceder a bibliografía escrita en este idioma. Entre otros… \n\nTeacher: Eduardo Quintana \nDestinatarios: público en general; alumnos\, personal docente y no docente de la UCSF (abonan el 50% del cuatrimestre completo). \nCursado: dos cuatrimestres \nNivel Inicial: martes de 9:30 a 11:30 hs. \nInscripciones online en el link de abajo \n ⇓ \nhttps://www.eventbrite.com.ar/e/curso-de-ingles-nivel-inicial-tickets-152849114817?aff=Inscripciones \n  \nNivel Intermedio y Avanzado: miércoles de 18:30 a 20:30 hs\, \nInscripciones online en el link de abajo \n ⇓ \nhttps://www.eventbrite.com.ar/e/curso-de-ingles-nivel-intermedio-y-avanzado-tickets-152865604137?aff=Inscripciones \n\nSe entregarán certificados.\n¡Sumate! No pierdas esta excelente oportunidad de potenciar tus conocimientos\, logrando una formación académica más integral. \nContacto: nsturla@ucsf.edu.ar \n 
URL:https://www.ucsf.edu.ar/evento/continuan-abiertas-las-inscripciones-a-los-cursos-de-ingles-pua/
LOCATION:UCSF Santa Fe\, Echagüe 7151\, Santa Fe\, Santa Fe\, Argentina
CATEGORIES:Santa Fe,Rosario,Posadas,Reconquista,Rafaela,Gualeguaychú,Sedes,Investigación
ORGANIZER;CN="Vicerrectorado%20de%20Formaci%C3%B3n":MAILTO:vrecform@ucsf.edu.ar
GEO:-31.6069451;-60.6709418
X-APPLE-STRUCTURED-LOCATION;VALUE=URI;X-ADDRESS=UCSF Santa Fe Echagüe 7151 Santa Fe Santa Fe Argentina;X-APPLE-RADIUS=500;X-TITLE=Echagüe 7151:geo:-60.6709418,-31.6069451
END:VEVENT
BEGIN:VEVENT
DTSTART;TZID=America/Argentina/Buenos_Aires:20210514T150000
DTEND;TZID=America/Argentina/Buenos_Aires:20210514T180000
DTSTAMP:20260421T141535
CREATED:20210512T184055Z
LAST-MODIFIED:20210512T184110Z
UID:43912-1621004400-1621015200@www.ucsf.edu.ar
SUMMARY:Diplomatura en Bioética - Seminario Bioética e Inicio de Vida
DESCRIPTION:1. Estatuto del embrión humano en la fase de pre-implantación: la\nindividualidad orgánica- el carácter personal. Principales teorías respecto a la\nadquisición del carácter personal en el embrión. Objeciones a la existencia de\nun carácter personal. Dilemas bioéticos al inicio de la vida humana.\n2. La reproducción extracorpórea: aspectos médicos y éticos. Estatus jurídico\ndel embrión fecundado extracorpóreamente. Donación de gametos.\nCrio-conservación. Alquiler de útero y otras decisiones reproductivas. La\nmaternidad subrogada en el ordenamiento argentino: Determinación de la\nfiliación. La muerte del embrión en el derecho argentino.
URL:https://www.ucsf.edu.ar/evento/diplomatura-en-bioetica-seminario-bioetica-e-inicio-de-vida/
LOCATION:UCSF Santa Fe\, Echagüe 7151\, Santa Fe\, Santa Fe\, Argentina
CATEGORIES:IB Instituto de Bioética Jerome Lejeune
ORGANIZER;CN="Instituto%20de%20Bio%C3%A9tica%20%22J%C3%A8r%C3%B4me%20Lejeune%22":MAILTO:bioetica@ucsf.edu.ar
GEO:-31.6069451;-60.6709418
X-APPLE-STRUCTURED-LOCATION;VALUE=URI;X-ADDRESS=UCSF Santa Fe Echagüe 7151 Santa Fe Santa Fe Argentina;X-APPLE-RADIUS=500;X-TITLE=Echagüe 7151:geo:-60.6709418,-31.6069451
END:VEVENT
BEGIN:VEVENT
DTSTART;TZID=America/Argentina/Buenos_Aires:20210514T173000
DTEND;TZID=America/Argentina/Buenos_Aires:20210514T190000
DTSTAMP:20260421T141535
CREATED:20210407T163056Z
LAST-MODIFIED:20210514T102109Z
UID:43029-1621013400-1621018800@www.ucsf.edu.ar
SUMMARY:Círculo de reflexión socio-eco-jurídica
DESCRIPTION:Quinto Encuentro del Círculo de Reflexión Socio-Eco-Jurídica \nOrganiza: Equipo de investigación jurídica “Derechos Humanos y Economía” \nEl quinto encuentro del Círculo de Reflexión Socio-Eco-Jurídica se va a realizar el viernes 14/05\, a las 15:00 Hs. En el marco del calendario de mayo sobre “Transición Socio-ecológica”\, el abogado Esteban Piva expondrá sobre la “Renta Básica Universal”\, en base a los textos “Renta básica universal y su viabilidad” de Urcelay Martínez (2018)\, y “La renta básica universal basada en la evidencia.” de Comporesi\, (2018). \nAmbos textos disponible en: \n\nhttps://repositorio.comillas.edu/xmlui/bitstream/handle/11531/18784/TFG%20-%20Urcelay%20MartA%C2%ADnez%2C%20Alicia.pdf?sequence=1\nhttps://revistas.ucm.es/index.php/POSO/article/download/58497/4564456549084\n\nEn cuanto a los textos que se expondrán podemos introducirlos diciendo\, en palabras de uno de sus autores que\, “La renta básica universal constituye un sistema a través del cual se ofrece a toda una población un ingreso periódico e incondicional. Aunque sus orígenes se remontan varios siglos atrás\, este modelo de asistencia social está cobrando una creciente importancia actualmente\, debido a la transformación social\, económica y digital. Es por esta razón\, por la que surgen cuestiones relativas a su viabilidad financiera o a las formas de financiación posibles\, así como\, si constituye un medio adecuado para luchar contra la pobreza y la exclusión social\, o si hay otros medios más adecuados para ello…” – (A.U. Martinez); y por otro lado la importancia del análisis en “… la evidencia empírica y modelos de experimentación de las políticas de RBU (Renta Básica Universal)\, a partir del mayor o menor grado de información sobre la previsibilidad de su impacto social que nos proporciona cada uno de ellos. Para ello revisamos la intención\, el diseño y los resultados obtenidos de los diferentes casos y modelos experimentales a lo largo del tiempo y en diferentes países” – (A.T. Camporesi). \nEsteban Piva\, es abogado egresado de la UCSF\, doctorando en Ciencia Jurídica en la misma casa de estudio\, y becario del equipo de investigación jurídica “Derechos Humanos y Economía. Relaciones y tensiones entre los derechos sociales y ambientales y el orden jurídico-económico transnacional” de la UCSF. \nLink de la reunión: https://meet.google.com/mqg-ohnx-vcw \n 
URL:https://www.ucsf.edu.ar/evento/circulo-de-reflexion-socio-eco-juridica-2/
LOCATION:Santa Fe
CATEGORIES:Abogacía,Facultades,Alumnos,Carreras de Grado,Docentes,Posadas,Reconquista,Derecho y Ciencia Política,Sedes,Licenciatura en Relaciones Internacionales,Martillero Público y Corredor Inmobiliario,Notariado,Procuración
ATTACH;FMTTYPE=image/jpeg:https://www.ucsf.edu.ar/wp-content/uploads/2021/04/Circulo-de-reflexion-socio-eco-juridica-2021-1676182.jpg
ORGANIZER;CN="Facultad%20de%20Derecho%20y%20Ciencia%20Pol%C3%ADtica%20-%20Sede%20Posadas":MAILTO:posadas@ucsf.edu.ar
END:VEVENT
BEGIN:VEVENT
DTSTART;TZID=America/Argentina/Buenos_Aires:20210515T111500
DTEND;TZID=America/Argentina/Buenos_Aires:20210515T123000
DTSTAMP:20260421T141535
CREATED:20210512T103719Z
LAST-MODIFIED:20210512T152916Z
UID:43890-1621077300-1621081800@www.ucsf.edu.ar
SUMMARY:Ciclo de Seminarios Web: "Política Internacional y Terrorismo Global”
DESCRIPTION:El “Programa Universidad Abierta para la Casa Común”\, dependiente de la Secretaría de Ciencia y Técnica\, y Extensión y la Facultad de Derecho y Ciencia Política\, comunican que se encuentran abiertas las inscripciones para el Segundo de Seminario Web del Ciclo: “Política Internacional y Terrorismo Global. El por qué de los conflictos”. \n \n  \nDisertante: Dr. Bruno Carlino \nFecha: sábado 15 de mayo\, a las 11:15 hs. \nDestinatarios: público en general; comunidad de la UCSF\, y de otras Instituciones y Universidades. \nModalidad: Virtual \nInscripciones online aquí.\n  ⇓ \nhttps://www.eventbrite.com.ar/e/2do-seminario-web-politica-internacional-y-terrorismo-global-tickets-154481726001?aff=Inscripcion \nTemario: El complejo mundo musulmán.  Terrorismo global. Diferenciación de los grupos étnicos.  \n Fundamentación\nAnalizar y explicar el mundo musulmán no es tarea sencilla\, esto se debe a los diferentes grupos étnicos que integran su población\, su conformación ideológica pendular y hacia los extremos radicalizados.\nEl Islam\, como su filosofía de vida\, fundamenta el accionar de sus pueblos.  \nLa muerte del Profeta Mahoma en el año 632\, provocó una fuerte disputa por la sucesión del poderoso imperio islámico\, que se extendió hacia el norte de África y la Península Ibérica\, provocando una guerra civil religiosa.\nPara los suunitas\, el sucesor debía surgir de la comunidad de los creyentes\, a diferencia de los chiítas que pretendían seguir la línea de sucesión de la familia del Profeta. Esto\, y una serie de traiciones entre ambos clanes\, llevó a la división definitiva del Islam entre suunitas y chiítas.\nEl chiísmo\, que significa “partido de Alí\,” estableció sus propias dinastías\, actualmente Irán\, pero también hay grupos minoritarios en Irak.\nLos suunitas son mayoría entre los musulmanes y se ven a sí mismos\, como  la rama más ortodoxa y tradicional del Islam… \nDr. Bruno Carlino \n \nCV abreviado \nDoctor en Derecho Público\, Política y Gobierno. (Universidad Nacional del Nordeste) (UNNE)\nPolitólogo-Lic. En Ciencias Políticas. Facultad de Ciencias Políticas. (Universidad Argentina John F. Kennedy).\nProfesor Universitario: Facultad de Psicología\, Educación y Relaciones Humanas. (Universidad de la Cuenca del Plata).\nDiplomado en Gestión Pública\, Política y Gobierno. Organización Demócrata Cristiana de América (ODCA). Santiago de Chile.\nDocente de Problemática Política Contemporánea y Argentina Comparada.\nDocente de comunicación Social y Opinión Pública.\nDocente de Teoría Política y Pensamiento Político Argentino. \nPara informes y solicitud del link del Seminario: contactarse Vía E-mail a nsturla@ucsf.edu.ar \n 
URL:https://www.ucsf.edu.ar/evento/ciclo-de-seminarios-web-politica-internacional-y-terrorismo-global/
LOCATION:UCSF Santa Fe\, Echagüe 7151\, Santa Fe\, Santa Fe\, Argentina
CATEGORIES:Santa Fe,Alumnos,Rosario,Docentes,Posadas,Reconquista,Rafaela,Gualeguaychú,Sedes,Extensión,Investigación
GEO:-31.6069451;-60.6709418
X-APPLE-STRUCTURED-LOCATION;VALUE=URI;X-ADDRESS=UCSF Santa Fe Echagüe 7151 Santa Fe Santa Fe Argentina;X-APPLE-RADIUS=500;X-TITLE=Echagüe 7151:geo:-60.6709418,-31.6069451
END:VEVENT
END:VCALENDAR