BEGIN:VCALENDAR
VERSION:2.0
PRODID:-//UCSF - Universidad Católica de Santa Fe - ECPv5.14.2.1//NONSGML v1.0//EN
CALSCALE:GREGORIAN
METHOD:PUBLISH
X-WR-CALNAME:UCSF - Universidad Católica de Santa Fe
X-ORIGINAL-URL:https://www.ucsf.edu.ar
X-WR-CALDESC:Events for UCSF - Universidad Católica de Santa Fe
REFRESH-INTERVAL;VALUE=DURATION:PT1H
X-Robots-Tag:noindex
X-PUBLISHED-TTL:PT1H
BEGIN:VTIMEZONE
TZID:America/Argentina/Buenos_Aires
BEGIN:STANDARD
TZOFFSETFROM:-0300
TZOFFSETTO:-0300
TZNAME:-03
DTSTART:20210101T000000
END:STANDARD
END:VTIMEZONE
BEGIN:VEVENT
DTSTART;TZID=America/Argentina/Buenos_Aires:20210421T170000
DTEND;TZID=America/Argentina/Buenos_Aires:20210721T190000
DTSTAMP:20260421T141532
CREATED:20210407T144634Z
LAST-MODIFIED:20210701T124240Z
UID:43001-1619024400-1626894000@www.ucsf.edu.ar
SUMMARY:Taller: Abriendo Futuro a través de la Historia y el Folklore Nacional
DESCRIPTION:“El Programa Universidad Abierta para la Casa Común” dependiente de la Secretaría de Ciencia y Técnica\, y Extensión\, comunica que se encuentra abierta la inscripción al Taller anual: “Abriendo Futuro a través de la Historia y el Folklore Nacional”. \nEn dicho Taller\, se abordarán los autores y/o personajes\, desarrollándose aspectos vinculados al contexto histórico de sus obras\, detalles de sus vidas y pensamiento\, trabajándose en cada caso con archivos de Power Point.\nAdemás\, se interpretarán temas musicales elaborados por cada uno de estos autores\, o aquellas canciones que\, sin ser de su autoría\, son identificables con cada intérprete.\nSe trata\, sin más\, de un acto educativo no estandarizado\, con un organización académica que procura analizar las diferencias entre algunos de los autores fundacionales del folklore nacional\, actualizando algunos de los debates propuestos en sus obras. \nEl presente espacio académico-musical\, es además una propuesta que tiene por finalidad trabajar las diversas funciones de la memoria a través de imágenes\, canciones e historias. \nDocente: Dr. Víctor Hadad \nComienzo de clases: día miércoles 21 de abril\, de 17 a 19 hs. \nDestinatarios: público en general\, personal docente\, no docente y alumnos de la UCSF y de otras Instituciones Educativas y Universidades. \nModalidad: semi-presencial \nCursado: dos cuatrimestres \nINSCRIPCIÓN ONLINE AQUÍ\n  \n  \nDr. Víctor Hadad \n \nCV Abreviado \nIntegrante del dúo folklórico KALLPA YAKU y autor del libro YAPUY (microrrelatos políticos y culturales). \nEntre otros antecedentes\, fue: \nDirector Provincial de Entes Portuarios y Túnel Subfluvial del Ministerio de Aguas\, Servicios Públicos y Medio Ambiente de la Provincia de Santa Fe (Decreto del Poder Ejecutivo Provincial nro 516/2011) – Enero 2012 /Diciembre 2015\nIntegrante del Grupo de Expertos para el estudio del nuevo enlace físico del Area Metropolitana Santa Fe – Paraná (Decreto del Poder Ejecutivo Provincial Nro 003/2012)\nDirector Representante por el Gobierno de la Provincia de Santa Fe en el Ente Interprovincial Túnel Subfluvial Raúl Uranga Carlos Sylvestre Begnis (setiembre 2009/octubre 2010) – Decreto del Poder Ejecutivo Provincial Nro. 1537/09\nColaborador en el Proyecto Puente – Parque Cultura del Río (Gobierno de la Provincia de Santa Fe)\nAsesor legal Representación Santa Fe – Ente Interprovincial Túnel Subfluvial Raúl Uranga Carlos Sylvestre Begnis (enero 2008/agosto 2009) \nPara informes comunicarse vía E-mail a nsturla@ucsf.edu.ar \nLas inscripciones se realizan online a través del link ut-supra
URL:https://www.ucsf.edu.ar/evento/nuevo-taller-abriendo-futuro-a-traves-de-la-historia-y-el-folklore-nacional/
LOCATION:Santa Fe
CATEGORIES:Santa Fe,Rosario,Posadas,Reconquista,Rafaela,Gualeguaychú,Sedes
ORGANIZER;CN="PUA":MAILTO:nsturla@ucsf.edu.ar
END:VEVENT
BEGIN:VEVENT
DTSTART;TZID=America/Argentina/Buenos_Aires:20210427T093000
DTEND;TZID=America/Argentina/Buenos_Aires:20210730T113000
DTSTAMP:20260421T141532
CREATED:20210423T141303Z
LAST-MODIFIED:20210701T124255Z
UID:43497-1619515800-1627644600@www.ucsf.edu.ar
SUMMARY:Continúan abiertas las inscripciones a los Cursos de Inglés PUA
DESCRIPTION:El “Programa Universidad Abierta”\, dependiente de la Secretaría de Ciencia y Técnica\, y Extensión\, de la UCSF\, comunica que continúan abiertas las inscripciones a los Cursos de Inglés en sus diferentes niveles. \n¿Para qué me sirve aprender este idioma?\nPara ser capaces de:  \n\nUtilizar los conocimientos adquiridos como una herramienta de formación académica y personal.\nComprender\, mediante la lectura y escucha de textos\, grabaciones y videos\,  la cultura de países de habla inglesa\, y sobre todo aquellos temas de su interés particular.\nAmpliar y profundizar el conocimiento de la lengua inglesa (grammar).\nDesarrollar competencias lingüísticas en inglés (oral\, aural\, writing\, reading skills).\nDesenvolverse en en el idioma con propiedad y corrección lingüística\, en situaciones comunes de la vida diaria.\n Acceder a bibliografía escrita en este idioma. Entre otros… \n\nTeacher: Eduardo Quintana \nDestinatarios: público en general; alumnos\, personal docente y no docente de la UCSF (abonan el 50% del cuatrimestre completo). \nCursado: dos cuatrimestres \nNivel Inicial: martes de 9:30 a 11:30 hs. \nInscripciones online en el link de abajo \n ⇓ \nhttps://www.eventbrite.com.ar/e/curso-de-ingles-nivel-inicial-tickets-152849114817?aff=Inscripciones \n  \nNivel Intermedio y Avanzado: miércoles de 18:30 a 20:30 hs\, \nInscripciones online en el link de abajo \n ⇓ \nhttps://www.eventbrite.com.ar/e/curso-de-ingles-nivel-intermedio-y-avanzado-tickets-152865604137?aff=Inscripciones \n\nSe entregarán certificados.\n¡Sumate! No pierdas esta excelente oportunidad de potenciar tus conocimientos\, logrando una formación académica más integral. \nContacto: nsturla@ucsf.edu.ar \n 
URL:https://www.ucsf.edu.ar/evento/continuan-abiertas-las-inscripciones-a-los-cursos-de-ingles-pua/
LOCATION:UCSF Santa Fe\, Echagüe 7151\, Santa Fe\, Santa Fe\, Argentina
CATEGORIES:Santa Fe,Rosario,Posadas,Reconquista,Rafaela,Gualeguaychú,Sedes,Investigación
ORGANIZER;CN="Vicerrectorado%20de%20Formaci%C3%B3n":MAILTO:vrecform@ucsf.edu.ar
GEO:-31.6069451;-60.6709418
X-APPLE-STRUCTURED-LOCATION;VALUE=URI;X-ADDRESS=UCSF Santa Fe Echagüe 7151 Santa Fe Santa Fe Argentina;X-APPLE-RADIUS=500;X-TITLE=Echagüe 7151:geo:-60.6709418,-31.6069451
END:VEVENT
BEGIN:VEVENT
DTSTART;TZID=America/Argentina/Buenos_Aires:20210525T190000
DTEND;TZID=America/Argentina/Buenos_Aires:20210525T200000
DTSTAMP:20260421T141532
CREATED:20210518T214359Z
LAST-MODIFIED:20210521T195324Z
UID:43974-1621969200-1621972800@www.ucsf.edu.ar
SUMMARY:Seminario Web: Ideales e intereses en Mayo de 1810
DESCRIPTION:“El Programa Universidad Abierta para la Casa Común”\, dependiente de la Secretaría de Ciencia y Técnica\, y Extensión\, APUC y ADUCSF\, de la UCSF\,  invitan al Seminario Web: “Ideales e intereses en Mayo de 1810”. \n \nObjetivos:\nIdentificar los fundamentos ideológicos para la formación de la Primera Junta\nCuáles fueron los intereses en juego en aquellos días decisivos. El rol de Gran Bretaña. \nDisertante: Dr. Pablo Yurman\nDía: martes 25 de mayo\, 19 hs. \nInscripciones online en el link de abajo \n⇓ \nhttps://www.eventbrite.com.ar/e/seminario-web-ideales-e-intereses-en-mayo-de-1810-tickets-156293563255?aff=Inscripciones \nUnirse a la reunión Zoom \nhttps://zoom.us/j/96513004925?pwd=eUN3cWkyWDRFQmt1WkpJSDV4aEZ1QT09 \nID de reunión: 965 1300 4925 \nCódigo de acceso: 646880 \nDr. Pablo Yurman \n \nCV abreviado\nAbogado por la UNR y doctor en Ciencias jurídicas y sociales por la UCA Rosario. Director del Centro de Estudios de Historia Constitucional Argentina en la facultad de Derecho de la UNR. Profesor de Ética y de Historia Constitucional Argentina. Autor de los libros “Nación y Confederación. Rosas y el Pacto Federal de 1831” e “Instantes Decisivos que marcaron la Historia Argentina”. Creador del Canal de YouTube “Mates con Historia” \nContacto: nsturla@ucsf.edu.ar
URL:https://www.ucsf.edu.ar/evento/seminario-web-ideales-e-intereses-en-mayo-de-1810/
LOCATION:UCSF Santa Fe\, Echagüe 7151\, Santa Fe\, Santa Fe\, Argentina
CATEGORIES:Santa Fe,Editorial,Alumnos,Rosario,Docentes,Posadas,Reconquista,Rafaela,Gualeguaychú,Sedes,Extensión,Investigación
ORGANIZER;CN="Vicerrectorado%20Acad%C3%A9mico":MAILTO:vrecacad@ucsf.edu.ar
GEO:-31.6069451;-60.6709418
X-APPLE-STRUCTURED-LOCATION;VALUE=URI;X-ADDRESS=UCSF Santa Fe Echagüe 7151 Santa Fe Santa Fe Argentina;X-APPLE-RADIUS=500;X-TITLE=Echagüe 7151:geo:-60.6709418,-31.6069451
END:VEVENT
BEGIN:VEVENT
DTSTART;TZID=America/Argentina/Buenos_Aires:20210527T133000
DTEND;TZID=America/Argentina/Buenos_Aires:20210527T150000
DTSTAMP:20260421T141532
CREATED:20210521T162945Z
LAST-MODIFIED:20210521T162945Z
UID:44111-1622122200-1622127600@www.ucsf.edu.ar
SUMMARY:Seminario web: La relación bilateral entre Argentina y China
DESCRIPTION:Seminario web: La relación bilateral entre Argentina y China (aspectos políticos\, económicos y comerciales\, culturales y educativos)\nJueves 27 de mayo de 2021 – 13:30 hs \nInscripciones: https://forms.gle/aiX78uajHbQ8FtFdA \nOrganiza: Observatorio de Política Internacional \nPalabras de apertura: Embajadora Carola Ramón\, Subsecretaria de Negociaciones Económicas Multilaterales y Bilaterales del Ministerio de Relaciones Exteriores\, Comercio Internacional y Culto y Mgter. Eugenio Martín Depalma\, Rector de la Universidad Católica de Santa Fe. \nAspectos políticos: Erika Imhof\, Responsable de la Mesa China de la Cancillería. \nAspectos económicos y comerciales: Marcos Bednarski\, Director de Relaciones Económicas con Asia y Oceanía del Ministerio de Relaciones Exteriores\, Comercio Internacional y Culto \nAspectos culturales y educativos: Néstor Restivo\, Miembro del Consejo Asesor Honorario del Ministerio Relaciones .Exteriores\, Comercio Internacional y Culto / Revista Dangdai \nCierre del seminario: Embajador Marcelo Giusto\, Director Nacional de Negociaciones Económicas Bilaterales del Ministerio de Relaciones Exteriores\, Comercio Internacional y Culto y Dr. Darío Edgardo Miguel\, Director del Observatorio de Política Internacional de la Universidad Católica de Santa Fe. \nModerador: Lic. Juan Pablo Jullier\, Secretario del Observatorio de Política Internacional de la UCSF.
URL:https://www.ucsf.edu.ar/evento/seminario-web-la-relacion-bilateral-entre-argentina-y-china/
LOCATION:UCSF Santa Fe\, Echagüe 7151\, Santa Fe\, Santa Fe\, Argentina
CATEGORIES:Alumnos,Docentes,OPI - Observatorio de Política Internacional
ATTACH;FMTTYPE=image/jpeg:https://www.ucsf.edu.ar/wp-content/uploads/2021/05/seminario-web-argentina-y-china-feed_1-1.jpg
ORGANIZER;CN="Observatorio%20de%20Pol%C3%ADtica%20Internacional":MAILTO:obs.internacional@ucsf.edu.ar
GEO:-31.6069451;-60.6709418
X-APPLE-STRUCTURED-LOCATION;VALUE=URI;X-ADDRESS=UCSF Santa Fe Echagüe 7151 Santa Fe Santa Fe Argentina;X-APPLE-RADIUS=500;X-TITLE=Echagüe 7151:geo:-60.6709418,-31.6069451
END:VEVENT
BEGIN:VEVENT
DTSTART;TZID=America/Argentina/Buenos_Aires:20210527T160000
DTEND;TZID=America/Argentina/Buenos_Aires:20210527T180000
DTSTAMP:20260421T141532
CREATED:20210526T145709Z
LAST-MODIFIED:20210526T145709Z
UID:44153-1622131200-1622138400@www.ucsf.edu.ar
SUMMARY:Conversatorio. Laudato Si': El clamor de la Tierra y de los Pobres
DESCRIPTION:A 6 años de su publicación\, nos reunimos para celebrar Laudato Si’ y la inspiración que ha generado en los ámbitos socioecológicos\, educativos y religiosos; y también para volver a comprometernos colectivamente en abordar las estructuras insostenibles que siguen causando estragos en nuestras comunidades y en el mundo natural. \nComo el Papa Francisco nos ha relatado\, “el clamor de la Tierra y el clamor de los pobres” son una misma realidad que exige un abordaje integral\, tanto desde las estructuras culturales\, sociales\, políticas y económicas como en el establecimiento de una espiritualidad ecológica que pueda construir un futuro justo\, poniendo en primer plano a la persona humana y a la Casa Común. \n \nCompartiremos el importante y actual trabajo de nuestros cuatro panelistas\, sus experiencias y esfuerzos para poner en práctica a Laudato Si’\, dialogando respecto a sus enseñanzas en el corazón de la transformación ecológica y social en América Latina y el Mundo. Queremos ayudarnos a cultivar la energía inspiradora de la segunda encíclica del Papa Francisco y a crear un camino compartido de transformación socio-ecológica\, como Laudato Si’ reclama. \nLa Diplomatura Superior en Ecología Integral aborda las complejidades de la crisis socio-ecológica que estamos enfrentando y ofrece herramientas tangibles para entender cómo deconstruir las estructurales insostenibles y avanzar en acciones concretas de transición hacia la sustentabilidad. \n\n\nPalabras de bienvenida: \nFernando Ponce León SJ\, Rector de la Pontificia Universidad Católica del Ecuador (PUCE) \nFrancisco Piñón\, Secretario Ejecutivo de la Red Universitaria del Cuidado de la Casa Común (RUC) \nLuis Cabrera O.F.M.\, Presidente de la Conferencia Episcopal Ecuatoriana y Arzobispo de Guayaquil \nModerador: \nAdrián Beling\, Director Académico de la Diplomatura Superior en Ecología Integral y Director Ejecutivo de Fundación Ecoceno \nPanelistas: \n\nMauricio López\, Secretario Ejecutivo de la Conferencia Eclesial Amazónica\nTomás Insua\, Fundador y Director del Movimiento Católico Mundial por el Clima (MCMC)\nSusana Nuin\, Directora Centro Bíblico Teológico Pastoral para América Latina y el Caribe (CEBITEPAL-CELAM)\nOlga Mayorga\, Referente de sustentabilidad de la PUCE ante la Asociación de Universidades Confiadas a la Compañía de Jesús en América Latina (AUSJAL)\n\n\n\nFecha: \n27 de mayo de 2021 \nHorario: \n16 hs. Argentina\, Brasil y Uruguay \n15 hs. Bolivia\, Chile\, Cuba\, Paraguay y Venezuela \n14 hs. Colombia\, Ecuador\, Ciudad de México\, Panamá y Perú \n13 hs. Costa Rica\, El Salvador\, Guatemala\, Honduras
URL:https://www.ucsf.edu.ar/evento/conversatorio-laudato-si-el-clamor-de-la-tierra-y-de-los-pobres/
LOCATION:Virtual\, Argentina
CATEGORIES:Home principal,Facultades,Alumnos,Docentes,Vicerrectorado de Formación,Extensión,IEHDS Instituto de Ecología Humana y Desarrollo Sustentable,Institutos
ATTACH;FMTTYPE=image/jpeg:https://www.ucsf.edu.ar/wp-content/uploads/2021/05/WhatsApp-Image-2021-05-26-at-11.04.43-AM-1-e1622040879186.jpeg
END:VEVENT
BEGIN:VEVENT
DTSTART;TZID=America/Argentina/Buenos_Aires:20210527T200000
DTEND;TZID=America/Argentina/Buenos_Aires:20210527T220000
DTSTAMP:20260421T141532
CREATED:20210510T202505Z
LAST-MODIFIED:20210521T194151Z
UID:43859-1622145600-1622152800@www.ucsf.edu.ar
SUMMARY:1er Torneo de Ajedrez de la UCSF
DESCRIPTION:Se realizará el Primer Torneo de Ajedrez de la UCSF\, destinado a todos los alumnos que pertenecen a la comunidad UCSF\, de todas sus sedes. En el torneo participarán miembros de todas las universidades que conforman Co.D.U.C.A. (Comisión del Deporte Universitario Católico Argentino).\n\nEl docente a cargo\, y árbitro del evento\, es Alfredo Segado.\n\nJueves 27 de Mayo – 20hs.\nModalidad virtual\nInscripciones y consultas: alfredsegad@hotmail.com\n\n\nInscripciones hasta el 26 de mayo inclusive.\n\nSe otorgarán diplomas virtuales a los tres ganadores del torneo\, y al mejor puesto de la UCSF.
URL:https://www.ucsf.edu.ar/evento/1er-torneo-de-ajedrez-de-la-ucsf/
LOCATION:Virtual\, Argentina
CATEGORIES:A distancia,Arquitectura y Diseño,Santa Fe,Alumnos,Facultades,Ciencias Agropecuarias,Rosario,Docentes,Ciencias de la Salud,Carreras de Grado,Posadas,Ciencias Económicas,Reconquista,Derecho y Ciencia Política,Rafaela,Filosofía y Humanidades,Gualeguaychú,Psicología,Concordia,Sedes
ATTACH;FMTTYPE=image/jpeg:https://www.ucsf.edu.ar/wp-content/uploads/2021/05/tablero-ajedrez-3718.jpg
ORGANIZER;CN="Deportes":MAILTO:crodriguez@ucsf.edu.ar
END:VEVENT
BEGIN:VEVENT
DTSTART;TZID=America/Argentina/Buenos_Aires:20210528T150000
DTEND;TZID=America/Argentina/Buenos_Aires:20210528T180000
DTSTAMP:20260421T141532
CREATED:20210525T005839Z
LAST-MODIFIED:20210525T005912Z
UID:44137-1622214000-1622224800@www.ucsf.edu.ar
SUMMARY:Seminario Bioética y Genética - Diplomatura en Bioética
DESCRIPTION:Seminario: BIOÉTICA Y GENÉTICA \nContenidos: \n1. Ingeniería genética. Manipulación genética. La clonación y el potencial terapéutico de las células madres en torno a los avances genéticos y la investigación con células madre. Investigación y experimentación con embriones humanos. Diagnóstico prenatal. Consideraciones bioéticas. \n2. Genética y Bioética. Manejo de la información genética: confidencialidad\, acceso a la información genética. Consideraciones bioéticas. \nDocente: Dra. Graciela Moya
URL:https://www.ucsf.edu.ar/evento/seminario-bioetica-y-genetica-diplomatura-en-bioetica/
LOCATION:UCSF Santa Fe\, Echagüe 7151\, Santa Fe\, Santa Fe\, Argentina
CATEGORIES:IB Instituto de Bioética Jerome Lejeune
ORGANIZER;CN="Instituto%20de%20Bio%C3%A9tica%20%22J%C3%A8r%C3%B4me%20Lejeune%22":MAILTO:bioetica@ucsf.edu.ar
GEO:-31.6069451;-60.6709418
X-APPLE-STRUCTURED-LOCATION;VALUE=URI;X-ADDRESS=UCSF Santa Fe Echagüe 7151 Santa Fe Santa Fe Argentina;X-APPLE-RADIUS=500;X-TITLE=Echagüe 7151:geo:-60.6709418,-31.6069451
END:VEVENT
BEGIN:VEVENT
DTSTART;TZID=America/Argentina/Buenos_Aires:20210528T150000
DTEND;TZID=America/Argentina/Buenos_Aires:20210528T190000
DTSTAMP:20260421T141532
CREATED:20210407T163056Z
LAST-MODIFIED:20210601T112405Z
UID:43031-1622214000-1622228400@www.ucsf.edu.ar
SUMMARY:Círculo de reflexión socio-eco-jurídica
DESCRIPTION:El Círculo de reflexión socio-eco-jurídica sirve de espacio de intercambio y análisis de textos actuales\, emblemáticos o disparadores sobre sobre problemáticas socio-eco-jurídicas actuales de nivel local\, regional y global. Funcionan como espacio para el intercambio y debate interdisciplinario\, dada la convocatoria de alumnos\, docentes\, investigadores y profesionales del derecho y de otras áreas\, tanto de la UCSF\, como de otras instituciones. Por ellos estos círculos son una rica fuente de inspiración para el trabajo y la producción escrita de los miembros del equipo\, y de toda aquella persona de buena voluntad que desee participar. \nObjetivo\n– Conocer debates actuales que articulan las materias social\, ecológica y jurídica.\n– Intercambiar perspectivas con otros académicos e interesados en estas temáticas.\n– Generar un espacio académico de encuentro e intercambio. \nMetodología\nCada encuentro un investigador presenta un texto disparador que abre el debate e intercambio sobre el tema de referencia. \n  \n \nLink de la reunión:  https://meet.google.com/mqg-ohnx-vcw \nOrganizan: Integrantes de la Cátedra de Derecho Internacional Público y Derechos Humanos y Proyecto de Investigación “Derecho y Economía” \nDatos de acceso: meet.google.com/mqg-ohnx-vcw \nActividad libre.
URL:https://www.ucsf.edu.ar/evento/circulo-de-reflexion-socio-eco-juridica-2021-05-28/
LOCATION:Santa Fe
CATEGORIES:Abogacía,Investigación Ecojurídica,Facultades,Alumnos,Carreras de Grado,Docentes,Posadas,Reconquista,Derecho y Ciencia Política,Sedes,Licenciatura en Relaciones Internacionales,Martillero Público y Corredor Inmobiliario,Notariado,Procuración
ATTACH;FMTTYPE=image/jpeg:https://www.ucsf.edu.ar/wp-content/uploads/2021/04/Circulo-de-reflexion-socio-eco-juridica-2021-1676182.jpg
ORGANIZER;CN="Facultad%20de%20Derecho%20y%20Ciencia%20Pol%C3%ADtica%20-%20Sede%20Posadas":MAILTO:posadas@ucsf.edu.ar
END:VEVENT
BEGIN:VEVENT
DTSTART;TZID=America/Argentina/Buenos_Aires:20210528T153000
DTEND;TZID=America/Argentina/Buenos_Aires:20210528T200000
DTSTAMP:20260421T141532
CREATED:20210418T210619Z
LAST-MODIFIED:20210525T220833Z
UID:43344-1622215800-1622232000@www.ucsf.edu.ar
SUMMARY:Jornada Preparatoria del próximo Congreso Nacional de Derecho Concursal
DESCRIPTION:Organizada por la Facultad de Derecho y Ciencia Política de la UCSF \, se llevará a cabo la Jornada Preparatoria del XI Congreso Nacional de Derecho Concursal y IX Congreso Iberoamericano de la Insolvencia.\nLos abogados\, magistrados\, funcionarios y empleados del Poder Judicial\, estudiantes avanzados de la carrera de Abogacía\, Contadores y síndicos concursales son los destinatarios de la propuesta. \nLa Jornada se inscribe en el marco de una serie de preparatorias que se desarrollan a lo largo y ancho del país\, con el fin de motivar a los profesionales y alumnos interesados en la temática para que participen activamente en el Congreso que se realizará en la Ciudad de Bahía Blanca\, los días 18 a 22 de Octubre de 2021. \nEn este sentido\, se presentarán una serie de exposiciones presentadas en paneles y una conferencia Magistral. \nFecha: 28 de Mayo de 2021 \nHora: 15.30 a 20 hs. \nModalidad: Virtual. Vía Zoom. \nCoordinación general: Dra. Paula Cecilia Cattelán \nContenido\, cronograma y panelistas: \nPalabras de apertura  (15.30 a 16 hs) \n\nDr. Enrique Müller (Decano de la Facultad de Derecho)\nDr. Marcelo Barreiro (en representación de la organización del congreso).\n\nPrimer panel: Instituciones y principios concursales  (16 a 16.55 hs.) \nDisertantes: \n\nDra. María Cristina De Césaris  “Derecho Concursal y Sujetos vulnerables. Interacción equitativa”.\nDra. Claudia E. Raisberg  “Actualización de las reglas de competencia y del concurso extranacional”.\nDr. Héctor O. Chómer  “Flexibilización del sistema concursal tras la Pandemia”. \n\nSegundo panel: Instituciones concursales conservatorias (17 a 17.55 hs.) \nDisertantes: \n\nDr. Germán Gerbaudo  “Atención extrajudicial de la insolvencia. Prevención y solución de la crisis. Conciliación. Mediación. Arbitraje”.\nDr. Federico González “Facultades judiciales en la homologación del acuerdo. Opinión del síndico sobre la posibilidad de cumplimiento. Viabilidad de la imposición del acuerdo”\nDr. Eduardo M. Favier Dubois  “Protección frente a los acreedores posconcursales y poderes del juez”\n\nTercer panel: Instituciones concursales liquidativas (18 a 18.55 hs.) \nDisertantes: \n\nDr. Javier Lorente  “Inhabilitación. Segunda oportunidad. Exoneración de pasivos. Descarga. Reelaboración de la inhabilitación de personas humanas. Ejercicio de oficio o profesión”.\nDra. Andrea Oudin  “Responsabilidad de los administradores. Actividad anti funcional”.\nDra. Gabriela Boquín  “Convencionalidad constitucional de los privilegios: readecuación”.\n\n Conferencia Magistral: (19 horas a 19.45 horas) \n\nDr. Ricardo Prono  “REELABORACIÓN DE LOS PRINCIPIOS Y PRESUPUESTOS CONCURSALES”\n\n Cierre de las jornadas 19.45 horas. \n  \nLas jornadas son libres y gratuitas. \nSe otorgarán certificados de asistencia. \nInformes: Paula C. Cattelán (pcattelan@ucsf.edu.ar) \n  \nINSCRIPCIONES \nhttps://forms.office.com/r/9Qb0RehZ1K \n  \n 
URL:https://www.ucsf.edu.ar/evento/jornada-preparatoria-del-proximo-congreso-nacional-de-derecho-concursal/
LOCATION:UCSF Santa Fe\, Echagüe 7151\, Santa Fe\, Santa Fe\, Argentina
CATEGORIES:Abogacía,Santa Fe,Facultades,Carreras de Grado,Posadas,Reconquista,Derecho y Ciencia Política,Sedes,Licenciatura en Relaciones Internacionales,Martillero Público y Corredor Inmobiliario,Notariado,Procuración
ATTACH;FMTTYPE=image/jpeg:https://www.ucsf.edu.ar/wp-content/uploads/2021/04/jornadas-preparatorias-01.jpg
ORGANIZER;CN="Facultad%20de%20Derecho%20y%20Ciencia%20Pol%C3%ADtica%20-%20Sede%20Posadas":MAILTO:posadas@ucsf.edu.ar
GEO:-31.6069451;-60.6709418
X-APPLE-STRUCTURED-LOCATION;VALUE=URI;X-ADDRESS=UCSF Santa Fe Echagüe 7151 Santa Fe Santa Fe Argentina;X-APPLE-RADIUS=500;X-TITLE=Echagüe 7151:geo:-60.6709418,-31.6069451
END:VEVENT
BEGIN:VEVENT
DTSTART;TZID=America/Argentina/Buenos_Aires:20210529T111500
DTEND;TZID=America/Argentina/Buenos_Aires:20210529T123000
DTSTAMP:20260421T141532
CREATED:20210527T140830Z
LAST-MODIFIED:20210527T140832Z
UID:44193-1622286900-1622291400@www.ucsf.edu.ar
SUMMARY:Tercer Seminario Web: Política Internacional. Parte 2
DESCRIPTION:“El Programa Universidad Abierta para la Casa Común”\, dependiente de la Secretaría de Ciencia y Técnica\, y Extensión y la Facultad de Derecho y Ciencia Política\, de la UCSF\, comunican que se encuentra abierta la inscripción para el Tercer de Seminario Web del Ciclo: Parte 2: “Política Internacional y Terrorismo Global. El por qué de los conflictos”. \n \nDisertante: Dr. Bruno Carlino \n \nFecha: sábado 29 de mayo\, a las 11:15 hs. \nDestinatarios: público en general (Valor $330); comunidad de la UCSF(Gratuito)\, otras Instituciones y Universidades. \nTemario breve a desarrollar:\nComplejidades de los países que predican el Islam. \nFoco de conflictos: Israel-Palestina\, India Pakitán; Irák- Irán. \nObjetivos: \nEntender el desarrollo histórico para comprender la actualidad del problema. \nModalidad: Virtual \nPara recibir información acerca de nuestros próximos eventos:  Click en: SEGUIR (Vicerrectorado Académico) \nInscripciones sólo online\,  en el link de abajo\n⇓ \nhttps://www.eventbrite.com.ar/e/tercer-seminario-web-politica-internacional-y-terrorismo-global-parte-2-tickets-157060804093?aff=Inscripciones \n  \nImportante \n⇓ \nLos certificados se enviarán únicamente a los participantes que se inscriban en el link antes mencionado \n  \nUnirse a la reunión Zoom\nhttps://zoom.us/j/94546727119?pwd=T3hucFJwU2VNSHQyeU9UWkRGYjM3UT09 \nID de reunión: 945 4672 7119\nCódigo de acceso: 638782 \nContacto: nsturla@ucsf.edu.ar
URL:https://www.ucsf.edu.ar/evento/tercer-seminario-web-politica-internacional-parte-2/
LOCATION:UCSF Santa Fe\, Echagüe 7151\, Santa Fe\, Santa Fe\, Argentina
CATEGORIES:Investigación Ecojurídica,Santa Fe,Editorial,Alumnos,Rosario,Docentes,Posadas,Reconquista,Rafaela,Gualeguaychú,Sedes,Extensión,Investigación
ORGANIZER;CN="Vicerrectorado%20Acad%C3%A9mico":MAILTO:vrecacad@ucsf.edu.ar
GEO:-31.6069451;-60.6709418
X-APPLE-STRUCTURED-LOCATION;VALUE=URI;X-ADDRESS=UCSF Santa Fe Echagüe 7151 Santa Fe Santa Fe Argentina;X-APPLE-RADIUS=500;X-TITLE=Echagüe 7151:geo:-60.6709418,-31.6069451
END:VEVENT
BEGIN:VEVENT
DTSTART;TZID=America/Argentina/Buenos_Aires:20210529T160000
DTEND;TZID=America/Argentina/Buenos_Aires:20210529T180000
DTSTAMP:20260421T141532
CREATED:20210526T163151Z
LAST-MODIFIED:20210528T124140Z
UID:44164-1622304000-1622311200@www.ucsf.edu.ar
SUMMARY:Detonar creencias: la potencia estética y política del festival de teatro
DESCRIPTION:Entrevista a Gustavo Mondino\, director artístico del festival de teatro de Rafaela.\nAnalizaremos la participación de figuras de la literatura argentina actual en ese evento\nSe realizará a través de Zoom.\nPedir datos de la reunión a earro@ucsf.edu.ar / nverde@ucsf.edu.ar\n\nOrganiza: cátedra Temas actuales de la literatura argentina\n \n¡Te esperamos!
URL:https://www.ucsf.edu.ar/evento/clase-abierta-detonar-creencias/
LOCATION:UCSF Santa Fe\, Echagüe 7151\, Santa Fe\, Santa Fe\, Argentina
CATEGORIES:Alumnos,Facultades,Filosofía y Humanidades
ATTACH;FMTTYPE=image/jpeg:https://www.ucsf.edu.ar/wp-content/uploads/2021/05/mondino.jpg
ORGANIZER;CN="Facultad%20de%20Filosofia%20y%20Humanidades":MAILTO:extensionffyh@ucsf.edu.ar
GEO:-31.6069451;-60.6709418
X-APPLE-STRUCTURED-LOCATION;VALUE=URI;X-ADDRESS=UCSF Santa Fe Echagüe 7151 Santa Fe Santa Fe Argentina;X-APPLE-RADIUS=500;X-TITLE=Echagüe 7151:geo:-60.6709418,-31.6069451
END:VEVENT
END:VCALENDAR