BEGIN:VCALENDAR
VERSION:2.0
PRODID:-//UCSF - Universidad Católica de Santa Fe - ECPv5.14.2.1//NONSGML v1.0//EN
CALSCALE:GREGORIAN
METHOD:PUBLISH
X-WR-CALNAME:UCSF - Universidad Católica de Santa Fe
X-ORIGINAL-URL:https://www.ucsf.edu.ar
X-WR-CALDESC:Events for UCSF - Universidad Católica de Santa Fe
REFRESH-INTERVAL;VALUE=DURATION:PT1H
X-Robots-Tag:noindex
X-PUBLISHED-TTL:PT1H
BEGIN:VTIMEZONE
TZID:America/Argentina/Buenos_Aires
BEGIN:STANDARD
TZOFFSETFROM:-0300
TZOFFSETTO:-0300
TZNAME:-03
DTSTART:20210101T000000
END:STANDARD
END:VTIMEZONE
BEGIN:VEVENT
DTSTART;TZID=America/Argentina/Buenos_Aires:20210421T170000
DTEND;TZID=America/Argentina/Buenos_Aires:20210721T190000
DTSTAMP:20260421T124520
CREATED:20210407T144634Z
LAST-MODIFIED:20210701T124240Z
UID:43001-1619024400-1626894000@www.ucsf.edu.ar
SUMMARY:Taller: Abriendo Futuro a través de la Historia y el Folklore Nacional
DESCRIPTION:“El Programa Universidad Abierta para la Casa Común” dependiente de la Secretaría de Ciencia y Técnica\, y Extensión\, comunica que se encuentra abierta la inscripción al Taller anual: “Abriendo Futuro a través de la Historia y el Folklore Nacional”. \nEn dicho Taller\, se abordarán los autores y/o personajes\, desarrollándose aspectos vinculados al contexto histórico de sus obras\, detalles de sus vidas y pensamiento\, trabajándose en cada caso con archivos de Power Point.\nAdemás\, se interpretarán temas musicales elaborados por cada uno de estos autores\, o aquellas canciones que\, sin ser de su autoría\, son identificables con cada intérprete.\nSe trata\, sin más\, de un acto educativo no estandarizado\, con un organización académica que procura analizar las diferencias entre algunos de los autores fundacionales del folklore nacional\, actualizando algunos de los debates propuestos en sus obras. \nEl presente espacio académico-musical\, es además una propuesta que tiene por finalidad trabajar las diversas funciones de la memoria a través de imágenes\, canciones e historias. \nDocente: Dr. Víctor Hadad \nComienzo de clases: día miércoles 21 de abril\, de 17 a 19 hs. \nDestinatarios: público en general\, personal docente\, no docente y alumnos de la UCSF y de otras Instituciones Educativas y Universidades. \nModalidad: semi-presencial \nCursado: dos cuatrimestres \nINSCRIPCIÓN ONLINE AQUÍ\n  \n  \nDr. Víctor Hadad \n \nCV Abreviado \nIntegrante del dúo folklórico KALLPA YAKU y autor del libro YAPUY (microrrelatos políticos y culturales). \nEntre otros antecedentes\, fue: \nDirector Provincial de Entes Portuarios y Túnel Subfluvial del Ministerio de Aguas\, Servicios Públicos y Medio Ambiente de la Provincia de Santa Fe (Decreto del Poder Ejecutivo Provincial nro 516/2011) – Enero 2012 /Diciembre 2015\nIntegrante del Grupo de Expertos para el estudio del nuevo enlace físico del Area Metropolitana Santa Fe – Paraná (Decreto del Poder Ejecutivo Provincial Nro 003/2012)\nDirector Representante por el Gobierno de la Provincia de Santa Fe en el Ente Interprovincial Túnel Subfluvial Raúl Uranga Carlos Sylvestre Begnis (setiembre 2009/octubre 2010) – Decreto del Poder Ejecutivo Provincial Nro. 1537/09\nColaborador en el Proyecto Puente – Parque Cultura del Río (Gobierno de la Provincia de Santa Fe)\nAsesor legal Representación Santa Fe – Ente Interprovincial Túnel Subfluvial Raúl Uranga Carlos Sylvestre Begnis (enero 2008/agosto 2009) \nPara informes comunicarse vía E-mail a nsturla@ucsf.edu.ar \nLas inscripciones se realizan online a través del link ut-supra
URL:https://www.ucsf.edu.ar/evento/nuevo-taller-abriendo-futuro-a-traves-de-la-historia-y-el-folklore-nacional/
LOCATION:Santa Fe
CATEGORIES:Santa Fe,Rosario,Posadas,Reconquista,Rafaela,Gualeguaychú,Sedes
ORGANIZER;CN="PUA":MAILTO:nsturla@ucsf.edu.ar
END:VEVENT
BEGIN:VEVENT
DTSTART;TZID=America/Argentina/Buenos_Aires:20210427T093000
DTEND;TZID=America/Argentina/Buenos_Aires:20210730T113000
DTSTAMP:20260421T124520
CREATED:20210423T141303Z
LAST-MODIFIED:20210701T124255Z
UID:43497-1619515800-1627644600@www.ucsf.edu.ar
SUMMARY:Continúan abiertas las inscripciones a los Cursos de Inglés PUA
DESCRIPTION:El “Programa Universidad Abierta”\, dependiente de la Secretaría de Ciencia y Técnica\, y Extensión\, de la UCSF\, comunica que continúan abiertas las inscripciones a los Cursos de Inglés en sus diferentes niveles. \n¿Para qué me sirve aprender este idioma?\nPara ser capaces de:  \n\nUtilizar los conocimientos adquiridos como una herramienta de formación académica y personal.\nComprender\, mediante la lectura y escucha de textos\, grabaciones y videos\,  la cultura de países de habla inglesa\, y sobre todo aquellos temas de su interés particular.\nAmpliar y profundizar el conocimiento de la lengua inglesa (grammar).\nDesarrollar competencias lingüísticas en inglés (oral\, aural\, writing\, reading skills).\nDesenvolverse en en el idioma con propiedad y corrección lingüística\, en situaciones comunes de la vida diaria.\n Acceder a bibliografía escrita en este idioma. Entre otros… \n\nTeacher: Eduardo Quintana \nDestinatarios: público en general; alumnos\, personal docente y no docente de la UCSF (abonan el 50% del cuatrimestre completo). \nCursado: dos cuatrimestres \nNivel Inicial: martes de 9:30 a 11:30 hs. \nInscripciones online en el link de abajo \n ⇓ \nhttps://www.eventbrite.com.ar/e/curso-de-ingles-nivel-inicial-tickets-152849114817?aff=Inscripciones \n  \nNivel Intermedio y Avanzado: miércoles de 18:30 a 20:30 hs\, \nInscripciones online en el link de abajo \n ⇓ \nhttps://www.eventbrite.com.ar/e/curso-de-ingles-nivel-intermedio-y-avanzado-tickets-152865604137?aff=Inscripciones \n\nSe entregarán certificados.\n¡Sumate! No pierdas esta excelente oportunidad de potenciar tus conocimientos\, logrando una formación académica más integral. \nContacto: nsturla@ucsf.edu.ar \n 
URL:https://www.ucsf.edu.ar/evento/continuan-abiertas-las-inscripciones-a-los-cursos-de-ingles-pua/
LOCATION:UCSF Santa Fe\, Echagüe 7151\, Santa Fe\, Santa Fe\, Argentina
CATEGORIES:Santa Fe,Rosario,Posadas,Reconquista,Rafaela,Gualeguaychú,Sedes,Investigación
ORGANIZER;CN="Vicerrectorado%20de%20Formaci%C3%B3n":MAILTO:vrecform@ucsf.edu.ar
GEO:-31.6069451;-60.6709418
X-APPLE-STRUCTURED-LOCATION;VALUE=URI;X-ADDRESS=UCSF Santa Fe Echagüe 7151 Santa Fe Santa Fe Argentina;X-APPLE-RADIUS=500;X-TITLE=Echagüe 7151:geo:-60.6709418,-31.6069451
END:VEVENT
BEGIN:VEVENT
DTSTART;TZID=America/Argentina/Buenos_Aires:20210610T170000
DTEND;TZID=America/Argentina/Buenos_Aires:20210610T190000
DTSTAMP:20260421T124520
CREATED:20210605T194702Z
LAST-MODIFIED:20210605T194859Z
UID:44634-1623344400-1623351600@www.ucsf.edu.ar
SUMMARY:Conversatorio Virtual "Uruguay: Cambio de Gobierno 2020"
DESCRIPTION:Conversatorio Virtual “URUGUAY: CAMBIO DE GOBIERNO 2020. Lineamientos de Política Exterior y de Defensa” \n10 de Junio – 17hs. \nExpositores: \n\nProf. Dr. Wilson Fernández Luzuriaga.\n\n(Coordinador Programa de Estudios Internacionales de la Universidad de la República – UDELAR) \n\nProf. Mgter. Daniel Locatelli Pagliaro.\n\n(Director General de Política de Defensa – Uruguay)
URL:https://www.ucsf.edu.ar/evento/conversatorio-virtual-uruguay-cambio-de-gobierno-2020/
LOCATION:Santa Fe
CATEGORIES:Santa Fe,Alumnos,Rosario,Docentes,Posadas,Reconquista,Rafaela,Gualeguaychú,Sedes
END:VEVENT
BEGIN:VEVENT
DTSTART;TZID=America/Argentina/Buenos_Aires:20210611T150000
DTEND;TZID=America/Argentina/Buenos_Aires:20210611T170000
DTSTAMP:20260421T124520
CREATED:20210601T143742Z
LAST-MODIFIED:20210607T194238Z
UID:44364-1623423600-1623430800@www.ucsf.edu.ar
SUMMARY:Círculo de reflexión socio-eco-jurídica
DESCRIPTION:  \n  \nCírculo de Reflexión Socio-Eco-Jurídica\,  \nen Colaboración con el Programa Ciencia y Técnica en Casa de la Secretaría de Ciencia\, Técnica y Extensión de la UCSF \n  \nEspacio de intercambio académico que articula debates actuales sobre derecho\, sociedad y ecología desde enfoques interdisciplinarios. \nMetodológicamente se trabaja a partir de textos difundidos previamente entre los participantes y que son presentados brevemente por uno de ellos al iniciar el encuentro. Tal presentación sirve de disparador para el intercambio abierto y plural. \nConvoca  a participantes de diferentes áreas académicas y otros ámbitos sociales\, y suele funcionar como un rico espacio de inspiración para el trabajo de producción académica. \n  \n  \nEn el  encuentro del viernes 11/06\, a las 15:00 Hs\, Victoria Giordana  va a exponer sobre el Fallo: “D.\, M. E. c/ PROVINCIA DE SANTA FE -AMPARO- s/ RECURSO DE INCONSTITUCIONALIDAD (CONCEDIDO POR LA CAMARA)”\nDisponible en: http://bdj.justiciasantafe.gov.ar/index.php?pg=dfa&m=busqueda&c=busqueda&a=pdf&id=43915\nEl link de acceso a la reunión es: https://meet.google.com/mqg-ohnx-vcw \n  \n  \n 
URL:https://www.ucsf.edu.ar/evento/circulo-de-reflexion-socio-eco-juridica-3-2021-06-11/
LOCATION:por meet\, meet.google.com/mqg-ohnx-vcw\, Argentina
CATEGORIES:Investigación Ecojurídica,Facultades,Alumnos,Carreras de Grado,Docentes,Derecho y Ciencia Política,IEHDS Instituto de Ecología Humana y Desarrollo Sustentable,Investigación,IFD Instituto de Filosofía del Derecho
ORGANIZER;CN="Equipo%20de%20Investigaci%C3%B3n%20Socio-Eco-Jur%C3%ADdica":MAILTO:ecojurinvestiga@ucsf.edu.ar
END:VEVENT
BEGIN:VEVENT
DTSTART;TZID=America/Argentina/Buenos_Aires:20210611T150000
DTEND;TZID=America/Argentina/Buenos_Aires:20210611T180000
DTSTAMP:20260421T124520
CREATED:20210608T022313Z
LAST-MODIFIED:20210608T022313Z
UID:44701-1623423600-1623434400@www.ucsf.edu.ar
SUMMARY:Seminario Bioética y Procreación Humana - Diplomatura en Bioética
DESCRIPTION:1. La fertilidad como valor. Regulación Natural de la fertilidad y Bioética. Anticoncepción y Bioética. Expositora: Carmen Ederle\n2. Naprotecnología: terapia ante la infertilidad. Expositora: Ingrid Paul\n3. El aborto: aspectos sociales\, médicos\, éticos y jurídicos. Expositor: Santiago David
URL:https://www.ucsf.edu.ar/evento/seminario-bioetica-y-procreacion-humana-diplomatura-en-bioetica/
LOCATION:UCSF\, Echagüe 7151\, Santa Fe Capital\, Santa Fe\, 3000\, Argentina
CATEGORIES:IB Instituto de Bioética Jerome Lejeune
END:VEVENT
BEGIN:VEVENT
DTSTART;TZID=America/Argentina/Buenos_Aires:20210611T190000
DTEND;TZID=America/Argentina/Buenos_Aires:20210611T190000
DTSTAMP:20260421T124520
CREATED:20210602T131127Z
LAST-MODIFIED:20210611T124122Z
UID:44491-1623438000-1623438000@www.ucsf.edu.ar
SUMMARY:Características del sistema científico tecnológico (Conicet) y herramientas de financiamiento.
DESCRIPTION:INSCRIPCIONES CLIC AQUÍ \nVicerrectorado Académico le está invitando a una reunión de Zoom programada.\nUnirse a la reunión Zoom\nhttps://zoom.us/j/94093529024?pwd=NmVTUEhyUzdIN1FWekJPM21IWTI3Zz09\nID de reunión: 940 9352 9024 Código de acceso: 189529\nCaracterísticas del sistema científico tecnológico (Conicet) y herramientas de financiamiento. \n\nSistema Conicet: Mecanismos y Carreras e instrumentos de promoción del conocimiento científico.\n\n \nCarlos Piña es Doctor en Ciencias Biológicas por la Universidad Nacional de Córdoba. actualmente es director del Centro Cientifico Tecnologico CONICET Santa Fe y Director del Centro de Investigación Científica y de Transferencia Tecnológica a la Producción (CICYTTP). es investigador Principal del CONICET y Profesor titular ordinario. Cátedra: Ecología de la Lic. en Biología de la Facultad de Ciencias y Tecnología\, Universidad Autónoma de Entre Ríos.Sus investigaciones se relacionan con la ecología de poblaciones y las interacciones de la fauna con los humanos. \n \nVictoria Castro Demiryi\, es Licenciada en Comunicación Social (FCE-UNER)\, Magister en Política y Gestión de la Ciencia y la Tecnología (FCE-UBA) y doctoranda del Programa del Doctorado en Estudios Sociales (FHUC-UNL). se formó en periodismo cientifico en la Fundacion Leloir y como Agente de Cultura Científica en la Escuela de Ciencia de la OEI. Actualmente desarrolla actividades profesionales en el Instituto de Humanidades y Ciencias Sociales del Litoral y en el Instituto de Agrobiotecnología del Litoral (CONICET-UNL).\nSe interesa por el diseño de estrategias de comunicación pública de la ciencia y por el estudio de las políticas en Ciencia\, Tecnología e Innovación a escala subnacional.
URL:https://www.ucsf.edu.ar/evento/caracteristicas-del-sistema-cientifico-conicet-y-herramientas-de-financiamiento/
LOCATION:Universidad Católica de Santa Fe\, 7151 Cngo. Echagüe\, Santa Fe\, Santa Fe\, S3000\, Argentina
CATEGORIES:Santa Fe,Editorial,Alumnos,Docentes,Rosario,Posadas,Reconquista,Rafaela,Gualeguaychú,Sedes,Extensión,Investigación
END:VEVENT
END:VCALENDAR