BEGIN:VCALENDAR
VERSION:2.0
PRODID:-//UCSF - Universidad Católica de Santa Fe - ECPv5.14.2.1//NONSGML v1.0//EN
CALSCALE:GREGORIAN
METHOD:PUBLISH
X-WR-CALNAME:UCSF - Universidad Católica de Santa Fe
X-ORIGINAL-URL:https://www.ucsf.edu.ar
X-WR-CALDESC:Events for UCSF - Universidad Católica de Santa Fe
REFRESH-INTERVAL;VALUE=DURATION:PT1H
X-Robots-Tag:noindex
X-PUBLISHED-TTL:PT1H
BEGIN:VTIMEZONE
TZID:America/Argentina/Buenos_Aires
BEGIN:STANDARD
TZOFFSETFROM:-0300
TZOFFSETTO:-0300
TZNAME:-03
DTSTART:20210101T000000
END:STANDARD
END:VTIMEZONE
BEGIN:VEVENT
DTSTART;TZID=America/Argentina/Buenos_Aires:20210421T170000
DTEND;TZID=America/Argentina/Buenos_Aires:20210721T190000
DTSTAMP:20260421T124645
CREATED:20210407T144634Z
LAST-MODIFIED:20210701T124240Z
UID:43001-1619024400-1626894000@www.ucsf.edu.ar
SUMMARY:Taller: Abriendo Futuro a través de la Historia y el Folklore Nacional
DESCRIPTION:“El Programa Universidad Abierta para la Casa Común” dependiente de la Secretaría de Ciencia y Técnica\, y Extensión\, comunica que se encuentra abierta la inscripción al Taller anual: “Abriendo Futuro a través de la Historia y el Folklore Nacional”. \nEn dicho Taller\, se abordarán los autores y/o personajes\, desarrollándose aspectos vinculados al contexto histórico de sus obras\, detalles de sus vidas y pensamiento\, trabajándose en cada caso con archivos de Power Point.\nAdemás\, se interpretarán temas musicales elaborados por cada uno de estos autores\, o aquellas canciones que\, sin ser de su autoría\, son identificables con cada intérprete.\nSe trata\, sin más\, de un acto educativo no estandarizado\, con un organización académica que procura analizar las diferencias entre algunos de los autores fundacionales del folklore nacional\, actualizando algunos de los debates propuestos en sus obras. \nEl presente espacio académico-musical\, es además una propuesta que tiene por finalidad trabajar las diversas funciones de la memoria a través de imágenes\, canciones e historias. \nDocente: Dr. Víctor Hadad \nComienzo de clases: día miércoles 21 de abril\, de 17 a 19 hs. \nDestinatarios: público en general\, personal docente\, no docente y alumnos de la UCSF y de otras Instituciones Educativas y Universidades. \nModalidad: semi-presencial \nCursado: dos cuatrimestres \nINSCRIPCIÓN ONLINE AQUÍ\n  \n  \nDr. Víctor Hadad \n \nCV Abreviado \nIntegrante del dúo folklórico KALLPA YAKU y autor del libro YAPUY (microrrelatos políticos y culturales). \nEntre otros antecedentes\, fue: \nDirector Provincial de Entes Portuarios y Túnel Subfluvial del Ministerio de Aguas\, Servicios Públicos y Medio Ambiente de la Provincia de Santa Fe (Decreto del Poder Ejecutivo Provincial nro 516/2011) – Enero 2012 /Diciembre 2015\nIntegrante del Grupo de Expertos para el estudio del nuevo enlace físico del Area Metropolitana Santa Fe – Paraná (Decreto del Poder Ejecutivo Provincial Nro 003/2012)\nDirector Representante por el Gobierno de la Provincia de Santa Fe en el Ente Interprovincial Túnel Subfluvial Raúl Uranga Carlos Sylvestre Begnis (setiembre 2009/octubre 2010) – Decreto del Poder Ejecutivo Provincial Nro. 1537/09\nColaborador en el Proyecto Puente – Parque Cultura del Río (Gobierno de la Provincia de Santa Fe)\nAsesor legal Representación Santa Fe – Ente Interprovincial Túnel Subfluvial Raúl Uranga Carlos Sylvestre Begnis (enero 2008/agosto 2009) \nPara informes comunicarse vía E-mail a nsturla@ucsf.edu.ar \nLas inscripciones se realizan online a través del link ut-supra
URL:https://www.ucsf.edu.ar/evento/nuevo-taller-abriendo-futuro-a-traves-de-la-historia-y-el-folklore-nacional/
LOCATION:Santa Fe
CATEGORIES:Santa Fe,Rosario,Posadas,Reconquista,Rafaela,Gualeguaychú,Sedes
ORGANIZER;CN="PUA":MAILTO:nsturla@ucsf.edu.ar
END:VEVENT
BEGIN:VEVENT
DTSTART;TZID=America/Argentina/Buenos_Aires:20210427T093000
DTEND;TZID=America/Argentina/Buenos_Aires:20210730T113000
DTSTAMP:20260421T124645
CREATED:20210423T141303Z
LAST-MODIFIED:20210701T124255Z
UID:43497-1619515800-1627644600@www.ucsf.edu.ar
SUMMARY:Continúan abiertas las inscripciones a los Cursos de Inglés PUA
DESCRIPTION:El “Programa Universidad Abierta”\, dependiente de la Secretaría de Ciencia y Técnica\, y Extensión\, de la UCSF\, comunica que continúan abiertas las inscripciones a los Cursos de Inglés en sus diferentes niveles. \n¿Para qué me sirve aprender este idioma?\nPara ser capaces de:  \n\nUtilizar los conocimientos adquiridos como una herramienta de formación académica y personal.\nComprender\, mediante la lectura y escucha de textos\, grabaciones y videos\,  la cultura de países de habla inglesa\, y sobre todo aquellos temas de su interés particular.\nAmpliar y profundizar el conocimiento de la lengua inglesa (grammar).\nDesarrollar competencias lingüísticas en inglés (oral\, aural\, writing\, reading skills).\nDesenvolverse en en el idioma con propiedad y corrección lingüística\, en situaciones comunes de la vida diaria.\n Acceder a bibliografía escrita en este idioma. Entre otros… \n\nTeacher: Eduardo Quintana \nDestinatarios: público en general; alumnos\, personal docente y no docente de la UCSF (abonan el 50% del cuatrimestre completo). \nCursado: dos cuatrimestres \nNivel Inicial: martes de 9:30 a 11:30 hs. \nInscripciones online en el link de abajo \n ⇓ \nhttps://www.eventbrite.com.ar/e/curso-de-ingles-nivel-inicial-tickets-152849114817?aff=Inscripciones \n  \nNivel Intermedio y Avanzado: miércoles de 18:30 a 20:30 hs\, \nInscripciones online en el link de abajo \n ⇓ \nhttps://www.eventbrite.com.ar/e/curso-de-ingles-nivel-intermedio-y-avanzado-tickets-152865604137?aff=Inscripciones \n\nSe entregarán certificados.\n¡Sumate! No pierdas esta excelente oportunidad de potenciar tus conocimientos\, logrando una formación académica más integral. \nContacto: nsturla@ucsf.edu.ar \n 
URL:https://www.ucsf.edu.ar/evento/continuan-abiertas-las-inscripciones-a-los-cursos-de-ingles-pua/
LOCATION:UCSF Santa Fe\, Echagüe 7151\, Santa Fe\, Santa Fe\, Argentina
CATEGORIES:Santa Fe,Rosario,Posadas,Reconquista,Rafaela,Gualeguaychú,Sedes,Investigación
ORGANIZER;CN="Vicerrectorado%20de%20Formaci%C3%B3n":MAILTO:vrecform@ucsf.edu.ar
GEO:-31.6069451;-60.6709418
X-APPLE-STRUCTURED-LOCATION;VALUE=URI;X-ADDRESS=UCSF Santa Fe Echagüe 7151 Santa Fe Santa Fe Argentina;X-APPLE-RADIUS=500;X-TITLE=Echagüe 7151:geo:-60.6709418,-31.6069451
END:VEVENT
BEGIN:VEVENT
DTSTART;TZID=America/Argentina/Buenos_Aires:20210617T100000
DTEND;TZID=America/Argentina/Buenos_Aires:20210617T110000
DTSTAMP:20260421T124645
CREATED:20210615T193529Z
LAST-MODIFIED:20210615T193926Z
UID:44932-1623924000-1623927600@www.ucsf.edu.ar
SUMMARY:Proceso de escucha a los participantes de la Economía Social y Solidaria
DESCRIPTION:Convocamos a todos los protagonistas de la Economía Social y Solidaria de la región\, a ser parte del proceso de escucha de la 1º Asamblea Eclesial de América Latina y el Caribe\, convocada por el Consejo Episcopal Latinoamericano de la Iglesia Católica (CELAM).  \nEl proceso de escucha\, en perspectiva sinodal\, será la base del discernimiento\, y nos iluminará para orientar los pasos futuros que -como Iglesia-\, debemos dar para acompañar a Jesús encarnado hoy en medio del pueblo.  \nLos invitamos a participar de este proceso a través de un cuestionario individual orientado específicamente a la Economía Social y Solidaria\, para luego poder presentar las conclusiones como respuestas grupales del sector.  \nAgradecemos la disposición\, la buena voluntad e inteligencia para contribuir a este documento conjunto de trabajo\, hacia la Asamblea Eclesial de América Latina y el Caribe.  \nSolicitamos puedan compartir esta iniciativa con todos aquellos que se sientan llamados a aportar su mirada de la Economía Social y Solidaria al proceso de escucha de la Iglesia Católica en América Latina.  \nHaremos memoria agradecida y contemplación de nuestros pueblos\, profundizando en los desafíos actuales\, reavivando nuestro compromiso y buscando responder a los nuevos caminos para una vida plena con un horizonte común.  \n¡Gracias!  \nDatos del encuentro \nVía Zoom – ID: 868 7362 9262 \n 
URL:https://www.ucsf.edu.ar/evento/proceso-de-escucha-a-los-participantes-de-la-economia-social-y-solidaria/
LOCATION:Vía Zoom\, Argentina
CATEGORIES:Licenciatura en Administración de Cooperativas y Mutuales ,Alumnos,Facultades,Carreras de Grado,Contador Público,Ciencias Económicas,Licenciatura en Administración ,Extensión,IIES Instituto de Investigaciones Económicas y Sociales
ATTACH;FMTTYPE=image/jpeg:https://www.ucsf.edu.ar/wp-content/uploads/2021/06/asamblea.jpg
END:VEVENT
BEGIN:VEVENT
DTSTART;TZID=America/Argentina/Buenos_Aires:20210618T150000
DTEND;TZID=America/Argentina/Buenos_Aires:20210618T170000
DTSTAMP:20260421T124645
CREATED:20210601T143742Z
LAST-MODIFIED:20210614T190441Z
UID:44365-1624028400-1624035600@www.ucsf.edu.ar
SUMMARY:Círculo de reflexión socio-eco-jurídica
DESCRIPTION:Invitación al Círculo de Reflexión socio-eco-jurídica del viernes 18/6 \nEn el marco del proyecto de investigación sobre derechos humanos y economía\, el próximo viernes 18 de junio de 2021 a las 15hs (Arg.) tendrá lugar el Círculo de Reflexión socio-eco-jurídica\, bajo el tema “Jurisprudencia en Derechos Humanos Económicos Sociales Y Culturales”. \nLa importancia teórica y práctica que que rodea a esta temática para nuestra investigación resulta crucial. A manera de anticipo al encuentro\, los fallos que se expondrán serán: Fallo Kersich\, Juan Gabriel y otros vs. Aguas Bonaerenses S.A. y otros s/ Amparo (CSJN 02/12/2014); Provincia de La Pampa vs. Provincia de Mendoza s/ Uso de aguas (CSJN 01/12/2017)\, y Majul\, Julio Jesús vs. Municipalidad de Pueblo General Belgrano y otros s. Acción de amparo ambiental (CSJN 11/07/2019) \nTodos disponibles en: https://drive.google.com/drive/u/0/folders/10PIgSerJk1YNvMaQVcS6-bMeGMTRFRTY \nLa exposición estará a cargo de la Dra. María José Álvarez quien\, además de formar parte como integrante activa del grupo de investigación\, es abogada egresada en Ciencias Jurídicas de la UCSF\, con especialidad en Derecho Laboral (UNL) y en Derecho Tributario (UNL)\, se desempeña como Jueza de Primera Instancia en lo Civil y Comercial de Rafaela\, ejerce el cargo de profesora adjunta en la Cátedra de Contratos Parte General (UCSE)\, y cuenta con varias sentencias publicadas en la Revista de Derecho Ambiental \n-”Zurbriggen\, G. y otra c/ Aguas Santafesinas SA s/ Amparo”. Revista de Derecho Ambiental T.48 Director: Dr. Néstor Cafferata. Con nota. \n– “Lencioni\, Celide Graciela; Andereggen\, Sergio Roberto c. Municipalidad de Rafaela s/ amparo” Publicado en: La Ley Online; Cita Online: AR/JUR/82310/2012 \n–“Astesana\, Omar Héctor y otros c. Municipalidad de Sunchales s/ sumario ley 10.000 • 01/07/2019” Publicado en Revista de Derecho Ambiental Nro. 61. Cita Online: AR/JUR/26164/2019 \nDestinado a alumnos\, profesionales y público en general se deja link de acceso al encuentro: https://meet.google.com/mqg-ohnx-vcw \n¡Los esperamos! \n  \nCírculo de Reflexión Socio-Eco-Jurídica\,  \nen Colaboración con el Programa Ciencia y Técnica en Casa de la Secretaría de Ciencia\, Técnica y Extensión de la UCSF \n  \nEspacio de intercambio académico que articula debates actuales sobre derecho\, sociedad y ecología desde enfoques interdisciplinarios. \nMetodológicamente se trabaja a partir de textos difundidos previamente entre los participantes y que son presentados brevemente por uno de ellos al iniciar el encuentro. Tal presentación sirve de disparador para el intercambio abierto y plural. \nConvoca  a participantes de diferentes áreas académicas y otros ámbitos sociales\, y suele funcionar como un rico espacio de inspiración para el trabajo de producción académica. \n 
URL:https://www.ucsf.edu.ar/evento/circulo-de-reflexion-socio-eco-juridica-3-2021-06-11-2021-06-18/
LOCATION:Santa Fe
CATEGORIES:Investigación Ecojurídica,Alumnos,Facultades,Docentes,Carreras de Grado,Derecho y Ciencia Política,Investigación,IEHDS Instituto de Ecología Humana y Desarrollo Sustentable,IFD Instituto de Filosofía del Derecho
END:VEVENT
BEGIN:VEVENT
DTSTART;TZID=America/Argentina/Buenos_Aires:20210618T190000
DTEND;TZID=America/Argentina/Buenos_Aires:20210618T203000
DTSTAMP:20260421T124645
CREATED:20210519T130417Z
LAST-MODIFIED:20210607T115056Z
UID:43996-1624042800-1624048200@www.ucsf.edu.ar
SUMMARY:Seminario Virtual Todo por amor
DESCRIPTION:Seminario virtual: \nTODO POR AMOR: PROYECTO\, CONFLICTO\, CONVIVENCIA\, PANDEMIA. \nA cargo del Dr. Claudio García Pintos \nEl amor no es una novela romántica\, sino una aventura cotidiana. O\, al menos\, es ambas cosas. No es un concepto sino\, más bien\, expresión de la vida misma\, que se manifiesta y construye nuestra cotidianeidad. No es una escena de película sino la vida de todos los días al lado de quien comparte nuestros proyectos\, nuestras ilusiones\, acompaña nuestros entusiasmos y conoce de nuestros desvelos.  Por eso\, en medio del conflicto y la pandemia\, es importante detenernos\, permitirnos la pausa\, asomarnos al umbral y animarnos a vivir el amor en lo cotidiano. \nContenidos: \n\nEl proyecto de a dos\nConflictos en la convivencia durante la pandemia\nEstrategias posibles para afrontarlos y resolverlos positivamente.\n\nClaudio García Pintos \nEs licenciado y doctor en Psicología\, Summa cum Laude\, por la Pontificia Universidad Católica Argentina (1986)\, profesor titular de la Universidad Católica Argentina\, la Universidad Austral (Argentina) y profesor invitado en universidades latinoamericanas. Es también director del CLAE (Centro de Logoterapia y Análisis Existencial) de la Universidad Católica Argentina\, primer centro universitario de Logoterapia del mundo\, y director de CAVEF (Cátedra Abierta Viktor Emil Frankl). Asimismo\, es autor de una quincena de libros publicados en Argentina\, Brasil\, México\, así como de numerosos artículos publicados en revistas internacionales y conferencista en diferentes países latinoamericanos. \nActividad arancelada\, para inscribirse siga este enlace: \nInscripción online al Seminario Todo por Amor\n 
URL:https://www.ucsf.edu.ar/evento/seminario-virtual-todo-por-amor/2021-06-18/
LOCATION:Virtual\, Argentina
CATEGORIES:A distancia,Alumnos,Docentes,Personal UCSF,Sedes,IMF Instituto para el Matrimonio y la Familia
ATTACH;FMTTYPE=image/jpeg:https://www.ucsf.edu.ar/wp-content/uploads/2021/05/WhatsApp-Image-2021-06-07-at-08.49.14-e1623066644545.jpeg
ORGANIZER;CN="Instituto%20para%20el%20Matrimonio%20y%20la%20Familia":MAILTO:matyfam@ucsf.edu.ar
END:VEVENT
END:VCALENDAR