BEGIN:VCALENDAR
VERSION:2.0
PRODID:-//UCSF - Universidad Católica de Santa Fe - ECPv5.14.2.1//NONSGML v1.0//EN
CALSCALE:GREGORIAN
METHOD:PUBLISH
X-WR-CALNAME:UCSF - Universidad Católica de Santa Fe
X-ORIGINAL-URL:https://www.ucsf.edu.ar
X-WR-CALDESC:Events for UCSF - Universidad Católica de Santa Fe
REFRESH-INTERVAL;VALUE=DURATION:PT1H
X-Robots-Tag:noindex
X-PUBLISHED-TTL:PT1H
BEGIN:VTIMEZONE
TZID:America/Argentina/Buenos_Aires
BEGIN:STANDARD
TZOFFSETFROM:-0300
TZOFFSETTO:-0300
TZNAME:-03
DTSTART:20210101T000000
END:STANDARD
END:VTIMEZONE
BEGIN:VEVENT
DTSTART;TZID=America/Argentina/Buenos_Aires:20210421T170000
DTEND;TZID=America/Argentina/Buenos_Aires:20210721T190000
DTSTAMP:20260421T094827
CREATED:20210407T144634Z
LAST-MODIFIED:20210701T124240Z
UID:43001-1619024400-1626894000@www.ucsf.edu.ar
SUMMARY:Taller: Abriendo Futuro a través de la Historia y el Folklore Nacional
DESCRIPTION:“El Programa Universidad Abierta para la Casa Común” dependiente de la Secretaría de Ciencia y Técnica\, y Extensión\, comunica que se encuentra abierta la inscripción al Taller anual: “Abriendo Futuro a través de la Historia y el Folklore Nacional”. \nEn dicho Taller\, se abordarán los autores y/o personajes\, desarrollándose aspectos vinculados al contexto histórico de sus obras\, detalles de sus vidas y pensamiento\, trabajándose en cada caso con archivos de Power Point.\nAdemás\, se interpretarán temas musicales elaborados por cada uno de estos autores\, o aquellas canciones que\, sin ser de su autoría\, son identificables con cada intérprete.\nSe trata\, sin más\, de un acto educativo no estandarizado\, con un organización académica que procura analizar las diferencias entre algunos de los autores fundacionales del folklore nacional\, actualizando algunos de los debates propuestos en sus obras. \nEl presente espacio académico-musical\, es además una propuesta que tiene por finalidad trabajar las diversas funciones de la memoria a través de imágenes\, canciones e historias. \nDocente: Dr. Víctor Hadad \nComienzo de clases: día miércoles 21 de abril\, de 17 a 19 hs. \nDestinatarios: público en general\, personal docente\, no docente y alumnos de la UCSF y de otras Instituciones Educativas y Universidades. \nModalidad: semi-presencial \nCursado: dos cuatrimestres \nINSCRIPCIÓN ONLINE AQUÍ\n  \n  \nDr. Víctor Hadad \n \nCV Abreviado \nIntegrante del dúo folklórico KALLPA YAKU y autor del libro YAPUY (microrrelatos políticos y culturales). \nEntre otros antecedentes\, fue: \nDirector Provincial de Entes Portuarios y Túnel Subfluvial del Ministerio de Aguas\, Servicios Públicos y Medio Ambiente de la Provincia de Santa Fe (Decreto del Poder Ejecutivo Provincial nro 516/2011) – Enero 2012 /Diciembre 2015\nIntegrante del Grupo de Expertos para el estudio del nuevo enlace físico del Area Metropolitana Santa Fe – Paraná (Decreto del Poder Ejecutivo Provincial Nro 003/2012)\nDirector Representante por el Gobierno de la Provincia de Santa Fe en el Ente Interprovincial Túnel Subfluvial Raúl Uranga Carlos Sylvestre Begnis (setiembre 2009/octubre 2010) – Decreto del Poder Ejecutivo Provincial Nro. 1537/09\nColaborador en el Proyecto Puente – Parque Cultura del Río (Gobierno de la Provincia de Santa Fe)\nAsesor legal Representación Santa Fe – Ente Interprovincial Túnel Subfluvial Raúl Uranga Carlos Sylvestre Begnis (enero 2008/agosto 2009) \nPara informes comunicarse vía E-mail a nsturla@ucsf.edu.ar \nLas inscripciones se realizan online a través del link ut-supra
URL:https://www.ucsf.edu.ar/evento/nuevo-taller-abriendo-futuro-a-traves-de-la-historia-y-el-folklore-nacional/
LOCATION:Santa Fe
CATEGORIES:Santa Fe,Rosario,Posadas,Reconquista,Rafaela,Gualeguaychú,Sedes
ORGANIZER;CN="PUA":MAILTO:nsturla@ucsf.edu.ar
END:VEVENT
BEGIN:VEVENT
DTSTART;TZID=America/Argentina/Buenos_Aires:20210427T093000
DTEND;TZID=America/Argentina/Buenos_Aires:20210730T113000
DTSTAMP:20260421T094827
CREATED:20210423T141303Z
LAST-MODIFIED:20210701T124255Z
UID:43497-1619515800-1627644600@www.ucsf.edu.ar
SUMMARY:Continúan abiertas las inscripciones a los Cursos de Inglés PUA
DESCRIPTION:El “Programa Universidad Abierta”\, dependiente de la Secretaría de Ciencia y Técnica\, y Extensión\, de la UCSF\, comunica que continúan abiertas las inscripciones a los Cursos de Inglés en sus diferentes niveles. \n¿Para qué me sirve aprender este idioma?\nPara ser capaces de:  \n\nUtilizar los conocimientos adquiridos como una herramienta de formación académica y personal.\nComprender\, mediante la lectura y escucha de textos\, grabaciones y videos\,  la cultura de países de habla inglesa\, y sobre todo aquellos temas de su interés particular.\nAmpliar y profundizar el conocimiento de la lengua inglesa (grammar).\nDesarrollar competencias lingüísticas en inglés (oral\, aural\, writing\, reading skills).\nDesenvolverse en en el idioma con propiedad y corrección lingüística\, en situaciones comunes de la vida diaria.\n Acceder a bibliografía escrita en este idioma. Entre otros… \n\nTeacher: Eduardo Quintana \nDestinatarios: público en general; alumnos\, personal docente y no docente de la UCSF (abonan el 50% del cuatrimestre completo). \nCursado: dos cuatrimestres \nNivel Inicial: martes de 9:30 a 11:30 hs. \nInscripciones online en el link de abajo \n ⇓ \nhttps://www.eventbrite.com.ar/e/curso-de-ingles-nivel-inicial-tickets-152849114817?aff=Inscripciones \n  \nNivel Intermedio y Avanzado: miércoles de 18:30 a 20:30 hs\, \nInscripciones online en el link de abajo \n ⇓ \nhttps://www.eventbrite.com.ar/e/curso-de-ingles-nivel-intermedio-y-avanzado-tickets-152865604137?aff=Inscripciones \n\nSe entregarán certificados.\n¡Sumate! No pierdas esta excelente oportunidad de potenciar tus conocimientos\, logrando una formación académica más integral. \nContacto: nsturla@ucsf.edu.ar \n 
URL:https://www.ucsf.edu.ar/evento/continuan-abiertas-las-inscripciones-a-los-cursos-de-ingles-pua/
LOCATION:UCSF Santa Fe\, Echagüe 7151\, Santa Fe\, Santa Fe\, Argentina
CATEGORIES:Santa Fe,Rosario,Posadas,Reconquista,Rafaela,Gualeguaychú,Sedes,Investigación
ORGANIZER;CN="Vicerrectorado%20de%20Formaci%C3%B3n":MAILTO:vrecform@ucsf.edu.ar
GEO:-31.6069451;-60.6709418
X-APPLE-STRUCTURED-LOCATION;VALUE=URI;X-ADDRESS=UCSF Santa Fe Echagüe 7151 Santa Fe Santa Fe Argentina;X-APPLE-RADIUS=500;X-TITLE=Echagüe 7151:geo:-60.6709418,-31.6069451
END:VEVENT
BEGIN:VEVENT
DTSTART;TZID=America/Argentina/Buenos_Aires:20210629T000000
DTEND;TZID=America/Argentina/Buenos_Aires:20210629T000000
DTSTAMP:20260421T094827
CREATED:20210629T213441Z
LAST-MODIFIED:20210629T213441Z
UID:45551-1624924800-1624924800@www.ucsf.edu.ar
SUMMARY:Clases Preuniversitarias presenciales UCSF Sede Santos Mártires Posadas
DESCRIPTION:Esta clase será dictada por la Dra. Carolina Rosas\, profesora de la carrera de Abogacía. \nSe brindará información acerca del perfil profesional\, campo ocupacional y salida laboral de la carrera de Abogacía. Además podrás sacarte todas las dudas e intercambiar opiniones. \nLas clases son gratuitas y podes participar de manera presencial dado que hemos considerado todas las normas de biosegurdidad. \nEn el siguiente link podrán acceder al formulario de inscripción a la actividad todas las personas interesadas \nhttps://forms.gle/cGivxeKUA7kfPheK \n \n 
URL:https://www.ucsf.edu.ar/evento/clases-preuniversitarias-abogacia/
LOCATION:Santa Fe
CATEGORIES:Facultades,Alumnos,Posadas,Derecho y Ciencia Política,Sedes
END:VEVENT
BEGIN:VEVENT
DTSTART;TZID=America/Argentina/Buenos_Aires:20210629T170000
DTEND;TZID=America/Argentina/Buenos_Aires:20210629T183000
DTSTAMP:20260421T094827
CREATED:20210625T203113Z
LAST-MODIFIED:20210625T203114Z
UID:45479-1624986000-1624991400@www.ucsf.edu.ar
SUMMARY:Mons. Lucio Ruiz: "Iglesia y Comunicación en la crisis del COVID"
DESCRIPTION:Charla con Monseñor Lucio Ruiz\n¿Cómo es la comunicación de la Iglesia en tiempos de COVID?\nEn el marco de la materia Antropología Teológica de la Lic. en Medios Digitales conversaremos con el Secretario del Dicasterio para la Comunicación del Vaticano. \n¿Cuándo?\nEl martes 29/06 a las 17 hs vía ZOOM\n(pedir link de ingreso a brocca@ucsf.edu.ar) \nEl P. Lucio nació en Santa Fe\, es Doctor en Ingeniería Biomédica y en Comunicación\, Máster en Businness Administración y graduado en Teología Fundamental. Actualmente reside en Roma desde donde se conectará para conversar con nosotros.
URL:https://www.ucsf.edu.ar/evento/mons-lucio-ruiz-iglesia-y-comunicacion-en-la-crisis-del-covid/
LOCATION:Santa Fe
CATEGORIES:Filosofía y Humanidades,Licenciatura en Ciencias de la Comunicación
ATTACH;FMTTYPE=image/jpeg:https://www.ucsf.edu.ar/wp-content/uploads/2021/06/WhatsApp-Image-2021-06-25-at-17.06.43.jpeg
END:VEVENT
BEGIN:VEVENT
DTSTART;TZID=America/Argentina/Buenos_Aires:20210629T180000
DTEND;TZID=America/Argentina/Buenos_Aires:20210629T193000
DTSTAMP:20260421T094827
CREATED:20210610T120901Z
LAST-MODIFIED:20210623T151220Z
UID:44754-1624989600-1624995000@www.ucsf.edu.ar
SUMMARY:Segundo Coloquio Universitario Fratelli Tutti
DESCRIPTION:Segundo Coloquio Universitario Fratelli Tutti \nReflexiones sobre la fraternidad y la amistad social \n  \nPROGRAMA \n  \nPrimera Sesión\, martes 29/6 18:00  \n18:00\nInicio. Dra. Roxana Ruffo. Directora Académica Vicerrectorado de Formación\, USAL. \n18:05\nPresentación inaugural: Lic. Pbro. Francisco Ramírez Yáñez.\nRector UNIVA. Universidad del Valle de Atemajac\, Guadalajara\, México.\nPresidente ODUCAL. Organización de Universidades Católicas de América Latina y el Caribe. \n18:20\nUniversidad del Salvador\nTema: “El Prójimo sin fronteras”\nExpositora: Dra. Gabriela Renault. Decana Facultad de Psicología y Psicopedagogía\, USAL. \n18:35\nUniversidad de Palermo\nTema: “Libertad\, igualdad\, fraternidad”\nExpositor: Profesor Lic. Mariano Aguas. \n18:50\nUniversidad FASTA\nTema: “Libertad\, igualdad\, fraternidad”\nExpositor: Dr. Alejandro Gabriel Campos. Vicerrector Universidad FASTA. \n19:05\nUniversidad de Ciencias Sociales y Empresariales. UCES\nTema: “Promover el bien moral”\nExpositor: Cdor. Eduardo Ghersi. Decano Facultad de Ciencias Económicas\, UCES. \n19:20\nPreguntas  \n19:35\nCierre de la sesión \nModera: Lic. Soledad Herrera. \n  \n                                       \nSegunda Sesión\, miércoles 30/6 18:00  \n18:00\nInicio. Dra. Roxana Ruffo. Directora Académica Vicerrectorado de Formación\, USAL. \n18:05\nUniversidad CAECE.\nTema: “Los caminos de reencuentro”\nExpositor: Dr. Alberto Allemand. Rector Universidad CAECE. \n18:20\nUniversidad de Morón\nTema: “La mejor política”\nExpositor: Dr. Humberto Podetti \n18:35\nUniversidad Nacional del Noroeste de la Provincia de Buenos Aires\nTema: “La mejor política”\nExpositora: Mgtr. Danya Tavela. Vicerrectora UNNOBA \n18:50\nPontificia Universidad Católica de Chile\nTema: “El gusto de reconocer al otro”\nExpositor: Pbro. Tomas Schertz\, Vice Gran Canciller. Pontificia Universidad Católica de Chile. \n19:05\nPreguntas \n19:20\nReflexiones de Cierre: Mgter. Eugenio Martin De Palma\, Rector Universidad Católica de Santa Fe. \n  \nModera: Lic. Soledad Herrera. \n  \nContacto:\nrruffo@usal.edu.ar; formacion@usal.edu.ar \n  \nUniversidades y Organizaciones participantes: \n\nUniversidad de Palermo\nUniversidad de Ciencias Empresariales y Sociales UCES\nUniversidad CAECE\nUniversidad de Morón\nPontificia Universidad Católica de Chile. Santiago\, Chile.\nUniversidad FASTA\nUniversidad Católica de Santa Fe\nUNNOBA Universidad del Noroeste de la Provincia de Buenos Aires\nUNIVA Universidad del Valle de Atemajac\, Guadalajara\, México.\nODUCAL Organización de Universidades Católicas de América Latina y el Caribe\nUniversidad del Salvador
URL:https://www.ucsf.edu.ar/evento/segundo-coloquio-universitario-fratelli-tutti/2021-06-29/
LOCATION:Virtual\, Argentina
CATEGORIES:Home principal,Graduados,A distancia,Arquitectura y Diseño,Ciencias Agropecuarias,Santa Fe,Alumnos,Facultades,Rosario,Ciencias de la Salud,Docentes,Posadas,Personal UCSF,Ciencias Económicas,Reconquista,Sistema de Bibliotecas,Derecho y Ciencia Política,Filosofía y Humanidades,Rafaela,Psicología,Vicerrectorado de Formación,Gualeguaychú,Concordia,Sedes,Internacional,Extensión,Investigación
ATTACH;FMTTYPE=image/jpeg:https://www.ucsf.edu.ar/wp-content/uploads/2021/06/De-que-trata-la-enciclica-Fratelli-Tutti.jpg
END:VEVENT
BEGIN:VEVENT
DTSTART;TZID=America/Argentina/Buenos_Aires:20210701T180000
DTEND;TZID=America/Argentina/Buenos_Aires:20210701T200000
DTSTAMP:20260421T094827
CREATED:20210616T212722Z
LAST-MODIFIED:20210625T164956Z
UID:44987-1625162400-1625169600@www.ucsf.edu.ar
SUMMARY:Conversatorio virtual "Experiencias esperanzadoras frente a la crisis alimentaria"
DESCRIPTION:  \n  \nEn el marco del equipo HOY para el FUTURO la UCSF lanza el Ciclo de conversatorios “Experiencias esperanzadoras frente a la crisis pandémica” \nEl PRIMER ENCUENTRO es coorganizado con el Instituto de Ciencias de la Salud y el Equipo de investigación socio-eco-jurídica de la UCSF. \nSerá el Jueves 1 de Julio a las 18 hs y estará vinculado a la temática alimentaria.  \nPrograma \nPresentación: Ana Bonet \nIntroducción a la cuestión crisis alimentaria en contexto de pandemia\, desde el enfoque del derecho humano a la alimentación: Dra. Eugenia Marichal (UNL-CONICET) \nParticipan: \n\nInstituto de Cultura Popular – INCUPO – Araceli Pared y Fredi Fleitas \nAsociación Cultural para el desarrollo integral  –ACDI – Fernando Aiello \nAsociación Civil de Merenderos Protegerte – Alejandra Vigo (coordinadora)\nCocina Celeste – Gustavo Volpe\n\nCierre: Celeste Nessier \nMODALIDAD: se propone una dinámica de diálogo colaborativa donde los referentes de las ONG convocadas y los participantes del webinar\, de modo activo y espontáneo puedan intercambiar experiencias en torno a ejes dinamizadores de discusión: 1) aportes de la sociedad civil a una alimentación soberana\, saludable\, sostenible e inclusiva\, 2) acciones innovadoras para la reducción de las vulnerabilidades alimentarias\, 3) caracterizar la trama de actores que facilitan el trabaja en territorio\, 4) visión de la sociedad civil sobre las vulnerabilidades alimentarias y 5) qué limitaciones o desafíos se visualizan como constantes o pendientes? \nInformación para unirse a la reunión Zoom\nhttps://zoom.us/j/94547982005?pwd=dDROQXZoNlR5Zk9qQVo2bnFxTlZjUT09 \nID de reunión: 945 4798 2005\nCódigo de acceso: 838412 \nParticipación libre y gratuita. \nSe cobra sólo por Certificado. Para solicitarlo inscribirse AQUÍ. \n 
URL:https://www.ucsf.edu.ar/evento/conversatorio-virtual-experiencias-esperanzadoras-frente-a-la-crisis-alimenaria/
LOCATION:Santa Fe
CATEGORIES:Graduados,A distancia,Investigación Ecojurídica,Arquitectura y Diseño,Ciencias Agropecuarias,Santa Fe,Alumnos,Facultades,Rosario,Docentes,Ciencias de la Salud,Posadas,Personal UCSF,Ciencias Económicas,Reconquista,Derecho y Ciencia Política,Filosofía y Humanidades,Rafaela,Vicerrectorado de Formación,Gualeguaychú,Psicología,Concordia,Sedes,Extensión
ATTACH;FMTTYPE=image/jpeg:https://www.ucsf.edu.ar/wp-content/uploads/2021/06/conversatorios-hoy-para-el-futuro-e1624538279216.jpg
END:VEVENT
BEGIN:VEVENT
DTSTART;TZID=America/Argentina/Buenos_Aires:20210702T150000
DTEND;TZID=America/Argentina/Buenos_Aires:20210702T170000
DTSTAMP:20260421T094827
CREATED:20210601T143742Z
LAST-MODIFIED:20210630T205721Z
UID:44366-1625238000-1625245200@www.ucsf.edu.ar
SUMMARY:Círculo de reflexión socio-eco-jurídica
DESCRIPTION:En el encuentro de este viernes 2/07\, a las 15:00 Hs (Arg.) que organiza nuestro equipo de investigación dirigido por @Ana Bonet⁩\, Esteban Piva nos va a exponer sobre el texto “Las tensiones de los derechos humanos” (Págs. 36-64); en “DERECHOS HUMANOS\, DEMOCRACIA Y DESARROLLO” de Boaventura de Sousa Santos\nDisponible: https://drive.google.com/file/d/1f4HbEQIZcThH6CwBjX84-sFJsIKDTBAk/view?usp=drivesdk\nEl link de la reunión es el que usamos habitualmente: https://meet.google.com/mqg-ohnx-vcw \n  \n  \nCírculo de Reflexión Socio-Eco-Jurídica\,  \nen Colaboración con el Programa Ciencia y Técnica en Casa de la Secretaría de Ciencia\, Técnica y Extensión de la UCSF \n  \nEspacio de intercambio académico que articula debates actuales sobre derecho\, sociedad y ecología desde enfoques interdisciplinarios. \nMetodológicamente se trabaja a partir de textos difundidos previamente entre los participantes y que son presentados brevemente por uno de ellos al iniciar el encuentro. Tal presentación sirve de disparador para el intercambio abierto y plural. \nConvoca  a participantes de diferentes áreas académicas y otros ámbitos sociales\, y suele funcionar como un rico espacio de inspiración para el trabajo de producción académica. \n  \n  \n  \n 
URL:https://www.ucsf.edu.ar/evento/circulo-de-reflexion-socio-eco-juridica-3-2021-06-11-2021-07-02/
LOCATION:Santa Fe
CATEGORIES:Investigación Ecojurídica,Facultades,Alumnos,Carreras de Grado,Docentes,Derecho y Ciencia Política,IEHDS Instituto de Ecología Humana y Desarrollo Sustentable,Investigación,IFD Instituto de Filosofía del Derecho
END:VEVENT
BEGIN:VEVENT
DTSTART;TZID=America/Argentina/Buenos_Aires:20210702T150000
DTEND;TZID=America/Argentina/Buenos_Aires:20210702T180000
DTSTAMP:20260421T094827
CREATED:20210629T010551Z
LAST-MODIFIED:20210629T010619Z
UID:45538-1625238000-1625248800@www.ucsf.edu.ar
SUMMARY:Diplomatura en Bioética: Seminario Final de Vida y Cuidados Paliativos
DESCRIPTION:BIOÉTICA Y FINAL DE VIDA\n1. La atención al paciente terminal. Sentido del dolor\, del sufrimiento y de la\nmuerte. La muerte como proceso. La toma de decisiones. Limitación del\nesfuerzo terapéutico. Alimentación e hidratación artificiales. Sedación\npaliativa y terminal.Distinción entre medidas ordinarias y extraordinarias. Limitación del esfuerzo\nterapéutico. Suspensión de tratamiento: aspectos médicos\, jurídicos y éticos.\n2. Consentimiento informado y directivas anticipadas en la legislación: Ley de\nlos Derechos del Paciente. Acompañamiento y dignidad al final de la vida:\nRelación entre humanización y calidad de las relaciones profesionales.\nConsideraciones bioéticas. \nBIOÉTICA Y CUIDADOS PALIATIVOS\n1. Los cuidados paliativos y el debate sobre calidad de vida. El Hospice como\nfilosofía de acompañamiento. El equipo de Cuidados Paliativos.\nInterdisciplinariedad. Objetivos. Marco legal de los cuidados paliativos.\n2. La vulnerabilidad inherente al ser persona: implicancias éticas. La vida\nvulnerable en el Magisterio de Francisco. Laudato Si\nSeminario
URL:https://www.ucsf.edu.ar/evento/diplomatura-en-bioetica-seminario-final-de-vida-y-cuidados-paliativos/
LOCATION:Santa Fe
CATEGORIES:IB Instituto de Bioética Jerome Lejeune
END:VEVENT
END:VCALENDAR