BEGIN:VCALENDAR
VERSION:2.0
PRODID:-//UCSF - Universidad Católica de Santa Fe - ECPv5.14.2.1//NONSGML v1.0//EN
CALSCALE:GREGORIAN
METHOD:PUBLISH
X-WR-CALNAME:UCSF - Universidad Católica de Santa Fe
X-ORIGINAL-URL:https://www.ucsf.edu.ar
X-WR-CALDESC:Events for UCSF - Universidad Católica de Santa Fe
REFRESH-INTERVAL;VALUE=DURATION:PT1H
X-Robots-Tag:noindex
X-PUBLISHED-TTL:PT1H
BEGIN:VTIMEZONE
TZID:America/Argentina/Buenos_Aires
BEGIN:STANDARD
TZOFFSETFROM:-0300
TZOFFSETTO:-0300
TZNAME:-03
DTSTART:20210101T000000
END:STANDARD
END:VTIMEZONE
BEGIN:VEVENT
DTSTART;TZID=America/Argentina/Buenos_Aires:20210421T170000
DTEND;TZID=America/Argentina/Buenos_Aires:20210721T190000
DTSTAMP:20260421T112011
CREATED:20210407T144634Z
LAST-MODIFIED:20210701T124240Z
UID:43001-1619024400-1626894000@www.ucsf.edu.ar
SUMMARY:Taller: Abriendo Futuro a través de la Historia y el Folklore Nacional
DESCRIPTION:“El Programa Universidad Abierta para la Casa Común” dependiente de la Secretaría de Ciencia y Técnica\, y Extensión\, comunica que se encuentra abierta la inscripción al Taller anual: “Abriendo Futuro a través de la Historia y el Folklore Nacional”. \nEn dicho Taller\, se abordarán los autores y/o personajes\, desarrollándose aspectos vinculados al contexto histórico de sus obras\, detalles de sus vidas y pensamiento\, trabajándose en cada caso con archivos de Power Point.\nAdemás\, se interpretarán temas musicales elaborados por cada uno de estos autores\, o aquellas canciones que\, sin ser de su autoría\, son identificables con cada intérprete.\nSe trata\, sin más\, de un acto educativo no estandarizado\, con un organización académica que procura analizar las diferencias entre algunos de los autores fundacionales del folklore nacional\, actualizando algunos de los debates propuestos en sus obras. \nEl presente espacio académico-musical\, es además una propuesta que tiene por finalidad trabajar las diversas funciones de la memoria a través de imágenes\, canciones e historias. \nDocente: Dr. Víctor Hadad \nComienzo de clases: día miércoles 21 de abril\, de 17 a 19 hs. \nDestinatarios: público en general\, personal docente\, no docente y alumnos de la UCSF y de otras Instituciones Educativas y Universidades. \nModalidad: semi-presencial \nCursado: dos cuatrimestres \nINSCRIPCIÓN ONLINE AQUÍ\n  \n  \nDr. Víctor Hadad \n \nCV Abreviado \nIntegrante del dúo folklórico KALLPA YAKU y autor del libro YAPUY (microrrelatos políticos y culturales). \nEntre otros antecedentes\, fue: \nDirector Provincial de Entes Portuarios y Túnel Subfluvial del Ministerio de Aguas\, Servicios Públicos y Medio Ambiente de la Provincia de Santa Fe (Decreto del Poder Ejecutivo Provincial nro 516/2011) – Enero 2012 /Diciembre 2015\nIntegrante del Grupo de Expertos para el estudio del nuevo enlace físico del Area Metropolitana Santa Fe – Paraná (Decreto del Poder Ejecutivo Provincial Nro 003/2012)\nDirector Representante por el Gobierno de la Provincia de Santa Fe en el Ente Interprovincial Túnel Subfluvial Raúl Uranga Carlos Sylvestre Begnis (setiembre 2009/octubre 2010) – Decreto del Poder Ejecutivo Provincial Nro. 1537/09\nColaborador en el Proyecto Puente – Parque Cultura del Río (Gobierno de la Provincia de Santa Fe)\nAsesor legal Representación Santa Fe – Ente Interprovincial Túnel Subfluvial Raúl Uranga Carlos Sylvestre Begnis (enero 2008/agosto 2009) \nPara informes comunicarse vía E-mail a nsturla@ucsf.edu.ar \nLas inscripciones se realizan online a través del link ut-supra
URL:https://www.ucsf.edu.ar/evento/nuevo-taller-abriendo-futuro-a-traves-de-la-historia-y-el-folklore-nacional/
LOCATION:Santa Fe
CATEGORIES:Santa Fe,Rosario,Posadas,Reconquista,Rafaela,Gualeguaychú,Sedes
ORGANIZER;CN="PUA":MAILTO:nsturla@ucsf.edu.ar
END:VEVENT
BEGIN:VEVENT
DTSTART;TZID=America/Argentina/Buenos_Aires:20210427T093000
DTEND;TZID=America/Argentina/Buenos_Aires:20210730T113000
DTSTAMP:20260421T112011
CREATED:20210423T141303Z
LAST-MODIFIED:20210701T124255Z
UID:43497-1619515800-1627644600@www.ucsf.edu.ar
SUMMARY:Continúan abiertas las inscripciones a los Cursos de Inglés PUA
DESCRIPTION:El “Programa Universidad Abierta”\, dependiente de la Secretaría de Ciencia y Técnica\, y Extensión\, de la UCSF\, comunica que continúan abiertas las inscripciones a los Cursos de Inglés en sus diferentes niveles. \n¿Para qué me sirve aprender este idioma?\nPara ser capaces de:  \n\nUtilizar los conocimientos adquiridos como una herramienta de formación académica y personal.\nComprender\, mediante la lectura y escucha de textos\, grabaciones y videos\,  la cultura de países de habla inglesa\, y sobre todo aquellos temas de su interés particular.\nAmpliar y profundizar el conocimiento de la lengua inglesa (grammar).\nDesarrollar competencias lingüísticas en inglés (oral\, aural\, writing\, reading skills).\nDesenvolverse en en el idioma con propiedad y corrección lingüística\, en situaciones comunes de la vida diaria.\n Acceder a bibliografía escrita en este idioma. Entre otros… \n\nTeacher: Eduardo Quintana \nDestinatarios: público en general; alumnos\, personal docente y no docente de la UCSF (abonan el 50% del cuatrimestre completo). \nCursado: dos cuatrimestres \nNivel Inicial: martes de 9:30 a 11:30 hs. \nInscripciones online en el link de abajo \n ⇓ \nhttps://www.eventbrite.com.ar/e/curso-de-ingles-nivel-inicial-tickets-152849114817?aff=Inscripciones \n  \nNivel Intermedio y Avanzado: miércoles de 18:30 a 20:30 hs\, \nInscripciones online en el link de abajo \n ⇓ \nhttps://www.eventbrite.com.ar/e/curso-de-ingles-nivel-intermedio-y-avanzado-tickets-152865604137?aff=Inscripciones \n\nSe entregarán certificados.\n¡Sumate! No pierdas esta excelente oportunidad de potenciar tus conocimientos\, logrando una formación académica más integral. \nContacto: nsturla@ucsf.edu.ar \n 
URL:https://www.ucsf.edu.ar/evento/continuan-abiertas-las-inscripciones-a-los-cursos-de-ingles-pua/
LOCATION:UCSF Santa Fe\, Echagüe 7151\, Santa Fe\, Santa Fe\, Argentina
CATEGORIES:Santa Fe,Rosario,Posadas,Reconquista,Rafaela,Gualeguaychú,Sedes,Investigación
ORGANIZER;CN="Vicerrectorado%20de%20Formaci%C3%B3n":MAILTO:vrecform@ucsf.edu.ar
GEO:-31.6069451;-60.6709418
X-APPLE-STRUCTURED-LOCATION;VALUE=URI;X-ADDRESS=UCSF Santa Fe Echagüe 7151 Santa Fe Santa Fe Argentina;X-APPLE-RADIUS=500;X-TITLE=Echagüe 7151:geo:-60.6709418,-31.6069451
END:VEVENT
BEGIN:VEVENT
DTSTART;TZID=America/Argentina/Buenos_Aires:20210707T180000
DTEND;TZID=America/Argentina/Buenos_Aires:20210804T211500
DTSTAMP:20260421T112011
CREATED:20210622T223359Z
LAST-MODIFIED:20210713T155920Z
UID:45268-1625680800-1628111700@www.ucsf.edu.ar
SUMMARY:Curso: La producción científica: comunicación y difusión
DESCRIPTION:El Programa Universidad Abierta\, dependiente de la Secretaría de Ciencia y Técnica\, y Extensión de Vicerrectorado Académico\, comunica que se encuentra abierta la inscripción para el Curso “La producción científica: comunicación y difusión” \n \nFundamentación\nEl proceso de producción científica de la ciencia que culmina en la comunicación y difusión de resultados. La cantidad y variedad de publicaciones científicas es cada vez mayor\, por eso la elección de una revista científica adecuada constituye un paso importantísimo para el investigador.\nEl conocimiento de las tipologías de publicaciones\, las normativas\, el factor de impacto\, la relevancia\, la forma de acceso\, etc. son algunas de las cuestiones que ayudan al docente/investigador/alumno de postgrado a realizar una correcta elección de dónde y cómo publicar su trabajo de investigación. \nObjetivos: \nOrientar en la identificación de revistas científicas de la especialidad.\nConocer acerca de los distintos sistemas de evaluación de revistas\, indicadores bibliométricos y factor de impacto de las publicaciones.\nDifundir y dar visibilidad a la producción académica y científica.\nGestionar y monitorear la identidad\, la visibilidad y el impacto científico del autor. \nDisertante: Docente: Mgter. Sandra Gisela Martín  \nDestinatarios: docentes\, investigadores\, alumnos de postgrado\, bibliotecarios. Público en general \nDías: 7; 21; 28 de julio y 4 de agosto \nHorario: 18 a 21.15 horas. \nAcredita: 16 horas \nInscripción online en el link de abajo\n⇓ \nhttps://www.eventbrite.com.ar/e/curso-virtual-la-produccion-cientifica-comunicacion-y-difusion-tickets-160878825899?aff=Inscripcion\n  \nMÓDULO 1: Modelos de publicación científica.\nAcceso abierto vs. comercial. Revistas científicas de acceso abierto. Repositorios de acceso abierto. Datos abiertos de investigación. Autoarchivo. Proyecto de Ley de Repositorios Digitales de Argentina. Derechos de autor. Normas para el autor. Licencias Creative Commons. \nMÓDULO 2: Evaluación de la producción científica.\nFuentes de identificación de revistas científicas. Directorios de revistas electrónicas. Portales de revistas. Índices internacionales/Bases de datos. Editores de revistas científicas. Proceso de revisión de pares. \nMÓDULO 3: Impacto de la producción científica\nCriterios de selección de revistas científicas. Factor de impacto. Medición del impacto. Factor de impacto de revistas. Factor de impacto de libros. Métricas alternativas. Evaluación cualitativa vs. evaluación cuantitativa. \nMÓDULO 4: Visibilidad de la producción científica: identificadores de autores y perfiles científicos\nAutoría. Firma digital. Identidad digital\nGestión del impacto científico: a) Perfiles científicos: ResearchGate. Academia. Mendeley. Google Scholar Citation. Índice H; b) Códigos de identificación de autores. ORCID. ResearchID\, IraLIS\, ISNI; c) Vigilancia científica. Sistemas de alertas: de citas personales\, de otros autores\, de revistas y de búsquedas. RSS \nMgter. Sandra Gisela Martín \n \nCV abreviado: \nMáster en Documentación Digital\, Licenciada en Informática y Licenciada en Bibliotecología y Documentación.\nSe desempeña como Profesora Titular por concurso de las asignaturas Fuentes y Servicios de Información II y Sistemas Informáticos de la Licenciatura en Bibliotecología de la Universidad Nacional de Córdoba\, Argentina.\nDesde el año 2003 es Directora del Sistema de Bibliotecas de la Universidad Católica de Córdoba\, Argentina.\nDocente investigadora categoría 3 del Programa Nacional de Docentes Investigadores del Ministerio de Educación de la Nación.\nHa dictado numerosos cursos de formación docente y cursos extracurriculares relacionados a: investigación documental\, tecnologías de la información\, búsquedas y recuperación de información científica y académica. Asesora en proyectos de innovación y desarrollo de tecnologías en bibliotecas universitarias y especializadas.\nMiembro del Comité de Tesinas de la licenciatura en Bibliotecología de la Universidad Nacional del Litoral y evaluadora y directora de diferentes trabajos finales de licenciatura.\nConsultora externa de CONEAU (Comisión Nacional de Evaluación y Acreditación Universitaria) por el área Bibliotecas.\nHa publicado artículos científicos nacionales e internacionales y es autora\, junto con Silvina Angelozzi\, del libro: Metadatos para la descripción de recursos electrónicos en línea: análisis y comparación. Buenos Aires: Alfagrama\, 2010\nPara informes comunicarse a nsturla@ucsf.edu.ar \n                                                      biblioteca@ucsf.edu.ar  \n  \n  \n  \n  \n  \n 
URL:https://www.ucsf.edu.ar/evento/curso-la-produccion-cientifica-comunicacion-y-difusion/2021-07-07/
LOCATION:Santa Fe
CATEGORIES:Editorial,Alumnos,Santa Fe,Rosario,Docentes,Posadas,Personal UCSF,Reconquista,Sistema de Bibliotecas,Rafaela,Gualeguaychú,Sedes,Extensión,Investigación
END:VEVENT
BEGIN:VEVENT
DTSTART;TZID=America/Argentina/Buenos_Aires:20210719T090000
DTEND;TZID=America/Argentina/Buenos_Aires:20210719T103000
DTSTAMP:20260421T112011
CREATED:20210714T143656Z
LAST-MODIFIED:20210714T170426Z
UID:45721-1626685200-1626690600@www.ucsf.edu.ar
SUMMARY:Capacitación Microsoft Office 365
DESCRIPTION:“El Programa Universidad Abierta para la Casa Común”\, dependiente de la Secretaría de Ciencia y Técnica\, y Extensión de la UCSF\, comunica que se encuentra abierta la inscripción para la capacitación: “Microsoft Office 365: introducción a las aplicaciones e integración Teams”. \n \nLos temas a desarrollar serán los siguientes: \nMicrosoft Office 365 al servicio de la UCSF\nOutlook y aplicaciones\nTeams\nCalendario\nOneDrive\nOperativa y dinámica general \nDía del encuentro: lunes 19 de julio\, de 9 a 10:30 hs. \nDestinatarios: personal docente y no docente\, investigadores y estudiantes de la UCSF \nDisertante: Gonzalo Savogin \n \nCV abreviado: \nDiseñador Industrial graduado de la Universidad Nacional de Córdoba\, director y docente investigador de la Licenciatura en Diseño Industrial de la UCSF\, con 23 años de experiencia profesional en gerenciamiento y dirección de proyectos\, investigación\, diseño y desarrollo de productos en Argentina\, Estados Unidos y Europa. Tuvo a su cargo el desarrollo de la carrera de Licenciatura en Diseño Industrial de la UCSF\, y es integrante del equipo de la UVT. \nInscripciones online en el link de abajo \n⇓\nhttps://www.eventbrite.com.ar/e/la-capacitacion-microsoft-office-365-tickets-163373489505?aff=Inscripcion \nLink de Teams para la capacitación:  \n⇓\nhttps://teams.microsoft.com/l/meetup-join/19%3ameeting_MTA3YTJkNzYtN2E0MS00ODEwLThmMjUtOTMxMjk1Y2ZiYWY2%40thread.v2/0?context=%7b%22Tid%22%3a%22b1cb905f-fe4f-474b-bcbe-b678bb2e361e%22%2c%22Oid%22%3a%229c03d618-bccd-4a77-b6ea-ebf03e0363fd%22%7d \n  \nContacto: nsturla@ucsf.edu.ar \n  \n  \n 
URL:https://www.ucsf.edu.ar/evento/capacitacion-microsoft-office-365/
LOCATION:Santa Fe
CATEGORIES:Alumnos,Santa Fe,Rosario,Docentes,Posadas,Personal UCSF,Reconquista,Rafaela,Gualeguaychú,Sedes,Extensión,Investigación
ATTACH;FMTTYPE=image/jpeg:https://www.ucsf.edu.ar/wp-content/uploads/2021/07/MSOffice365.jpg
END:VEVENT
BEGIN:VEVENT
DTSTART;TZID=America/Argentina/Buenos_Aires:20210720T193000
DTEND;TZID=America/Argentina/Buenos_Aires:20210720T203000
DTSTAMP:20260421T112011
CREATED:20210718T131714Z
LAST-MODIFIED:20210719T132304Z
UID:45735-1626809400-1626813000@www.ucsf.edu.ar
SUMMARY:Workshop: "Elaboración de Proyectos de I+D con transferencia pre-acordada UCSF"
DESCRIPTION:  \nESCUELA DE INVIERNO 2020\n  \nInscripciones en linea.\nUna vez inscrito le llegará el vinculo de zoom 12 h antes y 1 h antes del evento a su correo electrónico.\nhttps://www.eventbrite.com.ar/e/workshop-elaboracion-de-proyectos-de-id-con-transferencia-pre-acordada-u-tickets-163766571223?aff=affiliate1\nWorkshop: “Elaboración de Proyectos de I+D con transferencia pre-acordada UCSF”.\nDisertante: Dr. Federico Viola \nInvestigador Asistente – CONICET.\nSecretario del Instituto de Filosofía del Universidad Católica de Santa Fe.\nhttps://orcid.org/0000-0001-6845-927\nObjetivos del Workshop:\n\n\n– Informar sobre las posibilidades que ofrece la UCSF para la vinculación con empresas privadas y la respectiva transferencia de conocimientos y resultados de proyectos de investigación.\n– Explicar en qué consiste un proyecto de “transferencia pre-acordada” con empresas.\n– Analizar el formulario del proyecto y ofrecer una idea general de cómo tiene que ser presentado completo para su evaluación.\n\n\nDestinatarios: becarios\, docentes e investigadores de la UCSF.\n 
URL:https://www.ucsf.edu.ar/evento/workshop-elaboracion-de-proyectos-de-id-con-transferencia-a/
LOCATION:Santa Fe
CATEGORIES:Editorial,Alumnos,Santa Fe,Rosario,Docentes,Posadas,Personal UCSF,Reconquista,Rafaela,Gualeguaychú,Sedes,Extensión,Investigación
END:VEVENT
BEGIN:VEVENT
DTSTART;TZID=America/Argentina/Buenos_Aires:20210722T160000
DTEND;TZID=America/Argentina/Buenos_Aires:20210722T170000
DTSTAMP:20260421T112011
CREATED:20210718T221457Z
LAST-MODIFIED:20210719T132657Z
UID:45747-1626969600-1626973200@www.ucsf.edu.ar
SUMMARY:Convocatoria 2021: Becas de promoción y Formados UCSF
DESCRIPTION:  \nESCUELA DE INVIERNO UCSF \n  \nInscripciones en linea aqui. Una vez inscrito\, 1 y 1 h antes llegara el vínculo de zoom por correo electrónico: \nhttps://www.eventbrite.com.ar/e/becas-de-promocion-y-formados-ucsf-tickets-163791004303 \nCONVOCATORIA 2021:  \nBECAS DE PROMOCIÓN Y FORMADOS UCSF\nDra. Mgter. Abog. Ana Maria Bonet \nhttps://orcid.org/0000-0002-9991-5475 \nObjetivos:\n– Conocer el sistema de becas de promoción a la investigación y para investigadores formados de la UCSF.\n– Conocer el formato de presentación requerido por la convocatoria 2021.\n– Introducirse en el modelo de presentación de proyectos según resolución pertinente.
URL:https://www.ucsf.edu.ar/evento/convocatoria-2021-becas-de-promocion-y-formados-ucsf/
LOCATION:Santa Fe
CATEGORIES:Editorial,Alumnos,Santa Fe,Docentes,Rosario,Posadas,Personal UCSF,Reconquista,Rafaela,Gualeguaychú,Extensión,Investigación
END:VEVENT
BEGIN:VEVENT
DTSTART;TZID=America/Argentina/Buenos_Aires:20210722T190000
DTEND;TZID=America/Argentina/Buenos_Aires:20210722T190000
DTSTAMP:20260421T112011
CREATED:20210706T113426Z
LAST-MODIFIED:20210706T151005Z
UID:45619-1626980400-1626980400@www.ucsf.edu.ar
SUMMARY:El potencial de la agroecología para la realización efectiva del derecho humano a la alimentación
DESCRIPTION:En el marco del Programa de extensión universitaria “Universidad para la Casa común”\, la UCSF se suma al ciclo de Educación Ambiental de la ONG Más sostenible\, con un taller sobre “El potencial de la agroecología para la realización efectiva del derecho humano a la alimentación”. Participará en nombre de la UCSF la Dra. Ana Bonet\, quien compartirá el taller con María Virinia Solis Wahnish\, quien trabaja como co-coordinadora del área de Agricultura y Justicia de la Economía de Francisco. \nMás información en: http://massostenible.com.ar/ \n 
URL:https://www.ucsf.edu.ar/evento/el-potencial-de-la-agroecologia-para-la-realizacion-efectiva-del-derecho-humano-a-la-alimentacion/
LOCATION:Santa Fe
CATEGORIES:Investigación Ecojurídica,Alumnos,Docentes
ATTACH;FMTTYPE=image/jpeg:https://www.ucsf.edu.ar/wp-content/uploads/2021/07/WhatsApp-Image-2021-07-05-at-21.22.05.jpeg
END:VEVENT
BEGIN:VEVENT
DTSTART;TZID=America/Argentina/Buenos_Aires:20210723T123000
DTEND;TZID=America/Argentina/Buenos_Aires:20210723T123000
DTSTAMP:20260421T112011
CREATED:20210720T154622Z
LAST-MODIFIED:20210721T221710Z
UID:45780-1627043400-1627043400@www.ucsf.edu.ar
SUMMARY:Jornada Nacional de Oración por los fallecidos en la pandemia
DESCRIPTION:Acompañando la iniciativa de la Conferencia Episcopal\, de realizar una Jornada de oración por los fallecidos a causa de la pandemia\, el próximo Viernes 23 de Julio celebraremos la Eucaristía a las 12.30 hs.\, en la Capilla Universitaria\, pidiendo especialmente por nuestros hermanos y familiares de la comunidad. \nPodés encontrar la convocatoria de la Conferencia Episcopal Argentina aquí: Jornada Nacional de Oración por los muertos en Pandemia 2021.pdf \n  \n 
URL:https://www.ucsf.edu.ar/evento/jornada-nacional-de-oracion-por-los-fallecidos-en-la-pandemia/
LOCATION:UCSF Santa Fe\, Echagüe 7151\, Santa Fe\, Santa Fe\, Argentina
CATEGORIES:Graduados,A distancia,Home principal,Santa Fe,Facultades,Alumnos,Rosario,Docentes,Posadas,Personal UCSF,Reconquista,Rafaela,Gualeguaychú,Vicerrectorado de Formación,Concordia,Sedes
ATTACH;FMTTYPE=image/jpeg:https://www.ucsf.edu.ar/wp-content/uploads/2021/07/misa-difuntos-historia-e1626905815187.jpg
GEO:-31.6069451;-60.6709418
X-APPLE-STRUCTURED-LOCATION;VALUE=URI;X-ADDRESS=UCSF Santa Fe Echagüe 7151 Santa Fe Santa Fe Argentina;X-APPLE-RADIUS=500;X-TITLE=Echagüe 7151:geo:-60.6709418,-31.6069451
END:VEVENT
END:VCALENDAR