BEGIN:VCALENDAR
VERSION:2.0
PRODID:-//UCSF - Universidad Católica de Santa Fe - ECPv5.14.2.1//NONSGML v1.0//EN
CALSCALE:GREGORIAN
METHOD:PUBLISH
X-WR-CALNAME:UCSF - Universidad Católica de Santa Fe
X-ORIGINAL-URL:https://www.ucsf.edu.ar
X-WR-CALDESC:Events for UCSF - Universidad Católica de Santa Fe
REFRESH-INTERVAL;VALUE=DURATION:PT1H
X-Robots-Tag:noindex
X-PUBLISHED-TTL:PT1H
BEGIN:VTIMEZONE
TZID:America/Argentina/Buenos_Aires
BEGIN:STANDARD
TZOFFSETFROM:-0300
TZOFFSETTO:-0300
TZNAME:-03
DTSTART:20210101T000000
END:STANDARD
END:VTIMEZONE
BEGIN:VEVENT
DTSTART;VALUE=DATE:20210802
DTEND;VALUE=DATE:20211123
DTSTAMP:20260420T183128
CREATED:20210613T053324Z
LAST-MODIFIED:20210824T120200Z
UID:44817-1627862400-1637625599@www.ucsf.edu.ar
SUMMARY:Diplomatura en Pastoral Educativa
DESCRIPTION:DIPLOMATURA VIRTUAL EN PASTORAL EDUCATIVA\nDiscípulos y misioneros\, artesanos en fraternidad.\nDestinatarios: directivos\, personal docente\, asistentes escolares\, animadores pastorales y personal administrativo de instituciones escolares e interesados en la temática. \nDuración: desde el 2 de Agosto hasta el 22 de Noviembre de 2021 \nLa Diplomatura en Pastoral Educativa es una iniciativa que nace en el seno del Área Pastoral de la Junta Arquidiocesana de Educación de Santa Fe. A su vez\, surge también como respuesta a la demanda de formación específica para agentes pastorales que desarrollan sus actividades en instituciones educativas. Tiene como fin brindar un espacio de formación\, reflexión y cualificación de la praxis pastoral. Nutridos por el magisterio desafiante del Papa Francisco mediante su llamado a la fraternidad\, a concebir una iglesia en salida\, de pirámide invertida\, sinodal\, y de comprender el servicio del Buen Pastor como necesidad urgente\, la Diplomatura se presenta como oportunidad para encarnar dichas intuiciones en perspectivas y marcos de acción para la renovación de la pastoral en la escuela\, provocando una mirada crítica de los procesos sociales\, eclesiales\, educativos y políticos actuales\, a los fines de resignificarlos. \nConsideramos que la formación en pastoral educativa debe ser abierta a todos los que se sientan invitados\, sin distinciones\, poniendo el acento en la cultura del encuentro\, del diálogo y de la amistad social\, a los fines de tejer redes comunitarias\, inter institucionales\, interreligiosas y multiculturales\, que promuevan una pastoral significativa\, procesual\, abierta a la historia e inserta en lo cotidiano. Promoviendo la cultura del encuentro y de la amistad social\, busca crear un ámbito formal de formación (capacitación) en el marco de la Universidad Católica de Santa Fe\, que no sea excluyente. \nEl objetivo principal de este itinerario es reunir a todas las personas preocupadas por los procesos pastorales. Mediante un cuidadoso acompañamiento de tutores y docentes\, se intenta ofrecer una trayectoria educativa de calidad a cada uno de ellos\, sin importar sus antecedentes académicos. En dicho trayecto se tendrá una mirada interdisciplinaria combinando aportes de las ciencias sociales\, pedagogía\, teología\, Doctrina Social de la Iglesia\, experiencias de trabajo y otras perspectivas pertinentes. Es interés de la propuesta propiciar un ámbito de encuentro\, reflexión y formación para educadores comprometidos con la pastoral educativa en el marco de la Universidad. \nEl paradigma del encuentro propuesto por el Papa Francisco será el sustento de la propuesta formativa. Generar una oportunidad para cualificar la praxis de los educadores\, mediante los aportes de las diversas ciencias sociales en sus diversas ramas\, el magisterio eclesial\, la Doctrina Social de la Iglesia y otros recursos\, que permitan cualificar la formación en torno a la pastoral y su vinculación con la escuela\, a los fines de vincular teoría y práctica. También se presenta como oportunidad de socialización de experiencias consolidadas que evidencien el trabajo en conjunto en las instituciones educativas\, ayuden a clarificar los aportes teóricos de los diversos módulos y fomenten los aportes de la Diplomatura. Puede colaborar al fortalecimiento de redes inter institucionales y conocimiento entre los educadores\, mediante el aporte de herramientas para el abordaje transversal de la pastoral en las instituciones educativas\, en los barrios y el contexto\, mediante el diseño\, la gestión y evaluación de proyectos pastorales. \nInformes e inscripción: diplomaturapasteduc@ucsf.edu.ar\nPodés encontrar mayor información en: DIPLOMATURA PASTORAL EDUCATIVA \n  \n 
URL:https://www.ucsf.edu.ar/evento/diplomatura-virtual-en-pastoral-educativa/
LOCATION:Santa Fe
CATEGORIES:A distancia,Docentes,Vicerrectorado de Formación,Sedes
ATTACH;FMTTYPE=image/jpeg:https://www.ucsf.edu.ar/wp-content/uploads/2021/06/dpilomatura-en-pastoral-educativa-historia-e1643033472614.jpg
END:VEVENT
BEGIN:VEVENT
DTSTART;TZID=America/Argentina/Buenos_Aires:20210820T190000
DTEND;TZID=America/Argentina/Buenos_Aires:20211120T210000
DTSTAMP:20260420T183128
CREATED:20210805T143920Z
LAST-MODIFIED:20211217T211400Z
UID:46307-1629486000-1637442000@www.ucsf.edu.ar
SUMMARY:Curso: Evaluación clínica e instrumental de la función vocal
DESCRIPTION:El campo de la voz humana y el desarrollo científico han experimentado un cuantioso perfeccionamiento con el correr de los años. \nSin embargo\, la comprensión y análisis del fenómeno vocal para muchos aún sigue siendo una mera noción o permanecen sujetos a alegorías poco fundamentadas. \nLos contenidos a desarrollar en el presente curso se encuentran íntimamente relacionados con los avances científicos en el área\, la investigación actual en Vocología Aplicada y las necesidades clínicas específicas de cara a un abordaje efectivo de todo aquello relacionado con la función vocal y sus alteraciones. \nObjetivos \nGeneral: \n\nOfrecer a los profesionales Fonoaudiólogos una formación disciplinar y clínica especializada en el área de voz a lo largo del ciclo vital\, que posibilite el desarrollo de conocimientos\, habilidades y actitudes\, para la promoción de la salud vocal y la prevención de sus alteraciones\, así como para guiar los procesos de evaluación y diagnóstico respondiendo a las necesidades específicas de los usuarios.\n\n  \nEspecíficos: \n\nComprender los fundamentos anatomo-fisiológicos avanzados de los procesos que subyacen a la producción de la voz humana.\nConstruir conocimientos teóricos y prácticos actualizados sobre las nuevas tecnologías e instrumentos utilizados en la evaluación objetiva de la voz y sobre el proceso de intervención de los sujetos con alteraciones de la función vocal.\nPromover la salud vocal del sujeto/paciente en intervenciones individualizadas\, atendiendo a la prevención de las alteraciones de la voz\, en tanto proceso multidimensional\nProfundizar la formación clínica e investigativa del profesional Fonoaudiólogo en el área de la voz a lo largo del ciclo vital\n\nContenidos \nMÓDULO 1 \n\nEvaluación clínica\, protocolos y fichas evaluativas. Confección de protocolos estandarizados. Medidas aerodinámicas no instrumentales: TMF\, TMS\, índice s/a. Razonamiento clínico.\nEntrenamiento auditivo. Reconocimiento de fuentes sonoras\, análisis auditivo de voces normales y patológicas: indicadores y variables. Escalas de evaluación perceptual: GRBAS (GRB)\, RBH\, RASAT(I) y CAPE-V.\nValoración vocal del propio paciente. Utilización de cuestionarios estandarizados en la Clínica y en Investigación. Descripción de todas sus versiones para la evaluación del paciente y su seguimiento.\n\n  \nMÓDULO II \n\nAnálisis acústico de la voz I. Conceptos de acústica vocal. Formas de graficar el sonido de la voz. Características del espectro de la fuente. Formantes del tracto vocal. Modificaciones de los formantes v/s modificaciones de la forma del tracto vocal. Principales rasgos acústicos de las vocales. Timbre vocálico y extra vocálico. Parámetros acústicos. Variaciones acústicas y correlato psicoacústico de la energía\, F0 y formantes. Medidas de perturbación a corto y largo plazo.\n\n  \nMÓDULO III \n\nAnálisis acústico de la voz II. El análisis acústico y su relación las pruebas convencionales y no convencionales del Laboratorio de la Voz. Electroglotografía (EGG). Consideraciones Generales de la EGG y su relación con la dinámica del ciclo glotal\, y sus modificaciones en diferentes mecanismos vocales. Fenómenos Físicos implicados. Análisis Cualitativo y Cuantitativo. Compatibilidades con la Clínica Vocal\n\n  \nMÓDULO IV \n\nExploración morfo-funcional directa (Telelaringoestroboscopía) e indirecta. Uso de espejos laríngeos. Entrenamiento en telelaringoestoboscopia. Nociones de fisiología estroboscópica para fonoaudiólogos. Movimiento laríngeo. Método de Evaluación Funcional de la Fonación. Presentación del protocolo de evaluación. Aplicación del método. Correlación perceptual\, acústica y morfo-funcional.\n\n  \n  \nDías y Horarios: \nEncuentros sincrónicos: viernes de 19 a 21; sábados de 9 a 13. 20 \n20 y 21 de agosto 2021 \n17 y 18 de septiembre 2021 \n22 y 23 de octubre 2021 \n19 y 20 de noviembre2021 \nEncuentro presencial: 10 y 11 de febrero de 2022 \n  \nCarga horaria total: –     4 clases virtuales sincrónicas de 6 hs cada una: 24 hs \n\n5 hs de asincronía por encuentro con lecturas y tareas para entregar : 20hs\nEncuentro presencial en febrero 2022: 16 hs\n\nTOTAL = 60 horas \n  \nDOCENTE DIRECTOR \nApellido y Nombres: JEREZ\, RODRIGO MAXIMILIANO \nFormación Profesional: LICENCIADO EN FONOAUDIOLOGÍA \n  \nCOORDINADOR \nApellido y Nombre: Dra. Mariela Pensso \nFormación Profesional: DRA EN FONOAUDIOLOGIA \nConsultas e inscripciones: mariela.pensso@ucsf.edu.ar \n 
URL:https://www.ucsf.edu.ar/evento/curso-evaluacion-clinica-e-instrumental-de-la-funcion-vocal/2021-08-20/
LOCATION:Santa Fe
CATEGORIES:Santa Fe,Alumnos,Rosario,Docentes,Reconquista,Rafaela,Sedes,Licenciatura en Fonoaudiología
ATTACH;FMTTYPE=image/jpeg:https://www.ucsf.edu.ar/wp-content/uploads/2021/08/curso-voz-FEED_1.jpg
END:VEVENT
BEGIN:VEVENT
DTSTART;TZID=America/Argentina/Buenos_Aires:20210830T193000
DTEND;TZID=America/Argentina/Buenos_Aires:20210830T210000
DTSTAMP:20260420T183128
CREATED:20210823T212226Z
LAST-MODIFIED:20210824T115815Z
UID:46760-1630351800-1630357200@www.ucsf.edu.ar
SUMMARY:Simposio - Raíces Filosóficas del Pensamiento del Papa Francisco
DESCRIPTION:Primer Encuentro: Lunes 30 de agosto 2021\, 19:30 a 20:30 hs \n1.-La filosofía de la acción de Maurice Blondel en la formación intelectual de Mario Bergoglio: Lic. Francisco Bodean \n2.-El paradigma de las oposiciones polares\, Bergoglio y Romano Guardini: Lic. David PIgnalitti. \nSegundo Encuentro: Martes 31 de agosto 2021\, 19:30 a 21:00 hs \n1.-La hermenéutica histórica de Alberto Methol Ferré en la mirada latinoamericana de J. M. Bergoglio: Dr. Aníbal Fornari \n2.-Bergoglio alumno de Scannone; Scannone lector de Francisco. Pueblo\, lógica de la gratuidad y discernimiento desde las víctimas y principio misericordia: Lic. Luciano Maddonni \n3.-Proyección de las raíces: redescubrir a Francisco a la luz de Luigi Giussani a los 100 años de su nacimiento: Mgtr. Alejandro Bonet
URL:https://www.ucsf.edu.ar/evento/simposio-raices-filosoficas-del-pensamiento-del-papa-francisco/2021-08-30/
LOCATION:Vía Zoom\, Argentina
CATEGORIES:Santa Fe,Facultades,Alumnos,Docentes,Rosario,Personal UCSF,Posadas,Reconquista,Rafaela,Filosofía y Humanidades,Gualeguaychú,Concordia,Sedes,Investigación,IF Instituto de Filosofía
ATTACH;FMTTYPE=image/jpeg:https://www.ucsf.edu.ar/wp-content/uploads/2021/08/SIMPOSIO-FRANCISCO_1-e1629806022996.jpg
ORGANIZER;CN="Instituto%20de%20Filosof%C3%ADa":MAILTO:extensionffyh@ucsf.edu.ar
END:VEVENT
BEGIN:VEVENT
DTSTART;TZID=America/Argentina/Buenos_Aires:20210901T180000
DTEND;TZID=America/Argentina/Buenos_Aires:20210901T193000
DTSTAMP:20260420T183128
CREATED:20210812T154719Z
LAST-MODIFIED:20211116T140726Z
UID:46536-1630519200-1630524600@www.ucsf.edu.ar
SUMMARY:Taller de Teatro UCSF 2021
DESCRIPTION:A partir del miércoles 1º de septiembre\, y cada miércoles\, se pondrá en marcha el taller de teatro de la UCSF que hubiera sido suspendido durante el año pasado.  \nEs un espacio gratuito y abierto a toda la comunidad\, que funcionará en el aula 1:28. Su director será José Serralunga.
URL:https://www.ucsf.edu.ar/evento/taller-de-teatro-ucsf-2021/
LOCATION:UCSF Santa Fe\, Echagüe 7151\, Santa Fe\, Santa Fe\, Argentina
CATEGORIES:Home principal,Graduados,Ingreso,Santa Fe,Facultades,Alumnos,Carreras de Grado,Docentes,Personal UCSF,Carreras de Posgrado,Departamento de Posgrados,Sedes
ATTACH;FMTTYPE=image/jpeg:https://www.ucsf.edu.ar/wp-content/uploads/2021/08/ilustracion-de-una-escena-de-teatro-lifeder-min-696x418-1.jpg
GEO:-31.6069451;-60.6709418
X-APPLE-STRUCTURED-LOCATION;VALUE=URI;X-ADDRESS=UCSF Santa Fe Echagüe 7151 Santa Fe Santa Fe Argentina;X-APPLE-RADIUS=500;X-TITLE=Echagüe 7151:geo:-60.6709418,-31.6069451
END:VEVENT
BEGIN:VEVENT
DTSTART;VALUE=DATE:20210903
DTEND;VALUE=DATE:20210904
DTSTAMP:20260420T183128
CREATED:20210823T143444Z
LAST-MODIFIED:20210830T212915Z
UID:46741-1630627200-1630713599@www.ucsf.edu.ar
SUMMARY:“Estrategias de Alimentación en Recría de Vaquillonas para la Cuña Boscosa Santafesina”.
DESCRIPTION:La Facultad de Ciencias Agropecuarias\, plantea una Jornada de capacitación abierta en conjunto con la  Sociedad Rural de Vera y con el acompañamiento del Ministerio de la Producción de la Provincia de Santa Fe. La jornada estara a cargo del Ing.Agr. Emanuel Romagnoni y estará orientada a productores\, profesionales y alumnos. \nLa actividad se llevara a cabo el VIERNES 3 DE SEPTIEMBRE  en la Localidad De Vera\, Provincia de Santa Fe en el predio de la Sociedad Rural de Vera
URL:https://www.ucsf.edu.ar/evento/estrategias-de-alimentacion-en-recria-de-vaquillonas-para-la-cuna-boscosa-santafesina/
LOCATION:Sociedad Rural de Vera\, Sambarino\, Vera\, Santa Fe\, 3000\, Argentina
CATEGORIES:Santa Fe,Facultades,Ciencias Agropecuarias,Alumnos,Carreras de Grado,Docentes,Personal UCSF,Reconquista,Sedes,Veterinaria
ATTACH;FMTTYPE=image/jpeg:https://www.ucsf.edu.ar/wp-content/uploads/2021/08/jornada-capacitacion-01-e1629806628569.jpg
ORGANIZER;CN="Facultad%20de%20Ciencias%20Agropecuarias":MAILTO:agropecuarias@ucsf.edu.ar
END:VEVENT
BEGIN:VEVENT
DTSTART;TZID=America/Argentina/Buenos_Aires:20210903T160000
DTEND;TZID=America/Argentina/Buenos_Aires:20210903T170000
DTSTAMP:20260420T183128
CREATED:20210830T141326Z
LAST-MODIFIED:20210902T112427Z
UID:47099-1630684800-1630688400@www.ucsf.edu.ar
SUMMARY:Convocatoria 2021. Proyectos de Extensión de Cátedra. Anual y bianual
DESCRIPTION:“El Programa Universidad Abierta para la Casa Común”\, dependiente de la Secretaría de Ciencia y Técnica\, y Extensión de la UCSF\, comunica que se encuentra abierta la inscripción para la capacitación: Convocatoria 2021.“Cómo presentar un Proyecto de Extensión de Cátedra\, anuales y bianuales”. \nDía: 3 de septiembre\, a las 16 hs. \nDisertante: Mgter. Joaquín Gracilazo \n  \nInscripciones en el link de abajo \n⇓ \nhttps://www.eventbrite.com.ar/e/convocatoria2021-como-presentar-proyectos-de-extension-de-catedra-tickets-168949914743?aff=Inscripciones \n  \nLink de Zoom para el Evento \nUnirse a la reunión Zoom\nhttps://zoom.us/j/93185031210?pwd=VEJiVXR3b0RCK3RYRkREdTd1bDRWdz09 \nID de reunión: 931 8503 1210\nCódigo de acceso: 292058 \nConsultas: nsturla@ucsf.edu.ar \n 
URL:https://www.ucsf.edu.ar/evento/convocatoria-2021-proyectos-de-extension/
LOCATION:UCSF Santa Fe\, Echagüe 7151\, Santa Fe\, Santa Fe\, Argentina
CATEGORIES:Santa Fe,Alumnos,Rosario,Docentes,Posadas,Reconquista,Rafaela,Gualeguaychú,Sedes,Extensión,Investigación
ATTACH;FMTTYPE=image/jpeg:https://www.ucsf.edu.ar/wp-content/uploads/2021/08/Imagen-destacada-Como-presentar-un-proyecto-de-extension-de-catedra-web.jpg
ORGANIZER;CN="Vicerrectorado%20Acad%C3%A9mico":MAILTO:vrecacad@ucsf.edu.ar
GEO:-31.6069451;-60.6709418
X-APPLE-STRUCTURED-LOCATION;VALUE=URI;X-ADDRESS=UCSF Santa Fe Echagüe 7151 Santa Fe Santa Fe Argentina;X-APPLE-RADIUS=500;X-TITLE=Echagüe 7151:geo:-60.6709418,-31.6069451
END:VEVENT
BEGIN:VEVENT
DTSTART;TZID=America/Argentina/Buenos_Aires:20210903T160000
DTEND;TZID=America/Argentina/Buenos_Aires:20210903T190000
DTSTAMP:20260420T183128
CREATED:20210902T195405Z
LAST-MODIFIED:20210902T200623Z
UID:47326-1630684800-1630695600@www.ucsf.edu.ar
SUMMARY:La virtud de la justicia en Santo Tomás de Aquino
DESCRIPTION:Con el propósito de dar a conocer la oferta del CCC en Filosofía – Sede Rosario\, se propone un seminario sobre Santo Tomás con el fin de: 1) introducir el tema\, a modo de aproximación para aquellos que no tuvieron la oportunidad de estudiarlo previamente\, y a modo de revisión para los que sí\, y 2) una vez introducido el tema\, ahondar en el pensamiento tomista estudiando textos fuentes y bibliografía secundaria específica. \nDictado por el Dr. Nicolás Lázaro \nDestinatarios:  graduados terciarios\, universitarios y toda persona culturalmente interesada en una mayor formación. \nInfo: mballabeni@ucsf.edu.ar \n 
URL:https://www.ucsf.edu.ar/evento/la-virtud-de-la-justicia-en-santo-tomas-de-aquino/2021-09-03/
LOCATION:UCSF Santa Fe\, Echagüe 7151\, Santa Fe\, Santa Fe\, Argentina
CATEGORIES:Licenciatura en Ciencias Sociales (CCC),Santa Fe,Facultades,Licenciatura en Filosofía (CCC),Alumnos,Docentes,Rosario,Carreras de Grado,Reconquista,Filosofía y Humanidades,Licenciatura en Ciencias de la Educación,Concordia,Licenciatura en Filosofía,Profesorado de Filosofía (CCC)
ATTACH;FMTTYPE=image/jpeg:https://www.ucsf.edu.ar/wp-content/uploads/2021/09/filosofia-medieval_1.jpg
GEO:-31.6069451;-60.6709418
X-APPLE-STRUCTURED-LOCATION;VALUE=URI;X-ADDRESS=UCSF Santa Fe Echagüe 7151 Santa Fe Santa Fe Argentina;X-APPLE-RADIUS=500;X-TITLE=Echagüe 7151:geo:-60.6709418,-31.6069451
END:VEVENT
BEGIN:VEVENT
DTSTART;TZID=America/Argentina/Buenos_Aires:20210903T180000
DTEND;TZID=America/Argentina/Buenos_Aires:20210903T200000
DTSTAMP:20260420T183128
CREATED:20210830T141913Z
LAST-MODIFIED:20210831T125513Z
UID:47100-1630692000-1630699200@www.ucsf.edu.ar
SUMMARY:Masterclass - Políticas públicas en discapacidad
DESCRIPTION:
URL:https://www.ucsf.edu.ar/evento/masterclass-politicas-publicas-en-discapacidad-dictada-en-el-marco-de-la-diplomatura-en-abordaje-social-de-la-discapacidad-en-los-ambitos-de-la-salud-educacion-trabajo-y-empleo/
LOCATION:Santa Fe
CATEGORIES:Alumnos,Santa Fe,Docentes,Rosario,Carreras de Grado,Licenciatura en Bioimágenes,Licenciatura en Gerontología (CCC),Farmacia,Reconquista,Rafaela,Sedes,Licenciatura en Fonoaudiología,Licenciatura en Kinesiología y Fisioterapia,Licenciatura en Nutrición,Licenciatura en Obstetricia,Licenciatura en Terapia Ocupacional,IIFCS Instituto de Investigación de la Facultad de Ciencias de la Salud
ATTACH;FMTTYPE=image/jpeg:https://www.ucsf.edu.ar/wp-content/uploads/2021/08/discapacidad-masterclass-01-1.jpg
END:VEVENT
BEGIN:VEVENT
DTSTART;TZID=America/Argentina/Buenos_Aires:20210904T090000
DTEND;TZID=America/Argentina/Buenos_Aires:20210904T110000
DTSTAMP:20260420T183128
CREATED:20210730T175405Z
LAST-MODIFIED:20210802T113530Z
UID:46109-1630746000-1630753200@www.ucsf.edu.ar
SUMMARY:Diplomatura virtual en análisis y visualización de datos para el agro
DESCRIPTION:La Facultad de Ciencias Agropecuarias y La Facultad de Ciencias EconÓmicas  lanzan la Diplomatura VIRTUAL en “Análisis y visualización de datos para el agro”\, a fines de atender una creciente demanda de tecnológicas para acompañar y tecnificar la actividad Agrícola y ganaderia. \nINICIA: 4 de septiembre \n1er ETAPA: Sábados 04\, 11\, 18 y 25 de Septiembre y 02 de Octubre de 8:30 a 13:30 hs. \n2da ETAPA: Sábados 16\, 23 y 30 de Octubre y 06 y 13 de Noviembre de 8:30 a 13:30 hs. \nObjetivos de la Diplomatura:\nProporcionar a los Alumnos las herramientas necesarias para efectuar Análisis y visualización de información para la toma de decisión. Potenciar la calidad de los reportes mediante la utilización al máximo de la capacidad de Microsoft Excel\, Power BI y aplicaciones de Google para elaborar informes\, indicadores y gráficos de alto impacto. \nPrograma:\nExcel aplicado a la Actividad Agropecuaria\nHerramientas de Análisis de Sensibilidad en Excel\nHerramientas Financieras en Excel\nHerramientas Estadísticas en Excel\nMacros en Excel\nTablero de Control en Excel\nTablero de Control en Power BI\nHerramientas de Google aplicada a la Actividad Agropecuaria \nInformación General:\nLa diplomatura tiene una carga horaria total de 50 horas divididas en 20 módulos con una duración de 2 horas y media cada uno. Las clases son semanales con dos módulos cada una. Duración estimada de 3 meses. El curso es online\, pero con clases en vivo vía streaming. La clase que se dicta también es grabada\, cada alumno puede luego ver el vídeo y se envía la planilla trabajada en cada clase. El curso incluye material de consulta y ejercitación para practicar. \nDisertante:\nCPN Lucas Dalmau \nDestinatarios:\nProfesionales\, Veterinarios\, Ing. Agrónomos\, Contadores\,Lic. En Administración rural\, productores\, estudiantes\, y toda persona que quiera aprender en profundidad Excel\, Power BI y Google para mejorar la gestión en la actividad agropecuaria. \nModalidad de Cursado:\nVirtual. \nDuración:\n3 meses \nMás información\, AQUÍ\nContacto para consultas: agropecuarias@ucsf.edu.ar
URL:https://www.ucsf.edu.ar/evento/diplomatura-virtual-en-analisis-y-visualizacion-de-datos-para-el-agro/2021-09-04/
LOCATION:Vía Zoom\, Argentina
CATEGORIES:A distancia,Home principal,Graduados,Alumnos,Santa Fe,Facultades,Ciencias Agropecuarias,Docentes,Rosario,Carreras de Grado,Posadas,Reconquista,Rafaela,Gualeguaychú,Concordia,Sedes,Tecnicatura Universitaria en Producción Agropecuaria
ATTACH;FMTTYPE=image/jpeg:https://www.ucsf.edu.ar/wp-content/uploads/2021/07/Analisis-y-visualizacion-de-datos-en-el-agro-01-e1627669828243.jpg
ORGANIZER;CN="Facultad%20de%20Ciencias%20Agropecuarias":MAILTO:agropecuarias@ucsf.edu.ar
END:VEVENT
END:VCALENDAR