BEGIN:VCALENDAR
VERSION:2.0
PRODID:-//UCSF - Universidad Católica de Santa Fe - ECPv5.14.2.1//NONSGML v1.0//EN
CALSCALE:GREGORIAN
METHOD:PUBLISH
X-WR-CALNAME:UCSF - Universidad Católica de Santa Fe
X-ORIGINAL-URL:https://www.ucsf.edu.ar
X-WR-CALDESC:Events for UCSF - Universidad Católica de Santa Fe
REFRESH-INTERVAL;VALUE=DURATION:PT1H
X-Robots-Tag:noindex
X-PUBLISHED-TTL:PT1H
BEGIN:VTIMEZONE
TZID:America/Argentina/Buenos_Aires
BEGIN:STANDARD
TZOFFSETFROM:-0300
TZOFFSETTO:-0300
TZNAME:-03
DTSTART:20210101T000000
END:STANDARD
END:VTIMEZONE
BEGIN:VEVENT
DTSTART;VALUE=DATE:20210802
DTEND;VALUE=DATE:20211123
DTSTAMP:20260420T200137
CREATED:20210613T053324Z
LAST-MODIFIED:20210824T120200Z
UID:44817-1627862400-1637625599@www.ucsf.edu.ar
SUMMARY:Diplomatura en Pastoral Educativa
DESCRIPTION:DIPLOMATURA VIRTUAL EN PASTORAL EDUCATIVA\nDiscípulos y misioneros\, artesanos en fraternidad.\nDestinatarios: directivos\, personal docente\, asistentes escolares\, animadores pastorales y personal administrativo de instituciones escolares e interesados en la temática. \nDuración: desde el 2 de Agosto hasta el 22 de Noviembre de 2021 \nLa Diplomatura en Pastoral Educativa es una iniciativa que nace en el seno del Área Pastoral de la Junta Arquidiocesana de Educación de Santa Fe. A su vez\, surge también como respuesta a la demanda de formación específica para agentes pastorales que desarrollan sus actividades en instituciones educativas. Tiene como fin brindar un espacio de formación\, reflexión y cualificación de la praxis pastoral. Nutridos por el magisterio desafiante del Papa Francisco mediante su llamado a la fraternidad\, a concebir una iglesia en salida\, de pirámide invertida\, sinodal\, y de comprender el servicio del Buen Pastor como necesidad urgente\, la Diplomatura se presenta como oportunidad para encarnar dichas intuiciones en perspectivas y marcos de acción para la renovación de la pastoral en la escuela\, provocando una mirada crítica de los procesos sociales\, eclesiales\, educativos y políticos actuales\, a los fines de resignificarlos. \nConsideramos que la formación en pastoral educativa debe ser abierta a todos los que se sientan invitados\, sin distinciones\, poniendo el acento en la cultura del encuentro\, del diálogo y de la amistad social\, a los fines de tejer redes comunitarias\, inter institucionales\, interreligiosas y multiculturales\, que promuevan una pastoral significativa\, procesual\, abierta a la historia e inserta en lo cotidiano. Promoviendo la cultura del encuentro y de la amistad social\, busca crear un ámbito formal de formación (capacitación) en el marco de la Universidad Católica de Santa Fe\, que no sea excluyente. \nEl objetivo principal de este itinerario es reunir a todas las personas preocupadas por los procesos pastorales. Mediante un cuidadoso acompañamiento de tutores y docentes\, se intenta ofrecer una trayectoria educativa de calidad a cada uno de ellos\, sin importar sus antecedentes académicos. En dicho trayecto se tendrá una mirada interdisciplinaria combinando aportes de las ciencias sociales\, pedagogía\, teología\, Doctrina Social de la Iglesia\, experiencias de trabajo y otras perspectivas pertinentes. Es interés de la propuesta propiciar un ámbito de encuentro\, reflexión y formación para educadores comprometidos con la pastoral educativa en el marco de la Universidad. \nEl paradigma del encuentro propuesto por el Papa Francisco será el sustento de la propuesta formativa. Generar una oportunidad para cualificar la praxis de los educadores\, mediante los aportes de las diversas ciencias sociales en sus diversas ramas\, el magisterio eclesial\, la Doctrina Social de la Iglesia y otros recursos\, que permitan cualificar la formación en torno a la pastoral y su vinculación con la escuela\, a los fines de vincular teoría y práctica. También se presenta como oportunidad de socialización de experiencias consolidadas que evidencien el trabajo en conjunto en las instituciones educativas\, ayuden a clarificar los aportes teóricos de los diversos módulos y fomenten los aportes de la Diplomatura. Puede colaborar al fortalecimiento de redes inter institucionales y conocimiento entre los educadores\, mediante el aporte de herramientas para el abordaje transversal de la pastoral en las instituciones educativas\, en los barrios y el contexto\, mediante el diseño\, la gestión y evaluación de proyectos pastorales. \nInformes e inscripción: diplomaturapasteduc@ucsf.edu.ar\nPodés encontrar mayor información en: DIPLOMATURA PASTORAL EDUCATIVA \n  \n 
URL:https://www.ucsf.edu.ar/evento/diplomatura-virtual-en-pastoral-educativa/
LOCATION:Santa Fe
CATEGORIES:A distancia,Docentes,Vicerrectorado de Formación,Sedes
ATTACH;FMTTYPE=image/jpeg:https://www.ucsf.edu.ar/wp-content/uploads/2021/06/dpilomatura-en-pastoral-educativa-historia-e1643033472614.jpg
END:VEVENT
BEGIN:VEVENT
DTSTART;TZID=America/Argentina/Buenos_Aires:20210820T190000
DTEND;TZID=America/Argentina/Buenos_Aires:20211120T210000
DTSTAMP:20260420T200137
CREATED:20210805T143920Z
LAST-MODIFIED:20211217T211400Z
UID:46307-1629486000-1637442000@www.ucsf.edu.ar
SUMMARY:Curso: Evaluación clínica e instrumental de la función vocal
DESCRIPTION:El campo de la voz humana y el desarrollo científico han experimentado un cuantioso perfeccionamiento con el correr de los años. \nSin embargo\, la comprensión y análisis del fenómeno vocal para muchos aún sigue siendo una mera noción o permanecen sujetos a alegorías poco fundamentadas. \nLos contenidos a desarrollar en el presente curso se encuentran íntimamente relacionados con los avances científicos en el área\, la investigación actual en Vocología Aplicada y las necesidades clínicas específicas de cara a un abordaje efectivo de todo aquello relacionado con la función vocal y sus alteraciones. \nObjetivos \nGeneral: \n\nOfrecer a los profesionales Fonoaudiólogos una formación disciplinar y clínica especializada en el área de voz a lo largo del ciclo vital\, que posibilite el desarrollo de conocimientos\, habilidades y actitudes\, para la promoción de la salud vocal y la prevención de sus alteraciones\, así como para guiar los procesos de evaluación y diagnóstico respondiendo a las necesidades específicas de los usuarios.\n\n  \nEspecíficos: \n\nComprender los fundamentos anatomo-fisiológicos avanzados de los procesos que subyacen a la producción de la voz humana.\nConstruir conocimientos teóricos y prácticos actualizados sobre las nuevas tecnologías e instrumentos utilizados en la evaluación objetiva de la voz y sobre el proceso de intervención de los sujetos con alteraciones de la función vocal.\nPromover la salud vocal del sujeto/paciente en intervenciones individualizadas\, atendiendo a la prevención de las alteraciones de la voz\, en tanto proceso multidimensional\nProfundizar la formación clínica e investigativa del profesional Fonoaudiólogo en el área de la voz a lo largo del ciclo vital\n\nContenidos \nMÓDULO 1 \n\nEvaluación clínica\, protocolos y fichas evaluativas. Confección de protocolos estandarizados. Medidas aerodinámicas no instrumentales: TMF\, TMS\, índice s/a. Razonamiento clínico.\nEntrenamiento auditivo. Reconocimiento de fuentes sonoras\, análisis auditivo de voces normales y patológicas: indicadores y variables. Escalas de evaluación perceptual: GRBAS (GRB)\, RBH\, RASAT(I) y CAPE-V.\nValoración vocal del propio paciente. Utilización de cuestionarios estandarizados en la Clínica y en Investigación. Descripción de todas sus versiones para la evaluación del paciente y su seguimiento.\n\n  \nMÓDULO II \n\nAnálisis acústico de la voz I. Conceptos de acústica vocal. Formas de graficar el sonido de la voz. Características del espectro de la fuente. Formantes del tracto vocal. Modificaciones de los formantes v/s modificaciones de la forma del tracto vocal. Principales rasgos acústicos de las vocales. Timbre vocálico y extra vocálico. Parámetros acústicos. Variaciones acústicas y correlato psicoacústico de la energía\, F0 y formantes. Medidas de perturbación a corto y largo plazo.\n\n  \nMÓDULO III \n\nAnálisis acústico de la voz II. El análisis acústico y su relación las pruebas convencionales y no convencionales del Laboratorio de la Voz. Electroglotografía (EGG). Consideraciones Generales de la EGG y su relación con la dinámica del ciclo glotal\, y sus modificaciones en diferentes mecanismos vocales. Fenómenos Físicos implicados. Análisis Cualitativo y Cuantitativo. Compatibilidades con la Clínica Vocal\n\n  \nMÓDULO IV \n\nExploración morfo-funcional directa (Telelaringoestroboscopía) e indirecta. Uso de espejos laríngeos. Entrenamiento en telelaringoestoboscopia. Nociones de fisiología estroboscópica para fonoaudiólogos. Movimiento laríngeo. Método de Evaluación Funcional de la Fonación. Presentación del protocolo de evaluación. Aplicación del método. Correlación perceptual\, acústica y morfo-funcional.\n\n  \n  \nDías y Horarios: \nEncuentros sincrónicos: viernes de 19 a 21; sábados de 9 a 13. 20 \n20 y 21 de agosto 2021 \n17 y 18 de septiembre 2021 \n22 y 23 de octubre 2021 \n19 y 20 de noviembre2021 \nEncuentro presencial: 10 y 11 de febrero de 2022 \n  \nCarga horaria total: –     4 clases virtuales sincrónicas de 6 hs cada una: 24 hs \n\n5 hs de asincronía por encuentro con lecturas y tareas para entregar : 20hs\nEncuentro presencial en febrero 2022: 16 hs\n\nTOTAL = 60 horas \n  \nDOCENTE DIRECTOR \nApellido y Nombres: JEREZ\, RODRIGO MAXIMILIANO \nFormación Profesional: LICENCIADO EN FONOAUDIOLOGÍA \n  \nCOORDINADOR \nApellido y Nombre: Dra. Mariela Pensso \nFormación Profesional: DRA EN FONOAUDIOLOGIA \nConsultas e inscripciones: mariela.pensso@ucsf.edu.ar \n 
URL:https://www.ucsf.edu.ar/evento/curso-evaluacion-clinica-e-instrumental-de-la-funcion-vocal/2021-08-20/
LOCATION:Santa Fe
CATEGORIES:Santa Fe,Alumnos,Rosario,Docentes,Reconquista,Rafaela,Sedes,Licenciatura en Fonoaudiología
ATTACH;FMTTYPE=image/jpeg:https://www.ucsf.edu.ar/wp-content/uploads/2021/08/curso-voz-FEED_1.jpg
END:VEVENT
BEGIN:VEVENT
DTSTART;VALUE=DATE:20210910
DTEND;VALUE=DATE:20211002
DTSTAMP:20260420T200137
CREATED:20210831T011030Z
LAST-MODIFIED:20210908T184936Z
UID:46383-1631232000-1633132799@www.ucsf.edu.ar
SUMMARY:Seminarios a distancia 2021: Tecnologías constructivas y modalidades productivas para vivienda
DESCRIPTION:ESPECIALIZACIÓN EN GESTIÓN INTEGRAL DEL HÁBITAT \nSeminarios a distancia 2021. \nTECNOLOGÍAS CONSTRUCTIVAS Y MODALIDADES PRODUCTIVAS PARA VIVIENDA \nDra. Arq. María Paz Sánchez Amono \nDiplomada en Diseño y Planificación del Paisaje (ULA) Doctora en Ingeniería mención materiales (UTN-FRC) \n  \nEl presente módulo permite tener una visión de cada uno de los procesos de un proyecto de construcción. \nSe presentan sistemas y componentes constructivos ya sea con métodos convencionales o métodos innovadores\, utilizados tanto en las viviendas las tradicionales como en las sostenibles. \nSe aborda un análisis metodológico de los sistemas tecnológicos tradicionales y alternativos para la construcción de viviendas en Latinoamérica. La vivienda\, particularmente la de interés social\, constituye uno de los ejes más importantes en la planificación urbana. \nReconocer las variables y criterios tecnológicos que inciden en la gestión y construcción del hábitat\, particularmente en la vivienda en América Latina. Una vivienda adecuadamente diseñada en función de los requerimientos\, necesidades y expectativas de los usuarios\, su entorno y la relación con la ciudad\, resulta esencial para el desarrollo social\, lo cual favorece la sustentabilidad urbana y contribuye a elevar el bienestar reduciendo el impacto ambiental. \n  \nDestinatarios: \nGraduada/os universitarios en universidades argentinas\, estatales o privadas debidamente reconocidas\, con título correspondiente a una carrera de grado o graduada/os en universidades extranjeras reconocidas\, según las reglamentaciones vigentes. Los títulos aceptados son los de: Arquitecto\, Ingeniero\, Abogado\, Contador\, Economista\, Licenciados en trabajo social o en Ciencia Política. \n  \nInscripciones hasta el 03 de septiembre. \nDel 10 de septiembre al 01 de octubre – 30 hs de duración \nArancel General: $ 5000\nArancel Bonificado (Docentes\, Egresados UCSF y Asociados\nSAPLAT): $ 4500 \nPara consultas e inscripciones: coordinacion-egih@ucsf.edu.ar \nPara más información: TECNOLOGÍAS CONSTRUCTIVAS Y MODALIDADES PRODUCTIVAS PARA VIVIENDA – brochure \n 
URL:https://www.ucsf.edu.ar/evento/seminarios-a-distancia-2021-tecnologias-constructivas-y-modalidades-productivas-para-vivienda/
LOCATION:Virtual\, Argentina
CATEGORIES:Doctorado en Filosofía,Santa Fe,Maestría en Evaluación de Impacto y Gestión Ambiental,Alumnos,Especialización en Terapias Cognitivas,Docentes,Personal UCSF,Carreras de Posgrado,Especialización en Gestión Integral del Hábitat,Departamento de Posgrados,Doctorado en Ciencias Jurídicas,Doctorado en Educación,Sedes,Maestría en Relaciones Internacionales
ATTACH;FMTTYPE=image/png:https://www.ucsf.edu.ar/wp-content/uploads/2021/08/TECNOLOGIAS-CONSTRUCTIVAS-Y-MODALIDADES-PRODUCTIVAS-PARA-VIVIENDA-01-2.png
END:VEVENT
BEGIN:VEVENT
DTSTART;TZID=America/Argentina/Buenos_Aires:20210913T180000
DTEND;TZID=America/Argentina/Buenos_Aires:20210913T200000
DTSTAMP:20260420T200137
CREATED:20210901T222625Z
LAST-MODIFIED:20210902T140409Z
UID:47257-1631556000-1631563200@www.ucsf.edu.ar
SUMMARY:Albert Camus: de una existencia apestada a una comunidad solidaria
DESCRIPTION:El seminario intentará un abordaje doble de la obra de Camus\, por un lado\, a partir de su escritura ensayística en la que se buscará señalar una continuidad entre la existencia absurda y el hallazgo en la que esta desemboca: una naturaleza humana que se manifiesta en el descubrimiento de la complicidad de todos los hombres en la lucha con su destino. Por otro lado\, un análisis de sus novelas (El extranjero y La peste) y las obras de teatro (Calígula\, El malentendido\, El estado de sitio y Los justos) que reflejan y amplían sus tesis filosóficas. \nDictado por el Dr. Martín Miguel Buceta \nEl Instituto de Filosofía de la UCSF organiza el presente Seminario que tendrá lugar los días Lunes 13\, 20\, 27 de septiembre y 4 de octubre en el horario de 18 a 20 hs respectivamente. El seminario intentará un abordaje doble de la obra de Camus\, por un lado\, a partir de su escritura ensayística en la que se buscará señalar una continuidad entre la existencia absurda y el hallazgo en la que esta desemboca: una naturaleza humana que se manifiesta en el descubrimiento de la complicidad de todos los hombres en la lucha con su destino. Por otro lado\, un análisis de sus novelas (El extranjero y La peste) y las obras de teatro (Calígula\, El malentendido\, El estado de sitio y Los justos) que reflejan y amplían sus tesis filosóficas. \nACTIVIDAD ARANCELADA: $500 \nINSCRIPCIÓN: clic aquí \nDestinatarios: interesados en Filosofía y público en general.
URL:https://www.ucsf.edu.ar/evento/albert-camus-de-una-existencia-apestada-a-una-comunidad-solidaria-2/2021-09-13/
LOCATION:Vía Zoom\, Argentina
CATEGORIES:Licenciatura en Ciencias Sociales (CCC),Santa Fe,Alumnos,Licenciatura en Filosofía (CCC),Licenciatura en Arte y Diseño Multimedial,Rosario,Docentes,Carreras de Grado,Licenciatura en Gestión de la Educación (CCC),Reconquista,Filosofía y Humanidades,Licenciatura en Ciencias de la Comunicación,Licenciatura en Ciencias de la Educación,Sedes,Licenciatura en Filosofía,Profesorado de Filosofía (CCC),IF Instituto de Filosofía,Profesorado en Ciencias de la Educación,Profesorado en Educación Primaria,Profesorado en Enseñanza Superior
ATTACH;FMTTYPE=image/jpeg:https://www.ucsf.edu.ar/wp-content/uploads/2021/08/ALBERT-CAMUS-2.jpg
ORGANIZER;CN="Facultad%20de%20Filosofia%20y%20Humanidades":MAILTO:extensionffyh@ucsf.edu.ar
END:VEVENT
BEGIN:VEVENT
DTSTART;TZID=America/Argentina/Buenos_Aires:20210915T200000
DTEND;TZID=America/Argentina/Buenos_Aires:20210915T210000
DTSTAMP:20260420T200137
CREATED:20210910T172743Z
LAST-MODIFIED:20210910T173119Z
UID:47496-1631736000-1631739600@www.ucsf.edu.ar
SUMMARY:Un corto animado y un libro sobre la Virgen de Guadalupe en Santa Fe
DESCRIPTION:La historia de la devoción a la Virgen de Guadalupe en Santa Fe comienza a mediados del 1700 cuando un monje mercedario encuentra una imagen de la Virgen de Guadalupe de México\, la enmarca y la expone en un oratorio que la Familia Setúbal había construido en sus tierras\, cerca de la antigua Laguna Grande.\nMuchos años pasaron desde entonces\, pero el amor de nuestra madre María y la fe de todo un pueblo depositada a sus pies obró milagros y maravillas. \nUn corto animado producto de una coproducción original de la Basílica de Ntra. Sra. de Guadalupe y la Universidad Católica de Santa Fe relata\, en un formato infantil\, los acontecimientos que fueron construyendo esta devoción mariana que hoy trasciende las fronteras de la ciudad de Santa Fe y es un ejemplo de amor y de fe para el mundo. Y se suma a la propuesta un libro que cuenta la historia en imágenes\, con dibujos originales del santafesino Hugo Lazzarini. \nEl próximo miércoles 15 de septiembre\, el Pbro. Olidio Panigo\, Párroco Rector de la Basílica Ntra. Sra. de Guadalupe y el Sr. Rector de la Universidad Católica de Santa Fe\, Mgter. Eugenio Martin De Palma\, junto a todo el equipo que trabajó en la producción\, presentarán el libro y el corto audiovisual  a las 20 hs en la Basílica (Javier de la Rosa 623). \nEl video estará disponible en la plataforma YouTube de la UCSF y distribuido a través de las Redes Sociales de la Basílica \nContacto:\nTel: 0342 – 4603030 Int. 133 – Santa Fe\nE-mail: institucional@ucsf.edu.ar\nSanta Fe\, septiembre de 2021 \nEl corto audiovisual “La Virgen de Guadalupe en Santa Fe. Una presencia de amor.” \nGrandes protagonistas alentaron y fomentaron esta PRESENCIA DE AMOR: Francisco Javier de la Rosa\, el gran guardián y hacedor de la antigua capilla; el brigadier general Estanislao López; monseñor José María Gelabert y Crespo y monseñor Juan Agustín Boneo\, primer obispo de la Diócesis de Santa Fe. Pero fue fundamentalmente la lealtad de los fieles y vecinos de nuestra ciudad y alrededores los que convirtieron con sus donaciones y oraciones aquel pequeño oratorio\, en una gran basílica\, un templo de luz y color para María de Guadalupe.\nCada año\, miles de personas llegan hasta el camarín a dejar sus peticiones\, agradecimientos y sacrificios. A cada uno la Virgen lo recibe como hijo para colmarlo de bendiciones.\nEsta devoción\, esta historia de fe y lealtad es la que relatan el libro y el corto animado\, que además forman parte de un gran trabajo de investigación que comenzó en el año 2015 y se difundió a través de un documental que se presentó a principios de 2019. A mediados del mismo año se trasladaron a Buenos Aires para su recuperación y digitalización unas cintas encontradas en el año 2005 en el sótano del templo que corresponden a la Coronación Pontificia de la Virgen de Guadalupe que se realizó el 22 de abril de 1922. Las imágenes muestran una Santa Fe de la década del veinte con su estructura arquitectónica muy distinta a la actual\, los medios de transporte del momento\, personalidades destacadas como el Obispo Boneo\, Padre Genesio y el Gobernaor Ricardo Aldao entre otros\, y la multitud de los fieles con las costumbres culturales de la época. \nEquipo de trabajo.\n\nLa coordinación general estuvo a cargo del Pbro. Olidio Panigo\, Párroco Rector de la Basílica Ntra. Sra. de Guadalupe y la dirección de la Lic. Laura Parra quien estuvo a cargo además del 1er documental de la Virgen de Guadalupe. \nLas Ilustraciones\, 71 en total\, son del Arq. Hugo Lazzarini\, quien cuidó cada detalle histórico y reprodujo fielmente los personajes. \nEl guion audiovisual es de la Lic. María Milagros Vigil\, construido sobre la adaptación que realizó María del Carmen Villaverde de Nessier. \nLa música original fue compuesta por Diego Soldi y la voz en off corresponde a Mariano Rubiolo \nLa edición\, animación y posproducción se realizó en el Complejo Multimedial Universidad Católica de Santa Fe\, bajo la dirección del Mgter. Danilo Mettini.
URL:https://www.ucsf.edu.ar/evento/un-corto-animado-y-un-libro-sobre-la-virgen-de-guadalupe-en-santa-fe/
LOCATION:Basílica Ntra. Sra. de Guadalupe\, Javier de la Rosa 623\, Santa Fe\, Argentina
CATEGORIES:Santa Fe,Facultades,Alumnos,Filosofía y Humanidades,Sedes
ATTACH;FMTTYPE=image/jpeg:https://www.ucsf.edu.ar/wp-content/uploads/2021/09/002-scaled.jpg
END:VEVENT
BEGIN:VEVENT
DTSTART;TZID=America/Argentina/Buenos_Aires:20210916T140000
DTEND;TZID=America/Argentina/Buenos_Aires:20210916T150000
DTSTAMP:20260420T200137
CREATED:20210916T130753Z
LAST-MODIFIED:20210916T131014Z
UID:47666-1631800800-1631804400@www.ucsf.edu.ar
SUMMARY:Cátedra Abierta de Derechos Humanos
DESCRIPTION:  \n \nEl jueves 16 de setiembre\, a las 14 hs\, participará de la Cátedra Abierta de Derechos Humanos el Dr. Alex Valle Franco\, del IAEN\, Ecuador. \nEste encuentro se encuadra como proyecto de extensión de la  Cátedra de Derecho Internacional Público y Derechos Humanos de la UCSF. \n \nEl Dr. Alex Valle participa como investigador invitado del Equipo de Investigación socio-eco-jurídica de nuestra Universidad y colabora activamente en proyectos y actividades comunes. \nSerá un gusto contar con su presencia! \nEstán todas y todos invitados. \nLink de acceso: \nUnirme con Google Meet\nmeet.google.com/ops-gpqm-iur\n  \ntigac
URL:https://www.ucsf.edu.ar/evento/catedra-abierta-de-derechos-humanos-3/
LOCATION:UCSF Santa Fe\, Echagüe 7151\, Santa Fe\, Santa Fe\, Argentina
CATEGORIES:Investigación Ecojurídica,Alumnos,Docentes
GEO:-31.6069451;-60.6709418
X-APPLE-STRUCTURED-LOCATION;VALUE=URI;X-ADDRESS=UCSF Santa Fe Echagüe 7151 Santa Fe Santa Fe Argentina;X-APPLE-RADIUS=500;X-TITLE=Echagüe 7151:geo:-60.6709418,-31.6069451
END:VEVENT
BEGIN:VEVENT
DTSTART;TZID=America/Argentina/Buenos_Aires:20210916T180000
DTEND;TZID=America/Argentina/Buenos_Aires:20210916T180000
DTSTAMP:20260420T200137
CREATED:20210902T182703Z
LAST-MODIFIED:20210902T182703Z
UID:47319-1631815200-1631815200@www.ucsf.edu.ar
SUMMARY:América Latina en Tiempos de Pandemia
DESCRIPTION:En un ciclo de reflexión y diálogo\, se presentan dos actividades: \n\nEl oficio de la Ciencias Sociales: ¿la imprescindible investigación compartida? A cargo del Equipo de investigación del Proyecto “Representaciones sobre la pobreza en Santa Fe y región”.\nDesigualdad y conflictos sociopolíticos en tiempos de Neoliberalismo. A cargo del Dr. Hugo Ramos\, el Lic. Enzo Vicentín y el Lic. Yasiel García Rojas.\n\nDestinatarios: alumnos y docentes de la Lic. en Cs. Sociales y público en general. \nInfo: gpauli@ucsf.edu.ar
URL:https://www.ucsf.edu.ar/evento/america-latina-en-tiempos-de-pandemia/2021-09-16/
LOCATION:UCSF Santa Fe\, Echagüe 7151\, Santa Fe\, Santa Fe\, Argentina
CATEGORIES:Licenciatura en Ciencias Sociales (CCC),Santa Fe,Alumnos,Facultades,Licenciatura en Filosofía (CCC),Licenciatura en Arte y Diseño Multimedial,Rosario,Docentes,Carreras de Grado,Licenciatura en Gestión de la Educación (CCC),Reconquista,Filosofía y Humanidades,Licenciatura en Ciencias de la Comunicación,Concordia,Licenciatura en Ciencias de la Educación,Sedes,Licenciatura en Filosofía,Profesorado de Filosofía (CCC),Profesorado en Ciencias de la Educación,Profesorado en Educación Primaria,Profesorado en Enseñanza Superior
ATTACH;FMTTYPE=image/jpeg:https://www.ucsf.edu.ar/wp-content/uploads/2021/09/America-Latina-en-tiempos-de-pandemia_1-1.jpg
GEO:-31.6069451;-60.6709418
X-APPLE-STRUCTURED-LOCATION;VALUE=URI;X-ADDRESS=UCSF Santa Fe Echagüe 7151 Santa Fe Santa Fe Argentina;X-APPLE-RADIUS=500;X-TITLE=Echagüe 7151:geo:-60.6709418,-31.6069451
END:VEVENT
BEGIN:VEVENT
DTSTART;TZID=America/Argentina/Buenos_Aires:20210916T190000
DTEND;TZID=America/Argentina/Buenos_Aires:20210916T190000
DTSTAMP:20260420T200137
CREATED:20210907T142119Z
LAST-MODIFIED:20210914T124112Z
UID:47410-1631818800-1631818800@www.ucsf.edu.ar
SUMMARY:Colección “Pensar la Pandemia: inspirar esperanza en tiempos de crisis”
DESCRIPTION:El Equipo: “Hoy para el Futuro”\, integrado por profesionales de diversas disciplinas\, pertenecientes a la comunidad de la Universidad Católica de Santa Fe\, convocados por nuestro Arzobispo\, Sergio Fenoy\, en la figura del Rector\, el Vicerrector Académico y de Formación de la UCSF\, la “Editorial de la UCSF”\, conjuntamente con el “Programa Universidad Abierta”\, dependiente de la Secretaría de Ciencia y Técnica\, y Extensión\, comunican que se encuentra abierta la inscripción para el Ciclo de Presentación de los primeros 5 volúmenes de la Colección “Pensar la Pandemia: inspirar esperanza en tiempos de crisis”. \n\nPrimer encuentro: Vol. 01: “¿Hay esperanza? Interpelar la pandemia desde la Ecología integral” \nObjetivos generales:\nPresentar cada uno de los volúmenes de la Colección “Pensar la Pandemia: Inspirar esperanza en tiempos de crisis”\, con la participación de sus autores\, presentadores e invitados especializados sobre cada tema. \nAutora: Dra. Ana María Bonet \nPrimer encuentro del ciclo: 16 de septiembre\, de 19 a 20.30 hs. \nDestinatarios: Público interesado \nInscripciones en línea en este link  \nhttps://www.eventbrite.com.ar/e/pensar-la-pandemia-inspirar-esperanza-en-tiempos-de-crisis-tickets-169999732777?aff=Inscripciones \n  \nEnlace de Zoom para el primer encuentro \nUnirse a la reunión Zoom  \nhttps://zoom.us/j/95755670280?pwd=TzBmZ3BGSVlTR0JxNllYNUJTRE8rUT09 \nID de reunión: 957 5567 0280  \nCódigo de acceso: 229404 \n– 19 hs Acto de apertura: Presentación general del ciclo: Sr. Rector de la UCSF:  Mgter. Eugenio Martín de Palma. \n-19:15 hs Prólogo Volumen 01\, impreso por la UCSF\, a cargo del Sr. Rector de la UCSF: Mgter.  De Palma\, su autora Ana María Bonet. Invitado especial Lic. Emmanuel Poretti\, coordinador RUC y Diplomatura Superior en Ecología Integral. \nContacto: nsturla@ucsf.edu.ar \n 
URL:https://www.ucsf.edu.ar/evento/coleccion-pensar-la-pandemia-inspirar-esperanza-en-tiempos-de-crisis/
LOCATION:UCSF Santa Fe\, Echagüe 7151\, Santa Fe\, Santa Fe\, Argentina
CATEGORIES:A distancia,Arquitectura y Diseño,Ciencias Agropecuarias,PUA, Programa Universidad Abierta,Santa Fe,Editorial,Facultades,Alumnos,Rosario,Ciencias de la Salud,Docentes,Posadas,Personal UCSF,Ciencias Económicas,Reconquista,Derecho y Ciencia Política,Filosofía y Humanidades,Rafaela,Vicerrectorado de Formación,Gualeguaychú,Psicología,Concordia,Sedes,Extensión,Investigación,Institutos
ATTACH;FMTTYPE=image/jpeg:https://www.ucsf.edu.ar/wp-content/uploads/2021/09/PENSAR-LA-PANDEMIA-IMAGEN-DESTACADAS-Ciclo-de-presentacion-destacada.jpg
GEO:-31.6069451;-60.6709418
X-APPLE-STRUCTURED-LOCATION;VALUE=URI;X-ADDRESS=UCSF Santa Fe Echagüe 7151 Santa Fe Santa Fe Argentina;X-APPLE-RADIUS=500;X-TITLE=Echagüe 7151:geo:-60.6709418,-31.6069451
END:VEVENT
BEGIN:VEVENT
DTSTART;TZID=America/Argentina/Buenos_Aires:20210917T150000
DTEND;TZID=America/Argentina/Buenos_Aires:20210917T180000
DTSTAMP:20260420T200137
CREATED:20210913T160423Z
LAST-MODIFIED:20210913T160434Z
UID:47592-1631890800-1631901600@www.ucsf.edu.ar
SUMMARY:Diplomatura en Bioética: Bioética y Comunicación
DESCRIPTION:Seminario 11: BIOÉTICA DE LA COMUNICACIÓN EN LA RELACIÓN DE AYUDA \nContenidos\n1. La relación de ayuda en situaciones de crisis y las expectativas que tiene el ayudado. Conocer los diferentes estilos de relación de ayuda. Identificar las dimensiones que rodean al hombre y como se ven afectadas durante situaciones de crisis.\n2. La comunicación en la relación de ayuda. Aspectos básicos de la comunicación. Como herramienta en la relación clínica. Derecho a saber la verdad. La información al paciente. Ética del trabajo en equipo. \nDocente\nLic. Laura Casabianca
URL:https://www.ucsf.edu.ar/evento/diplomatura-en-bioetica-bioetica-y-comunicacion/
LOCATION:UCSF Santa Fe\, Echagüe 7151\, Santa Fe\, Santa Fe\, Argentina
CATEGORIES:IB Instituto de Bioética Jerome Lejeune
ORGANIZER;CN="Instituto%20de%20Bio%C3%A9tica%20%22J%C3%A8r%C3%B4me%20Lejeune%22":MAILTO:bioetica@ucsf.edu.ar
GEO:-31.6069451;-60.6709418
X-APPLE-STRUCTURED-LOCATION;VALUE=URI;X-ADDRESS=UCSF Santa Fe Echagüe 7151 Santa Fe Santa Fe Argentina;X-APPLE-RADIUS=500;X-TITLE=Echagüe 7151:geo:-60.6709418,-31.6069451
END:VEVENT
END:VCALENDAR