BEGIN:VCALENDAR
VERSION:2.0
PRODID:-//UCSF - Universidad Católica de Santa Fe - ECPv5.14.2.1//NONSGML v1.0//EN
CALSCALE:GREGORIAN
METHOD:PUBLISH
X-WR-CALNAME:UCSF - Universidad Católica de Santa Fe
X-ORIGINAL-URL:https://www.ucsf.edu.ar
X-WR-CALDESC:Events for UCSF - Universidad Católica de Santa Fe
REFRESH-INTERVAL;VALUE=DURATION:PT1H
X-Robots-Tag:noindex
X-PUBLISHED-TTL:PT1H
BEGIN:VTIMEZONE
TZID:America/Argentina/Buenos_Aires
BEGIN:STANDARD
TZOFFSETFROM:-0300
TZOFFSETTO:-0300
TZNAME:-03
DTSTART:20210101T000000
END:STANDARD
END:VTIMEZONE
BEGIN:VEVENT
DTSTART;VALUE=DATE:20210802
DTEND;VALUE=DATE:20211123
DTSTAMP:20260420T183056
CREATED:20210613T053324Z
LAST-MODIFIED:20210824T120200Z
UID:44817-1627862400-1637625599@www.ucsf.edu.ar
SUMMARY:Diplomatura en Pastoral Educativa
DESCRIPTION:DIPLOMATURA VIRTUAL EN PASTORAL EDUCATIVA\nDiscípulos y misioneros\, artesanos en fraternidad.\nDestinatarios: directivos\, personal docente\, asistentes escolares\, animadores pastorales y personal administrativo de instituciones escolares e interesados en la temática. \nDuración: desde el 2 de Agosto hasta el 22 de Noviembre de 2021 \nLa Diplomatura en Pastoral Educativa es una iniciativa que nace en el seno del Área Pastoral de la Junta Arquidiocesana de Educación de Santa Fe. A su vez\, surge también como respuesta a la demanda de formación específica para agentes pastorales que desarrollan sus actividades en instituciones educativas. Tiene como fin brindar un espacio de formación\, reflexión y cualificación de la praxis pastoral. Nutridos por el magisterio desafiante del Papa Francisco mediante su llamado a la fraternidad\, a concebir una iglesia en salida\, de pirámide invertida\, sinodal\, y de comprender el servicio del Buen Pastor como necesidad urgente\, la Diplomatura se presenta como oportunidad para encarnar dichas intuiciones en perspectivas y marcos de acción para la renovación de la pastoral en la escuela\, provocando una mirada crítica de los procesos sociales\, eclesiales\, educativos y políticos actuales\, a los fines de resignificarlos. \nConsideramos que la formación en pastoral educativa debe ser abierta a todos los que se sientan invitados\, sin distinciones\, poniendo el acento en la cultura del encuentro\, del diálogo y de la amistad social\, a los fines de tejer redes comunitarias\, inter institucionales\, interreligiosas y multiculturales\, que promuevan una pastoral significativa\, procesual\, abierta a la historia e inserta en lo cotidiano. Promoviendo la cultura del encuentro y de la amistad social\, busca crear un ámbito formal de formación (capacitación) en el marco de la Universidad Católica de Santa Fe\, que no sea excluyente. \nEl objetivo principal de este itinerario es reunir a todas las personas preocupadas por los procesos pastorales. Mediante un cuidadoso acompañamiento de tutores y docentes\, se intenta ofrecer una trayectoria educativa de calidad a cada uno de ellos\, sin importar sus antecedentes académicos. En dicho trayecto se tendrá una mirada interdisciplinaria combinando aportes de las ciencias sociales\, pedagogía\, teología\, Doctrina Social de la Iglesia\, experiencias de trabajo y otras perspectivas pertinentes. Es interés de la propuesta propiciar un ámbito de encuentro\, reflexión y formación para educadores comprometidos con la pastoral educativa en el marco de la Universidad. \nEl paradigma del encuentro propuesto por el Papa Francisco será el sustento de la propuesta formativa. Generar una oportunidad para cualificar la praxis de los educadores\, mediante los aportes de las diversas ciencias sociales en sus diversas ramas\, el magisterio eclesial\, la Doctrina Social de la Iglesia y otros recursos\, que permitan cualificar la formación en torno a la pastoral y su vinculación con la escuela\, a los fines de vincular teoría y práctica. También se presenta como oportunidad de socialización de experiencias consolidadas que evidencien el trabajo en conjunto en las instituciones educativas\, ayuden a clarificar los aportes teóricos de los diversos módulos y fomenten los aportes de la Diplomatura. Puede colaborar al fortalecimiento de redes inter institucionales y conocimiento entre los educadores\, mediante el aporte de herramientas para el abordaje transversal de la pastoral en las instituciones educativas\, en los barrios y el contexto\, mediante el diseño\, la gestión y evaluación de proyectos pastorales. \nInformes e inscripción: diplomaturapasteduc@ucsf.edu.ar\nPodés encontrar mayor información en: DIPLOMATURA PASTORAL EDUCATIVA \n  \n 
URL:https://www.ucsf.edu.ar/evento/diplomatura-virtual-en-pastoral-educativa/
LOCATION:Santa Fe
CATEGORIES:A distancia,Docentes,Vicerrectorado de Formación,Sedes
ATTACH;FMTTYPE=image/jpeg:https://www.ucsf.edu.ar/wp-content/uploads/2021/06/dpilomatura-en-pastoral-educativa-historia-e1643033472614.jpg
END:VEVENT
BEGIN:VEVENT
DTSTART;TZID=America/Argentina/Buenos_Aires:20210820T190000
DTEND;TZID=America/Argentina/Buenos_Aires:20211120T210000
DTSTAMP:20260420T183056
CREATED:20210805T143920Z
LAST-MODIFIED:20211217T211400Z
UID:46307-1629486000-1637442000@www.ucsf.edu.ar
SUMMARY:Curso: Evaluación clínica e instrumental de la función vocal
DESCRIPTION:El campo de la voz humana y el desarrollo científico han experimentado un cuantioso perfeccionamiento con el correr de los años. \nSin embargo\, la comprensión y análisis del fenómeno vocal para muchos aún sigue siendo una mera noción o permanecen sujetos a alegorías poco fundamentadas. \nLos contenidos a desarrollar en el presente curso se encuentran íntimamente relacionados con los avances científicos en el área\, la investigación actual en Vocología Aplicada y las necesidades clínicas específicas de cara a un abordaje efectivo de todo aquello relacionado con la función vocal y sus alteraciones. \nObjetivos \nGeneral: \n\nOfrecer a los profesionales Fonoaudiólogos una formación disciplinar y clínica especializada en el área de voz a lo largo del ciclo vital\, que posibilite el desarrollo de conocimientos\, habilidades y actitudes\, para la promoción de la salud vocal y la prevención de sus alteraciones\, así como para guiar los procesos de evaluación y diagnóstico respondiendo a las necesidades específicas de los usuarios.\n\n  \nEspecíficos: \n\nComprender los fundamentos anatomo-fisiológicos avanzados de los procesos que subyacen a la producción de la voz humana.\nConstruir conocimientos teóricos y prácticos actualizados sobre las nuevas tecnologías e instrumentos utilizados en la evaluación objetiva de la voz y sobre el proceso de intervención de los sujetos con alteraciones de la función vocal.\nPromover la salud vocal del sujeto/paciente en intervenciones individualizadas\, atendiendo a la prevención de las alteraciones de la voz\, en tanto proceso multidimensional\nProfundizar la formación clínica e investigativa del profesional Fonoaudiólogo en el área de la voz a lo largo del ciclo vital\n\nContenidos \nMÓDULO 1 \n\nEvaluación clínica\, protocolos y fichas evaluativas. Confección de protocolos estandarizados. Medidas aerodinámicas no instrumentales: TMF\, TMS\, índice s/a. Razonamiento clínico.\nEntrenamiento auditivo. Reconocimiento de fuentes sonoras\, análisis auditivo de voces normales y patológicas: indicadores y variables. Escalas de evaluación perceptual: GRBAS (GRB)\, RBH\, RASAT(I) y CAPE-V.\nValoración vocal del propio paciente. Utilización de cuestionarios estandarizados en la Clínica y en Investigación. Descripción de todas sus versiones para la evaluación del paciente y su seguimiento.\n\n  \nMÓDULO II \n\nAnálisis acústico de la voz I. Conceptos de acústica vocal. Formas de graficar el sonido de la voz. Características del espectro de la fuente. Formantes del tracto vocal. Modificaciones de los formantes v/s modificaciones de la forma del tracto vocal. Principales rasgos acústicos de las vocales. Timbre vocálico y extra vocálico. Parámetros acústicos. Variaciones acústicas y correlato psicoacústico de la energía\, F0 y formantes. Medidas de perturbación a corto y largo plazo.\n\n  \nMÓDULO III \n\nAnálisis acústico de la voz II. El análisis acústico y su relación las pruebas convencionales y no convencionales del Laboratorio de la Voz. Electroglotografía (EGG). Consideraciones Generales de la EGG y su relación con la dinámica del ciclo glotal\, y sus modificaciones en diferentes mecanismos vocales. Fenómenos Físicos implicados. Análisis Cualitativo y Cuantitativo. Compatibilidades con la Clínica Vocal\n\n  \nMÓDULO IV \n\nExploración morfo-funcional directa (Telelaringoestroboscopía) e indirecta. Uso de espejos laríngeos. Entrenamiento en telelaringoestoboscopia. Nociones de fisiología estroboscópica para fonoaudiólogos. Movimiento laríngeo. Método de Evaluación Funcional de la Fonación. Presentación del protocolo de evaluación. Aplicación del método. Correlación perceptual\, acústica y morfo-funcional.\n\n  \n  \nDías y Horarios: \nEncuentros sincrónicos: viernes de 19 a 21; sábados de 9 a 13. 20 \n20 y 21 de agosto 2021 \n17 y 18 de septiembre 2021 \n22 y 23 de octubre 2021 \n19 y 20 de noviembre2021 \nEncuentro presencial: 10 y 11 de febrero de 2022 \n  \nCarga horaria total: –     4 clases virtuales sincrónicas de 6 hs cada una: 24 hs \n\n5 hs de asincronía por encuentro con lecturas y tareas para entregar : 20hs\nEncuentro presencial en febrero 2022: 16 hs\n\nTOTAL = 60 horas \n  \nDOCENTE DIRECTOR \nApellido y Nombres: JEREZ\, RODRIGO MAXIMILIANO \nFormación Profesional: LICENCIADO EN FONOAUDIOLOGÍA \n  \nCOORDINADOR \nApellido y Nombre: Dra. Mariela Pensso \nFormación Profesional: DRA EN FONOAUDIOLOGIA \nConsultas e inscripciones: mariela.pensso@ucsf.edu.ar \n 
URL:https://www.ucsf.edu.ar/evento/curso-evaluacion-clinica-e-instrumental-de-la-funcion-vocal/2021-08-20/
LOCATION:Santa Fe
CATEGORIES:Santa Fe,Alumnos,Rosario,Docentes,Reconquista,Rafaela,Sedes,Licenciatura en Fonoaudiología
ATTACH;FMTTYPE=image/jpeg:https://www.ucsf.edu.ar/wp-content/uploads/2021/08/curso-voz-FEED_1.jpg
END:VEVENT
BEGIN:VEVENT
DTSTART;VALUE=DATE:20210910
DTEND;VALUE=DATE:20211002
DTSTAMP:20260420T183056
CREATED:20210831T011030Z
LAST-MODIFIED:20210908T184936Z
UID:46383-1631232000-1633132799@www.ucsf.edu.ar
SUMMARY:Seminarios a distancia 2021: Tecnologías constructivas y modalidades productivas para vivienda
DESCRIPTION:ESPECIALIZACIÓN EN GESTIÓN INTEGRAL DEL HÁBITAT \nSeminarios a distancia 2021. \nTECNOLOGÍAS CONSTRUCTIVAS Y MODALIDADES PRODUCTIVAS PARA VIVIENDA \nDra. Arq. María Paz Sánchez Amono \nDiplomada en Diseño y Planificación del Paisaje (ULA) Doctora en Ingeniería mención materiales (UTN-FRC) \n  \nEl presente módulo permite tener una visión de cada uno de los procesos de un proyecto de construcción. \nSe presentan sistemas y componentes constructivos ya sea con métodos convencionales o métodos innovadores\, utilizados tanto en las viviendas las tradicionales como en las sostenibles. \nSe aborda un análisis metodológico de los sistemas tecnológicos tradicionales y alternativos para la construcción de viviendas en Latinoamérica. La vivienda\, particularmente la de interés social\, constituye uno de los ejes más importantes en la planificación urbana. \nReconocer las variables y criterios tecnológicos que inciden en la gestión y construcción del hábitat\, particularmente en la vivienda en América Latina. Una vivienda adecuadamente diseñada en función de los requerimientos\, necesidades y expectativas de los usuarios\, su entorno y la relación con la ciudad\, resulta esencial para el desarrollo social\, lo cual favorece la sustentabilidad urbana y contribuye a elevar el bienestar reduciendo el impacto ambiental. \n  \nDestinatarios: \nGraduada/os universitarios en universidades argentinas\, estatales o privadas debidamente reconocidas\, con título correspondiente a una carrera de grado o graduada/os en universidades extranjeras reconocidas\, según las reglamentaciones vigentes. Los títulos aceptados son los de: Arquitecto\, Ingeniero\, Abogado\, Contador\, Economista\, Licenciados en trabajo social o en Ciencia Política. \n  \nInscripciones hasta el 03 de septiembre. \nDel 10 de septiembre al 01 de octubre – 30 hs de duración \nArancel General: $ 5000\nArancel Bonificado (Docentes\, Egresados UCSF y Asociados\nSAPLAT): $ 4500 \nPara consultas e inscripciones: coordinacion-egih@ucsf.edu.ar \nPara más información: TECNOLOGÍAS CONSTRUCTIVAS Y MODALIDADES PRODUCTIVAS PARA VIVIENDA – brochure \n 
URL:https://www.ucsf.edu.ar/evento/seminarios-a-distancia-2021-tecnologias-constructivas-y-modalidades-productivas-para-vivienda/
LOCATION:Virtual\, Argentina
CATEGORIES:Doctorado en Filosofía,Santa Fe,Maestría en Evaluación de Impacto y Gestión Ambiental,Alumnos,Docentes,Especialización en Terapias Cognitivas,Personal UCSF,Carreras de Posgrado,Especialización en Gestión Integral del Hábitat,Departamento de Posgrados,Doctorado en Ciencias Jurídicas,Doctorado en Educación,Sedes,Maestría en Relaciones Internacionales
ATTACH;FMTTYPE=image/png:https://www.ucsf.edu.ar/wp-content/uploads/2021/08/TECNOLOGIAS-CONSTRUCTIVAS-Y-MODALIDADES-PRODUCTIVAS-PARA-VIVIENDA-01-2.png
END:VEVENT
BEGIN:VEVENT
DTSTART;TZID=America/Argentina/Buenos_Aires:20210928T090000
DTEND;TZID=America/Argentina/Buenos_Aires:20210928T100000
DTSTAMP:20260420T183056
CREATED:20210923T170133Z
LAST-MODIFIED:20210924T205944Z
UID:47789-1632819600-1632823200@www.ucsf.edu.ar
SUMMARY:¿Ya descubriste cuál es tu modo personal de estudiar?
DESCRIPTION:Conocé cómo estudiar mejor desde tu inteligencia preponderante \nLIC. ANTONELA COSQUETA \nMartes 28 de septiembre \n9hs o 18hs \nDuración: 1 hora \n  \nCiclo de talleres formativos \nDesarrollo personal y estrategias de aprendizaje universitario del Área de Tutorías de la UCSF\nPara estudiantes UCSF\, de todas las carreras y todas las sedes \n7 encuentros virtuales\, abiertos y gratuitos \nDel 28 septiembre al 18 de octubre \nINSCRIBITE COMPLETANDO ESTE FORMULARIO \n+ info: tutorias@ucsf.edu.ar \n 
URL:https://www.ucsf.edu.ar/evento/ya-descubriste-cual-es-tu-modo-personal-de-estudiar/
LOCATION:Virtual\, Argentina
CATEGORIES:Home principal,Ingreso,Arquitectura y Diseño,Ciencias Agropecuarias,Santa Fe,Alumnos,Facultades,Carreras de Grado,Rosario,Ciencias de la Salud,Posadas,Ciencias Económicas,Reconquista,Derecho y Ciencia Política,Filosofía y Humanidades,Rafaela,Psicología,Gualeguaychú,Concordia,Sedes
ATTACH;FMTTYPE=image/jpeg:https://www.ucsf.edu.ar/wp-content/uploads/2021/09/talleres-tutorias-ucsf-e1729871758895.jpg
ORGANIZER;CN="%C3%81rea%20de%20Tutor%C3%ADas":MAILTO:tutorias@ucsf.edu.ar
END:VEVENT
BEGIN:VEVENT
DTSTART;TZID=America/Argentina/Buenos_Aires:20210930T190000
DTEND;TZID=America/Argentina/Buenos_Aires:20210930T200000
DTSTAMP:20260420T183056
CREATED:20210920T145636Z
LAST-MODIFIED:20210920T150648Z
UID:47715-1633028400-1633032000@www.ucsf.edu.ar
SUMMARY:Colección “Pensar la Pandemia: inspirar esperanza en tiempos de crisis”
DESCRIPTION:El Equipo: “Hoy para el Futuro”\, integrado por profesionales de diversas disciplinas\, pertenecientes a la comunidad de la Universidad Católica de Santa Fe\, convocados por nuestro Arzobispo\, Sergio Fenoy\, en la figura del Rector\, el Vicerrector Académico y de Formación de la UCSF\, la “Editorial de la UCSF”\, conjuntamente con el “Programa Universidad Abierta”\, dependiente de la Secretaría de Ciencia y Técnica\, y Extensión\, comunican que se encuentra abierta la inscripción para el Ciclo de Presentación de los primeros 5 volúmenes de la Colección “Pensar la Pandemia: inspirar esperanza en tiempos de crisis”. \nTercer encuentro del Ciclo:  presentación Volumen 3. Lecciones de vida en torno al sentido del dolor en el contexto de la pandemia de COVID-19 \nDía y horario: jueves 30 de septiembre\, de 19 a 20.00 hs. \nDestinatarios: Público en general interesado \nInscripción en línea en este link \nhttps://www.eventbrite.com.ar/e/presentacion-volumen-3-lecciones-de-vida-en-torno-al-sentido-del-dolor-en-tickets-175543213477?aff=Inscripciones \nApertura: Dra. Ana María Bonet\, Directora Colección y Abog. Graciela Mancini\, Directora Editorial UCSF \nPresentación: Guillermo Kerz (UCSF) \nAutor: Sergio Götte (UCSF) \nInvitado Especial: Pro. Mario D’Angelo\, Director Instituto de Bioética. UCSF \n  \nUnirse a la reunión Zoom \n https://zoom.us/j/96763943474?pwd=T1VkWWNpQTRSSG5pWUdVakExMWdUQT09  \nID de reunión: 967 6394 3474 \nCódigo de acceso: 254856 \n  \nContacto: nsturla@ucsf.edu.ar
URL:https://www.ucsf.edu.ar/evento/coleccion-pensar-la-pandemia-inspirar-esperanza-en-tiempos-de-crisis-3/
LOCATION:UCSF Santa Fe\, Echagüe 7151\, Santa Fe\, Santa Fe\, Argentina
CATEGORIES:Santa Fe,Editorial,Alumnos,Rosario,Docentes,Posadas,Personal UCSF,Reconquista,Rafaela,Gualeguaychú,Sedes,Extensión,Investigación
ATTACH;FMTTYPE=image/jpeg:https://www.ucsf.edu.ar/wp-content/uploads/2021/09/PENSAR-LA-PANDEMIA-IMAGEN-DESTACADAS-Ciclo-de-presentacion-destacada.jpg
GEO:-31.6069451;-60.6709418
X-APPLE-STRUCTURED-LOCATION;VALUE=URI;X-ADDRESS=UCSF Santa Fe Echagüe 7151 Santa Fe Santa Fe Argentina;X-APPLE-RADIUS=500;X-TITLE=Echagüe 7151:geo:-60.6709418,-31.6069451
END:VEVENT
BEGIN:VEVENT
DTSTART;TZID=America/Argentina/Buenos_Aires:20211001T090000
DTEND;TZID=America/Argentina/Buenos_Aires:20211001T100000
DTSTAMP:20260420T183056
CREATED:20210923T170644Z
LAST-MODIFIED:20210924T205930Z
UID:47793-1633078800-1633082400@www.ucsf.edu.ar
SUMMARY:¿Cómo organizar mi estudio y no morir en el intento?
DESCRIPTION:Tips para organizarte mejor y lograr buenos resultados académicos \nLIC. ANTONELA COSQUETA \nViernes 1º de octubre \n9hs o 18hs. \nDuración: 1 hora \n  \nCiclo de talleres formativos del Área de Tutorías UCSF \nDesarrollo personal y estrategias de aprendizaje universitario \nPara estudiantes UCSF\, de todas las carreras y todas las sedes \n7 encuentros virtuales\, abiertos y gratuitos \nDel 28 septiembre al 18 de octubre \nINSCRIBITE COMPLETANDO ESTE FORMULARIO\n+ info: tutorias@ucsf.edu.ar
URL:https://www.ucsf.edu.ar/evento/como-organizar-mi-estudio-y-no-morir-en-el-intento/
LOCATION:Virtual\, Argentina
CATEGORIES:Home principal,Ingreso,Arquitectura y Diseño,Ciencias Agropecuarias,Santa Fe,Alumnos,Facultades,Carreras de Grado,Rosario,Ciencias de la Salud,Posadas,Ciencias Económicas,Reconquista,Derecho y Ciencia Política,Filosofía y Humanidades,Rafaela,Psicología,Gualeguaychú,Concordia,Sedes
ATTACH;FMTTYPE=image/jpeg:https://www.ucsf.edu.ar/wp-content/uploads/2021/09/talleres-tutorias-ucsf-e1729871758895.jpg
ORGANIZER;CN="%C3%81rea%20de%20Tutor%C3%ADas":MAILTO:tutorias@ucsf.edu.ar
END:VEVENT
BEGIN:VEVENT
DTSTART;TZID=America/Argentina/Buenos_Aires:20211001T150000
DTEND;TZID=America/Argentina/Buenos_Aires:20211001T170000
DTSTAMP:20260420T183056
CREATED:20210601T143742Z
LAST-MODIFIED:20210929T130620Z
UID:44376-1633100400-1633107600@www.ucsf.edu.ar
SUMMARY:Círculo de reflexión socio-eco-jurídica
DESCRIPTION:  \n \nCírculo de Reflexión Socio-Eco-Jurídica\, \nen Colaboración con el Programa Ciencia y \nTécnica en Casa de la Secretaría de Ciencia\, Técnica y Extensión de la UCSF \nEspacio de intercambio académico que articula debates actuales sobre derecho\, sociedad y ecología desde enfoques interdisciplinarios. \nMetodológicamente se trabaja a partir de textos difundidos previamente entre los participantes y que son presentados brevemente por uno de ellos al iniciar el encuentro. Tal presentación sirve de disparador para el intercambio abierto y plural. \nConvoca  a participantes de diferentes áreas académicas y otros ámbitos sociales\, y suele funcionar como un rico espacio de inspiración para el trabajo de producción académica. \n \nEn el encuentro de este viernes 1 de octubre\, a las 15:00 Hs (Arg.)  Jorge Fernández nos va a exponer sobre “Algunos problemas que caracterizan las prácticas contemporáneas de producción de conocimiento jurídico” de Luciana Álvarez\nDisponible en https://scielo.conicyt.cl/scielo.php?pid=S0717-554X2017000300268&script=sci_arttext \nEl link de la reunión es el que usamos habitualmente: https://meet.google.com/mqg-ohnx-vcw \n  \n 
URL:https://www.ucsf.edu.ar/evento/circulo-de-reflexion-socio-eco-juridica-3-2021-06-11-2021-07-16-2021-10-01/
LOCATION:por meet\, meet.google.com/mqg-ohnx-vcw\, Argentina
CATEGORIES:Investigación Ecojurídica,Facultades,Alumnos,Carreras de Grado,Docentes,Derecho y Ciencia Política,IEHDS Instituto de Ecología Humana y Desarrollo Sustentable,Investigación,IFD Instituto de Filosofía del Derecho
ATTACH;FMTTYPE=image/jpeg:https://www.ucsf.edu.ar/wp-content/uploads/2021/04/Circulo-de-reflexion-socio-eco-juridica-2021-1676182.jpg
ORGANIZER;CN="Equipo%20de%20Investigaci%C3%B3n%20Socio-Eco-Jur%C3%ADdica":MAILTO:ecojurinvestiga@ucsf.edu.ar
END:VEVENT
BEGIN:VEVENT
DTSTART;TZID=America/Argentina/Buenos_Aires:20211001T150000
DTEND;TZID=America/Argentina/Buenos_Aires:20211001T180000
DTSTAMP:20260420T183056
CREATED:20210927T131522Z
LAST-MODIFIED:20210927T131556Z
UID:47876-1633100400-1633111200@www.ucsf.edu.ar
SUMMARY:Diplomatura en Bioética: Debate de Dilemas Bioéticos
DESCRIPTION:La Bioética\, en tanto Disciplina\, presenta una faz teórica y una faz práctica. Habiendo culminado la etapa formativa\, este último encuentro será dedicado a resolver casos prácticos que presentan los dilemas bioéticos\, brindado pautas de abordaje y formas posibles de resolución.
URL:https://www.ucsf.edu.ar/evento/diplomatura-en-bioetica-debate-de-dilemas-bioeticos/
LOCATION:UCSF Santa Fe\, Echagüe 7151\, Santa Fe\, Santa Fe\, Argentina
CATEGORIES:IB Instituto de Bioética Jerome Lejeune
ORGANIZER;CN="Instituto%20de%20Bio%C3%A9tica%20%22J%C3%A8r%C3%B4me%20Lejeune%22":MAILTO:bioetica@ucsf.edu.ar
GEO:-31.6069451;-60.6709418
X-APPLE-STRUCTURED-LOCATION;VALUE=URI;X-ADDRESS=UCSF Santa Fe Echagüe 7151 Santa Fe Santa Fe Argentina;X-APPLE-RADIUS=500;X-TITLE=Echagüe 7151:geo:-60.6709418,-31.6069451
END:VEVENT
BEGIN:VEVENT
DTSTART;TZID=America/Argentina/Buenos_Aires:20211001T160000
DTEND;TZID=America/Argentina/Buenos_Aires:20211001T160000
DTSTAMP:20260420T183056
CREATED:20210912T140824Z
LAST-MODIFIED:20210912T141600Z
UID:47568-1633104000-1633104000@www.ucsf.edu.ar
SUMMARY:Reconquista. INGRESO 2022 Ciencias Economicas
DESCRIPTION:Durante el mes de Octubre de 2021 se realizaran las clases Preuniversitarias\, destinadas a alumnos de 5to año del nivel secundario\, para brindar información sobre las Carreras de Contador Publico y Licenciatura en Administración\, ofrecidas por la Facultad de Ciencias Económicas\, en la Sede Reconquista. \nCalendario: \nCarrera Contador Publico: 1/10  a las 16hs \nCarrera Lic. en Administración: 6/10 a las 17hs \nRequiere inscripción previa \ningresouniversitario@ucsf.edu.ar \n34253712852 \n@vivilaucsfreconquista
URL:https://www.ucsf.edu.ar/evento/ingreso-2022-ciencias-economicas-reconquista/2021-10-01/
LOCATION:Santa Fe
CATEGORIES:Santa Fe,Alumnos,Carreras de Grado,Contador Público,Licenciatura en Administración ,Sedes
ATTACH;FMTTYPE=image/jpeg:https://www.ucsf.edu.ar/wp-content/uploads/2021/09/clase-preun-contador-2022-e1631456065524.jpg
ORGANIZER;CN="Ingreso":MAILTO:promocion@ucsf.edu.ar
END:VEVENT
END:VCALENDAR