BEGIN:VCALENDAR
VERSION:2.0
PRODID:-//UCSF - Universidad Católica de Santa Fe - ECPv5.14.2.1//NONSGML v1.0//EN
CALSCALE:GREGORIAN
METHOD:PUBLISH
X-WR-CALNAME:UCSF - Universidad Católica de Santa Fe
X-ORIGINAL-URL:https://www.ucsf.edu.ar
X-WR-CALDESC:Events for UCSF - Universidad Católica de Santa Fe
REFRESH-INTERVAL;VALUE=DURATION:PT1H
X-Robots-Tag:noindex
X-PUBLISHED-TTL:PT1H
BEGIN:VTIMEZONE
TZID:America/Argentina/Buenos_Aires
BEGIN:STANDARD
TZOFFSETFROM:-0300
TZOFFSETTO:-0300
TZNAME:-03
DTSTART:20210101T000000
END:STANDARD
END:VTIMEZONE
BEGIN:VEVENT
DTSTART;TZID=America/Argentina/Buenos_Aires:20211129T180000
DTEND;TZID=America/Argentina/Buenos_Aires:20211129T190000
DTSTAMP:20260420T200137
CREATED:20211129T104052Z
LAST-MODIFIED:20211129T104120Z
UID:48834-1638208800-1638212400@www.ucsf.edu.ar
SUMMARY:Entrega Honoris Causa al Dr. Vigo
DESCRIPTION:La UCSF realizará la ceremonia de distinción con el Título Doctor Honoris Causa al Dr. Rodolfo Vigo. El mismo tendrá lugar en el aula 4.51\, a partir de las 18 con la presencia de autoridades e invitados. \nEl Doctorado Honoris Causa de la Universidad Católica de Santa Fe es una distinción honorífica que la Universidad concede a quienes han realizado una contribución notable de carácter universal al conocimiento\, a la investigación y al desarrollo humanístico.   \nAdemás\, es entregado a personas de reconocido prestigio religioso\, académico\, técnico\, humanístico\, científico\, investigativo y artístico.  
URL:https://www.ucsf.edu.ar/evento/entrega-honoris-causa-al-dr-vigo/
LOCATION:UCSF Santa Fe\, Echagüe 7151\, Santa Fe\, Santa Fe\, Argentina
CATEGORIES:Home principal,Graduados,Santa Fe,Alumnos,Docentes,Rosario,Posadas,Personal UCSF,Reconquista,Rafaela,Gualeguaychú,Concordia,Sedes
ATTACH;FMTTYPE=image/jpeg:https://www.ucsf.edu.ar/wp-content/uploads/2021/09/universidad-empresa-fotos-04-e1668594584525.jpg
GEO:-31.6069451;-60.6709418
X-APPLE-STRUCTURED-LOCATION;VALUE=URI;X-ADDRESS=UCSF Santa Fe Echagüe 7151 Santa Fe Santa Fe Argentina;X-APPLE-RADIUS=500;X-TITLE=Echagüe 7151:geo:-60.6709418,-31.6069451
END:VEVENT
BEGIN:VEVENT
DTSTART;TZID=America/Argentina/Buenos_Aires:20211130T180000
DTEND;TZID=America/Argentina/Buenos_Aires:20211130T200000
DTSTAMP:20260420T200137
CREATED:20211125T014333Z
LAST-MODIFIED:20211125T014333Z
UID:48792-1638295200-1638302400@www.ucsf.edu.ar
SUMMARY:Conversatorio Virtual Maestría en Relaciones Internacionales - Departamento de Posgrado UCSF
DESCRIPTION:Conversatorio Virtual Maestría en Relaciones Internacionales: “El lugar de las relaciones internacionales en la realidad y en el conocimiento”- Departamento de Posgrado – Universidad Católica de Santa Fe. \n  \nEl mismo tendrá lugar el día martes 30 de noviembre de 18 hs a 20 hs. Se expondrán y discutirán las implicancias de las relaciones internacionales en la escuela secundaria\, en la política exterior argentina (su principio de no intervención) y la importancia de la diplomacia. \nEn el marco de la exposición “Hablemos de Relaciones Internacionales”\, participarán el Director de la carrera Dr. Roberto Miranda y los maestrandos Prof. María Victoria Roverano y el Lic. Virgilio Jiménez Grotter\, quienes disertarán al respecto para luego abrir preguntas y debatir diversas consideraciones entre los presentes. \n  \nPosgrado UCSF le está invitando a una reunión de Zoom programada. \nTema: Conversatorio Nº 3 – MAESTRÍA EN RELACIONES INTERNACIONALES \nHora: 30 nov. 2021 06:00 p. m. Buenos Aires\, Georgetown \n  \nUnirse a la reunión Zoom \nhttps://zoom.us/j/97844598702?pwd=a1Jnd0NvQVlOYkFOM1ppQ0tEblBlUT09 \nID de reunión: 978 4459 8702 \nCódigo de acceso: 30112021 \n  \nPara mayor información escribir a: \nrmiranda@ucsf.edu.ar \nauriarte@ucsf.edu.ar
URL:https://www.ucsf.edu.ar/evento/conversatorio-virtual-maestria-en-relaciones-internacionales-departamento-de-posgrado-ucsf/
LOCATION:Vía Zoom\, Argentina
CATEGORIES:Santa Fe,Alumnos,Docentes,Carreras de Posgrado,Sedes,Maestría en Relaciones Internacionales
ATTACH;FMTTYPE=image/jpeg:https://www.ucsf.edu.ar/wp-content/uploads/2021/11/Conversatorios_Relaciones-internacionales.jpg
END:VEVENT
BEGIN:VEVENT
DTSTART;TZID=America/Argentina/Buenos_Aires:20211130T190000
DTEND;TZID=America/Argentina/Buenos_Aires:20211130T200000
DTSTAMP:20260420T200137
CREATED:20211129T104431Z
LAST-MODIFIED:20211129T104450Z
UID:48837-1638298800-1638302400@www.ucsf.edu.ar
SUMMARY:Jura y Profesión de Fe del Dr. Castriota y el Mgter. Biagioni
DESCRIPTION:El martes 30 de noviembre\, en el aula 4.51\, se llevará a cabo el acto de Jura y Profesión de Fe de los decanos de las Facultades de Arquitectura y Diseño\, y Psicología\, MDA Arq. Gabriel Darío Biagioni y el Dr. Hugo Fabián Castriota respectivamente.
URL:https://www.ucsf.edu.ar/evento/jura-y-profesion-de-fe-del-dr-castriota-y-el-mgter-biagioni/
LOCATION:UCSF Santa Fe\, Echagüe 7151\, Santa Fe\, Santa Fe\, Argentina
CATEGORIES:Home principal,Arquitectura y Diseño,Graduados,Santa Fe,Facultades,Alumnos,Docentes,Rosario,Personal UCSF,Posadas,Reconquista,Rafaela,Psicología,Sedes
ATTACH;FMTTYPE=image/jpeg:https://www.ucsf.edu.ar/wp-content/uploads/2021/09/universidad-empresa-fotos-04-e1668594584525.jpg
GEO:-31.6069451;-60.6709418
X-APPLE-STRUCTURED-LOCATION;VALUE=URI;X-ADDRESS=UCSF Santa Fe Echagüe 7151 Santa Fe Santa Fe Argentina;X-APPLE-RADIUS=500;X-TITLE=Echagüe 7151:geo:-60.6709418,-31.6069451
END:VEVENT
BEGIN:VEVENT
DTSTART;TZID=America/Argentina/Buenos_Aires:20211202T163000
DTEND;TZID=America/Argentina/Buenos_Aires:20211202T193000
DTSTAMP:20260420T200137
CREATED:20211129T190820Z
LAST-MODIFIED:20211129T192344Z
UID:48808-1638462600-1638473400@www.ucsf.edu.ar
SUMMARY:Defensa de Tesis - Doctorado en Derecho - Universidad Católica de Santa Fe
DESCRIPTION:  \nEl Departamento de Posgrado de la Universidad Católica de Santa Fe invita al acto de Defensa de Tesis que se llevará a cabo el próximo jueves 02 de diciembre del corriente año\, en el marco de la carrera: Doctorado en Derecho. \nCandidata: María Alejandra Peresutti \nDirección de Tesis: Dra. María Marta Didier. \nTítulo de Tesis: \n“LOS DERECHOS A LA IGUALDAD Y A LA VIDA DEL NIÑO POR NACER. CON ESPECIAL REFERENCIA AL ARTÍCULO 86\, INCISO 2) DEL CÓDIGO PENAL Y A LOS SERES HUMANOS EN ESTADO EMBRIONARIO CRIO-CONSERVADOS HASTA SU IMPLANTACIÓN”. \nTribunal Evaluador \n\nDra. Elisabet Agustina Vidal\nDra. Verónica Melo\nDr. Jorge Nicolás Laferriere\n\n  \nHorario de Defensa: 16:30 hs        \nMODO HÍBRIDO – AULA 2.52 \nUnirse a la reunión Zoom  \nhttps://zoom.us/j/94285598447?pwd=dEZjT3F5RkhObHFkaGZpZGd4OTc4UT09  \nID: 942 8559 8447                 Clave:  02122021   \n  \n 
URL:https://www.ucsf.edu.ar/evento/defensa-de-tesis-doctorado-en-derecho-universidad-catolica-de-santa-fe/
LOCATION:UCSF Santa Fe\, Echagüe 7151\, Santa Fe\, Santa Fe\, Argentina
CATEGORIES:Santa Fe,Alumnos,Docentes,Personal UCSF,Carreras de Posgrado,Doctorado en Ciencias Jurídicas,Sedes
ATTACH;FMTTYPE=application/pdf:https://www.ucsf.edu.ar/wp-content/uploads/2021/11/Imagen-Defensa-de-tesis-1.pdf
GEO:-31.6069451;-60.6709418
X-APPLE-STRUCTURED-LOCATION;VALUE=URI;X-ADDRESS=UCSF Santa Fe Echagüe 7151 Santa Fe Santa Fe Argentina;X-APPLE-RADIUS=500;X-TITLE=Echagüe 7151:geo:-60.6709418,-31.6069451
END:VEVENT
END:VCALENDAR