BEGIN:VCALENDAR
VERSION:2.0
PRODID:-//UCSF - Universidad Católica de Santa Fe - ECPv5.14.2.1//NONSGML v1.0//EN
CALSCALE:GREGORIAN
METHOD:PUBLISH
X-WR-CALNAME:UCSF - Universidad Católica de Santa Fe
X-ORIGINAL-URL:https://www.ucsf.edu.ar
X-WR-CALDESC:Events for UCSF - Universidad Católica de Santa Fe
REFRESH-INTERVAL;VALUE=DURATION:PT1H
X-Robots-Tag:noindex
X-PUBLISHED-TTL:PT1H
BEGIN:VTIMEZONE
TZID:America/Argentina/Buenos_Aires
BEGIN:STANDARD
TZOFFSETFROM:-0300
TZOFFSETTO:-0300
TZNAME:-03
DTSTART:20220101T000000
END:STANDARD
END:VTIMEZONE
BEGIN:VEVENT
DTSTART;TZID=America/Argentina/Buenos_Aires:20220218T163000
DTEND;TZID=America/Argentina/Buenos_Aires:20220218T180000
DTSTAMP:20260420T124519
CREATED:20220203T171501Z
LAST-MODIFIED:20220216T125530Z
UID:49521-1645201800-1645207200@www.ucsf.edu.ar
SUMMARY:Taller de Revisión de Proyectos de Investigación
DESCRIPTION: El Programa Universidad Abierta\,  dependiente de la Secretaría de Ciencia y Técnica\, y Extensión y su Escuela de verano\, en conjunto con la Facultad de Derecho y Ciencia Política y el Doctorado en Derecho\, de la UCSF\, comunican que se encuentra abierta la inscripción para el  “Taller de Revisión de Proyectos de Investigación”. \nObjetivos del Taller:  \na) Revisar los proyectos de investigación presentados en la UCSF y que fueron rechazados; \nb) Responder las objeciones metodológicas; \nc) Sugerir pautas correctoras para futuros proyectos. \nModo de cursado:  Taller Híbrido (Opción presencial o virtual a elección) \nPresencial: concurrir al aula híbrida 2.53\, primer piso. \nDestinatarios: alumnos; docentes de la UCSF y de otras Instituciones y Universidades. Público en general. \nDía y horario: viernes 18 de febrero a las 16:30 hs. \nInscripciones únicamente online en: https://www.eventbrite.com.ar/e/taller-de-revision-de-proyectos-de-investigacion-tickets-261957510967?aff=Inscripciones\nDisertante: Dr. Eduardo Ibáñez. \nCV abreviado \nDoctor en Filosofía por la UCSF. Docente titular de Lógica\, Epistemologia y Metodologia de Investigacion de la UCSF. Investigador Formado de la Secyt – UCSF. Autor de tres libros sobre Caos y Complejidad. \nPara informes comunicarse vía E-mail a nsturla@ucsf.edu.ar (Coordinadora Programa Universidad Abierta)
URL:https://www.ucsf.edu.ar/evento/taller-de-revision-de-proyectos-de-investigacion/
LOCATION:UCSF Santa Fe\, Echagüe 7151\, Santa Fe\, Santa Fe\, Argentina
CATEGORIES:Alumnos,Santa Fe,Facultades,Docentes,Rosario,Personal UCSF,Posadas,Reconquista,Derecho y Ciencia Política,Rafaela,Gualeguaychú,Sedes,Extensión,Investigación
GEO:-31.6069451;-60.6709418
X-APPLE-STRUCTURED-LOCATION;VALUE=URI;X-ADDRESS=UCSF Santa Fe Echagüe 7151 Santa Fe Santa Fe Argentina;X-APPLE-RADIUS=500;X-TITLE=Echagüe 7151:geo:-60.6709418,-31.6069451
END:VEVENT
BEGIN:VEVENT
DTSTART;TZID=America/Argentina/Buenos_Aires:20220219T093000
DTEND;TZID=America/Argentina/Buenos_Aires:20220219T103000
DTSTAMP:20260420T124519
CREATED:20220215T160406Z
LAST-MODIFIED:20220215T162032Z
UID:49749-1645263000-1645266600@www.ucsf.edu.ar
SUMMARY:Curso Ofimática para personal no docente
DESCRIPTION:                                                                                    Escuela de verano\nLa Secretaría de Ciencia y Técnica\, y Extensión de la UCSF\, a través del “ Programa Universidad Abierta”\, en conjunto con  la Asociación del Personal Universidad Católica (APUC)\, organizan el Curso “Ofimática para personal no docente”. \n¿Qué es la Ofimática? \nLa ofimática es la automatización\, mediante sistemas electrónicos\, de las comunicaciones y procesos administrativos en las oficinas. (RAE) \nObjetivos: \n-Visualizar el Campus Virtual del entorno UCSF\, a través de Outlook 365.\n-Lograr competencias básicas en la utilización de Word\, buscador integrativo Edge-Chromiun\, One Drive\, entro otros.\n-Adquirir competencias básicas para la utilización de Teams y su conexión con la ofimática.\n-Crear la comunidad Yammer de la UCSF en Ofimática para no docentes. \nDía y horario: sábado 19 de febrero\, a las 9.30hs. \nDestinatarios: Personal no docente de la UCSF\, en general. Personal de bedelía; de las diversas bibliotecas de la UCSF\, en todas sus sedes. \nInscripciones: https://www.eventbrite.com.ar/e/ofimatica-para-la-comuniad-no-docente-de-la-ucsf-tickets-269589378087?aff=Inscripciones \nSe otorgarán certificados. \nUnirse a la reunión Zoom \nhttps://zoom.us/j/92961721386 \nID de reunión: 929 6172 1386 \nResponsable: Dr. Guillermo Kerz: Vicerrector académico a/c Secretaria Ciencia\, Técnica y Extensión. \nTutora: Carina Banegas (Secretaria de Ciencia\, Técnica y Extensión de la UCSF) \nInformes: Dra. Vanina Sturla: Coordinadora PUA. nsturla@ucsf.edu.ar
URL:https://www.ucsf.edu.ar/evento/curso-ofimatica-para-personal-no-docente/
LOCATION:UCSF Santa Fe\, Echagüe 7151\, Santa Fe\, Santa Fe\, Argentina
CATEGORIES:Alumnos,Santa Fe,Editorial,Docentes,Rosario,Personal UCSF,Posadas,Reconquista,Rafaela,Gualeguaychú,Sedes,Extensión,Investigación
GEO:-31.6069451;-60.6709418
X-APPLE-STRUCTURED-LOCATION;VALUE=URI;X-ADDRESS=UCSF Santa Fe Echagüe 7151 Santa Fe Santa Fe Argentina;X-APPLE-RADIUS=500;X-TITLE=Echagüe 7151:geo:-60.6709418,-31.6069451
END:VEVENT
END:VCALENDAR