BEGIN:VCALENDAR
VERSION:2.0
PRODID:-//UCSF - Universidad Católica de Santa Fe - ECPv5.14.2.1//NONSGML v1.0//EN
CALSCALE:GREGORIAN
METHOD:PUBLISH
X-WR-CALNAME:UCSF - Universidad Católica de Santa Fe
X-ORIGINAL-URL:https://www.ucsf.edu.ar
X-WR-CALDESC:Events for UCSF - Universidad Católica de Santa Fe
REFRESH-INTERVAL;VALUE=DURATION:PT1H
X-Robots-Tag:noindex
X-PUBLISHED-TTL:PT1H
BEGIN:VTIMEZONE
TZID:America/Argentina/Buenos_Aires
BEGIN:STANDARD
TZOFFSETFROM:-0300
TZOFFSETTO:-0300
TZNAME:-03
DTSTART:20220101T000000
END:STANDARD
END:VTIMEZONE
BEGIN:VEVENT
DTSTART;TZID=America/Argentina/Buenos_Aires:20220222T180000
DTEND;TZID=America/Argentina/Buenos_Aires:20220222T190000
DTSTAMP:20260420T140613
CREATED:20220214T184807Z
LAST-MODIFIED:20220214T184807Z
UID:49717-1645552800-1645556400@www.ucsf.edu.ar
SUMMARY:Reunión informativa Lic. en Administración de Empresas Digitales
DESCRIPTION:Reunión informativa de la Licenciatura en Administración de Empresas Digitales\, a realizarse vía Zoom el próximo 22 de febrero de 2022 a las 18:00 hs. \nCompartiremos información sobre la carrera\, mostraremos clases modelo\, aulas virtuales y responderemos consultas.\n\nSi te interesa sumarte\, carga tu inscripción a través de este enlace: https://forms.office.com/r/9JVk26FD8V
URL:https://www.ucsf.edu.ar/evento/reunion-informativa-lic-en-administracion-de-empresas-digitales/
LOCATION:Vía Zoom\, Argentina
CATEGORIES:Santa Fe,Rosario,Posadas,Reconquista,Rafaela,Gualeguaychú,Sedes
ORGANIZER;CN="Licenciatura%20en%20Administraci%C3%B3n%20de%20Empresas%20Digitales":MAILTO:laed@ucsf.edu.ar
END:VEVENT
BEGIN:VEVENT
DTSTART;TZID=America/Argentina/Buenos_Aires:20220223T180000
DTEND;TZID=America/Argentina/Buenos_Aires:20220223T190000
DTSTAMP:20260420T140613
CREATED:20220221T201407Z
LAST-MODIFIED:20220221T201559Z
UID:49904-1645639200-1645642800@www.ucsf.edu.ar
SUMMARY:Misa en el mes aniversario del fallecimiento del Dr. Mas
DESCRIPTION:El próximo Miércoles 23 de Febrero se celebrará la Santa Misa por el eterno descanso del Dr. Juan Carlos Mas – quien fuera Rector de la Universidad durante los años 1974-1975; al cumplirse el primer mes aniversario de su fallecimiento.\nLa celebración eucarística se realizará en la Capilla Universitaria de la Sede “Virgen de Guadalupe” – Santa Fe\, a las 18 hs.
URL:https://www.ucsf.edu.ar/evento/misa-en-el-mes-aniversario-del-fallecimiento-del-dr-mas/
LOCATION:Capilla UCSF Sede Santa Fe\, Echagüe 7151\, Santa Fe\, Santa Fe\, 3.000\, Argentina
CATEGORIES:Alumnos,Docentes,Personal UCSF,Vicerrectorado de Formación
ATTACH;FMTTYPE=image/jpeg:https://www.ucsf.edu.ar/wp-content/uploads/2022/02/WhatsApp-Image-2022-02-21-at-16.47.52.jpeg
END:VEVENT
BEGIN:VEVENT
DTSTART;TZID=America/Argentina/Buenos_Aires:20220224T100000
DTEND;TZID=America/Argentina/Buenos_Aires:20220224T120000
DTSTAMP:20260420T140613
CREATED:20220208T173122Z
LAST-MODIFIED:20220221T160847Z
UID:49588-1645696800-1645704000@www.ucsf.edu.ar
SUMMARY:Seminario Causas de defunciones “poco útiles” en las estadísticas de mortalidad Argentina
DESCRIPTION:Escuela de verano\nEl “Programa Universidad Abierta para la Casa Común”\, dependiente de la Secretaría de Ciencia y Técnica\, y Extensión\, en conjunto con la Facultad de Ciencias de la Salud (Carrera de Nutrición)\, comunican que se encuentra abierta la inscripción para el Seminario: “Causas de defunciones “poco útiles” en las estadísticas de mortalidad Argentina: análisis de los niveles y diferenciales sociodemográficos para la orientación de programas de mejoramiento de la información. \nObjetivo general:\n– Analizar la exactitud de las causas de defunción en las estadísticas de mortalidad de la Argentina\, entre 2009 y 2018. \nObjetivos específicos:\n– Evaluar los niveles de causas de defunción “poco útiles” y caracterizar los diferenciales sociodemográficos más relevantes en las estadísticas de mortalidad de la Argentina. \n– Identificar normativas o estrategias implementadas a nivel nacional y por división administrativa mayor de Argentina\, relacionadas con el mejoramiento en el registro de causas de muerte. \nFinalidad:\nLa disertación tendrá como finalidad presentar los principales hallazgos de la Tesis doctoral presentada. \nSe expondrán las etapas que fueron llevadas a cabo para obtener  los resultados. \nDisertante: Dra. Gimena Luque \nDía y horario: jueves 24 de febrero\, de 10 a 12 hs. \nDestinatarios: comunidad de la UCSF y de otras Instituciones y Universidades. Alumnos\, investigadores y público en general. \nInscripciones online: https://www.eventbrite.com.ar/e/causas-de-defunciones-poco-utiles-de-mortalidad-en-la-argentina-tickets-265121795427?aff=Inscripciones\nUnirse a la reunión Zoom \nhttps://zoom.us/j/93996979509 \nID de reunión: 939 9697 9509 \nDra. Gimena Luque \n \nCV abreviado \nLicenciada en Administración de la Salud (UNL)\, Técnica en Estadística de Salud (UNL)\, Posgrado de Epidemiología en Salud Pública (UNC)\, Maestría de Epidemiología en Salud Pública (FICORUZ) y Doctorado en Demografía (UNC). Antecedentes: Analista de datos en la Dirección General de Estadística de Salud del Ministerio de Salud de la Provincia de Santa Fe; Técnica profesional en la Dirección de Epidemiología del Ministerio de Salud de la Provincia de Santa Fe; Investigadora del Instituto Nacional de Enfermedades Respiratorias Dr. Emilio Coni; Docente de la Universidad Católica de Santa Fe; Miembro activo del Centro Argentino de Clasificación de Enfermedades (CACE); Socia de la Asociación de Estudios de Población de la Argentina (AEPA). \nPara informes: contactarse vía E-mail a nsturla@ucsf.edu.ar \n(Coordinadora Programa Universidad Abierta: Dra. N. Vanina Sturla)
URL:https://www.ucsf.edu.ar/evento/seminario-causas-de-defunciones-poco-utiles-en-las-estadisticas-de-mortalidad-argentina/
LOCATION:UCSF Santa Fe\, Echagüe 7151\, Santa Fe\, Santa Fe\, Argentina
CATEGORIES:Santa Fe,Alumnos,Rosario,Docentes,Posadas,Personal UCSF,Reconquista,Rafaela,Gualeguaychú,Sedes,Extensión,Investigación
GEO:-31.6069451;-60.6709418
X-APPLE-STRUCTURED-LOCATION;VALUE=URI;X-ADDRESS=UCSF Santa Fe Echagüe 7151 Santa Fe Santa Fe Argentina;X-APPLE-RADIUS=500;X-TITLE=Echagüe 7151:geo:-60.6709418,-31.6069451
END:VEVENT
BEGIN:VEVENT
DTSTART;TZID=America/Argentina/Buenos_Aires:20220224T180000
DTEND;TZID=America/Argentina/Buenos_Aires:20220224T190000
DTSTAMP:20260420T140613
CREATED:20220214T200341Z
LAST-MODIFIED:20220217T145151Z
UID:49724-1645725600-1645729200@www.ucsf.edu.ar
SUMMARY:Webinar: Liderazgo y gestión de equipos de trabajo virtuales
DESCRIPTION:En el marco del lanzamiento y difusión de la Lic. en Administración de Empresas Digitales\, invitamos a participar del webinar: “Liderazgo y Gestión de Equipos de Trabajo Virtuales”. \nEl mismo estará a cargo del coordinador de la carrera\, Lic. Alvaro Irigoitia Romero. \nInscripción: https://forms.office.com/r/kzbb5Z52QX \n 
URL:https://www.ucsf.edu.ar/evento/webinar-liderazgo-y-gestion-de-equipos-de-trabajo-virtuales/
LOCATION:Vía Zoom\, Argentina
CATEGORIES:Santa Fe,Rosario,Posadas,Reconquista,Rafaela,Gualeguaychú,Sedes
ORGANIZER;CN="Licenciatura%20en%20Administraci%C3%B3n%20de%20Empresas%20Digitales":MAILTO:laed@ucsf.edu.ar
END:VEVENT
BEGIN:VEVENT
DTSTART;TZID=America/Argentina/Buenos_Aires:20220225T163000
DTEND;TZID=America/Argentina/Buenos_Aires:20220225T173000
DTSTAMP:20260420T140613
CREATED:20220211T152042Z
LAST-MODIFIED:20220221T154417Z
UID:49634-1645806600-1645810200@www.ucsf.edu.ar
SUMMARY:Seminario "La legítima hereditaria. Medio de protección de la familia".
DESCRIPTION:Escuela de verano\nEl Programa Universidad Abierta\,  dependiente de la Secretaría de Ciencia y Técnica\, y Extensión\, en conjunto con la Facultad de Derecho y Ciencia Política y el Doctorado en Ciencia Jurídica\, de la UCSF\, comunican que se encuentra abierta la inscripción para el Seminario “La legítima hereditaria. Medio de protección de la familia”. \nObjetivos:  \n1. Desarrollar el instituto.\n2. Demostrar su fundamento constitucional.\n3. Exponer como funciona como medio de protección de la familia en un Estado Constitucional de Derecho. \nDisertante: Dr. Esteban Gutiérrez Dalla Fontana \nDestinatarios: alumnos; docentes de la UCSF y de otras Instituciones y Universidades. Público en general. \nDía y horario: 25 de febrero\, a las 16:30 hs. \nInscripciones: https://www.eventbrite.com.ar/e/la-legitima-hereditaria-medio-de-proteccion-de-la-familia-tickets-267512165087?aff=Inscripciones \nLink de Zoom: \nUnirse a la reunión Zoom\nhttps://zoom.us/j/97843859675\nID de reunión: 978 4385 9675 \nCV abreviado del disertante: \nAbogado (UNL). Doctor en Ciencia Jurídica (UCSF). Especialista en Derecho Administrativo (UNL). Especialista en Derecho Sucesorio (UNR). Docente de grado y postgrado. \nPara informes comunicarse vía E-mail a nsturla@ucsf.edu.ar (Dra. Vanina Sturla: Coordinadora Programa Universidad Abierta)
URL:https://www.ucsf.edu.ar/evento/seminario-la-legitima-hereditaria-medio-de-proteccion-de-la-familia/
LOCATION:UCSF Santa Fe\, Echagüe 7151\, Santa Fe\, Santa Fe\, Argentina
CATEGORIES:Facultades,Alumnos,Docentes,Personal UCSF,Derecho y Ciencia Política,Gualeguaychú,Sedes,Extensión,Investigación
ORGANIZER;CN="Vicerrectorado%20Acad%C3%A9mico":MAILTO:vrecacad@ucsf.edu.ar
GEO:-31.6069451;-60.6709418
X-APPLE-STRUCTURED-LOCATION;VALUE=URI;X-ADDRESS=UCSF Santa Fe Echagüe 7151 Santa Fe Santa Fe Argentina;X-APPLE-RADIUS=500;X-TITLE=Echagüe 7151:geo:-60.6709418,-31.6069451
END:VEVENT
END:VCALENDAR