BEGIN:VCALENDAR
VERSION:2.0
PRODID:-//UCSF - Universidad Católica de Santa Fe - ECPv5.14.2.1//NONSGML v1.0//EN
CALSCALE:GREGORIAN
METHOD:PUBLISH
X-WR-CALNAME:UCSF - Universidad Católica de Santa Fe
X-ORIGINAL-URL:https://www.ucsf.edu.ar
X-WR-CALDESC:Events for UCSF - Universidad Católica de Santa Fe
REFRESH-INTERVAL;VALUE=DURATION:PT1H
X-Robots-Tag:noindex
X-PUBLISHED-TTL:PT1H
BEGIN:VTIMEZONE
TZID:America/Argentina/Buenos_Aires
BEGIN:STANDARD
TZOFFSETFROM:-0300
TZOFFSETTO:-0300
TZNAME:-03
DTSTART:20220101T000000
END:STANDARD
END:VTIMEZONE
BEGIN:VEVENT
DTSTART;TZID=America/Argentina/Buenos_Aires:20220302T120000
DTEND;TZID=America/Argentina/Buenos_Aires:20220302T130000
DTSTAMP:20260420T075604
CREATED:20220209T184822Z
LAST-MODIFIED:20220225T003349Z
UID:49593-1646222400-1646226000@www.ucsf.edu.ar
SUMMARY:Misa Miércoles de Ceniza. Adoración por la Paz
DESCRIPTION:El 2 de Marzo a las 12 hs. se celebrará la Santa Misa de bendición e imposición de las cenizas en la Capilla Universitaria de la Sede “Virgen de Guadalupe” – Santa Fe.\n Seguido habrá 30 minutos de Adoración pidiendo por Ucrania y por los países involucrados\, para que puedan resolver sus diferencias en el respeto mutuo. \nCon la celebración del Miércoles de Ceniza comienza el Tiempo de Cuaresma. Iniciamos así 40 días en los que la Iglesia nos llama a la conversión y a prepararnos verdaderamente para vivir los misterios de la Pasión\, Muerte y Resurrección de Cristo en la Semana Santa.\nEn este día\, durante la Eucaristía se bendice e impone en la frente de los fieles la ceniza hecha de las palmas bendecidas en el Domingo de Ramos del año anterior. La ceniza\, como signo de humildad\, le recuerda al cristiano su origen y su fin.\nAl imponer las cenizas se nos invita a “convertirnos y creer en el Evangelio”. De este modo el símbolo de la ceniza significa arrepentimiento\, penitencia y conversión.\nEl Papa Francisco hace un llamamiento para que este Miércoles de Ceniza se realice en todo el mundo una Jornada de Oración y Ayuno por la Paz.\n“De nuevo la paz de todos es amenazada por los intereses de pocos”\, añadió el Santo Padre que llamó a los responsables políticos “a hacer un examen de conciencia ante Dios\, que es el Dios de la paz y no de la guerra\, Dios nos quiere hermanos y no enemigos”.https://www.youtube.com/watch?v=ZUjCPpjW0jg&t=12s \nComo pide el Santo Padre\, rezar para que se preserve la paz ante la amenaza de la “locura de la guerra”.
URL:https://www.ucsf.edu.ar/evento/miercoles-de-ceniza/
LOCATION:UCSF Santa Fe\, Echagüe 7151\, Santa Fe\, Santa Fe\, Argentina
CATEGORIES:Alumnos,Docentes,Personal UCSF,Vicerrectorado de Formación
ATTACH;FMTTYPE=image/jpeg:https://www.ucsf.edu.ar/wp-content/uploads/2022/02/MISAS-MARZO-FEED-con-frase_CENIZAS.jpg
GEO:-31.6069451;-60.6709418
X-APPLE-STRUCTURED-LOCATION;VALUE=URI;X-ADDRESS=UCSF Santa Fe Echagüe 7151 Santa Fe Santa Fe Argentina;X-APPLE-RADIUS=500;X-TITLE=Echagüe 7151:geo:-60.6709418,-31.6069451
END:VEVENT
BEGIN:VEVENT
DTSTART;TZID=America/Argentina/Buenos_Aires:20220304T180000
DTEND;TZID=America/Argentina/Buenos_Aires:20220304T200000
DTSTAMP:20260420T075604
CREATED:20220131T151828Z
LAST-MODIFIED:20220218T133036Z
UID:49463-1646416800-1646424000@www.ucsf.edu.ar
SUMMARY:Curso de Metodología de la Investigación Jurídica
DESCRIPTION:Escuela de verano\nEl Vicerrectorado Académico de la UCSF\, a través del Programa Universidad Abierta (PUA)\, conjuntamente con la Facultad de Derecho y Ciencia Política y el Doctorado en Ciencias jurídicas de la UCSF\, invitan al “Curso de Metodología de la Investigación Jurídica”. \nDestinatarios: alumnos; doctorandos; Comunidad de la UCSF en general y de otras Universidades e Instituciones. Público en general interesado en la temática. \n1ra. Clase \nDía y horario: viernes 4 de marzo\, de 18 a 20 hs. \nTemas a desarrollar: \nGnoseología Jurídica. Los niveles del conocimiento jurídico: filosofía jurídica\, ciencia jurídica y prudencia jurídica. Los métodos de investigación en el ámbito del conocimiento jurídico. \nDisertante: Dr. Juan Bautista Etcheverry (Profesor de Filosofía del Derecho e Investigador adjunto del CONICET\, entre otros.) \nLink de inscripción: https://www.eventbrite.com.ar/e/curso-de-metodologia-de-la-investigacion-juridica-tickets-259424956027?aff=Inscripciones \n  \nLink de Zoom: https://zoom.us/j/94510570247 \n ID de reunión: 945 1057 0247 \n2da. Clase \nDía y horario: viernes 11 de marzo\, de 16 a 18 hs. \nTemas a desarrollar:\n¿Cómo elaborar un proyecto de investigación? Estado del Arte. Marco Teórico\, Problema o Hipótesis de la investigación. Objetivos. Metodología. \nDisertante: Dra. Ana María Bonet (Doctora en Derecho\, investigadora del CONICET\, entro otros) \nLink de inscripción: https://www.eventbrite.com.ar/e/curso-de-metodologia-de-la-investigacion-tickets-259472307657?aff=Inscripcion \n  \nLink de Zoom: https://zoom.us/j/95209779797 \n ID de reunión: 952 0977 9797 \nPor cualquier consulta\, comunicarse vía E-mail a nsturla@ucsf.edu.ar  (Dra. N. Vanina Sturla: Coordinadora Programa Universidad Abierta\, Secretaría de Extensión Universitaria) \nSólo se admiten inscripciones online\, a través de los links (enlaces) de esta página.
URL:https://www.ucsf.edu.ar/evento/curso-de-metodologia-de-la-investigacion-juridica/
LOCATION:UCSF Santa Fe\, Echagüe 7151\, Santa Fe\, Santa Fe\, Argentina
CATEGORIES:Alumnos,Santa Fe,Docentes,Rosario,Personal UCSF,Posadas,Reconquista,Rafaela,Gualeguaychú,Sedes,Extensión,Investigación
ATTACH;FMTTYPE=image/jpeg:https://www.ucsf.edu.ar/wp-content/uploads/2022/01/Investigacion-Juridica_con-organizadores.jpg
ORGANIZER;CN="Vicerrectorado%20Acad%C3%A9mico":MAILTO:vrecacad@ucsf.edu.ar
GEO:-31.6069451;-60.6709418
X-APPLE-STRUCTURED-LOCATION;VALUE=URI;X-ADDRESS=UCSF Santa Fe Echagüe 7151 Santa Fe Santa Fe Argentina;X-APPLE-RADIUS=500;X-TITLE=Echagüe 7151:geo:-60.6709418,-31.6069451
END:VEVENT
BEGIN:VEVENT
DTSTART;TZID=America/Argentina/Buenos_Aires:20220305T080000
DTEND;TZID=America/Argentina/Buenos_Aires:20220305T170000
DTSTAMP:20260420T075604
CREATED:20220220T155712Z
LAST-MODIFIED:20220220T155818Z
UID:49852-1646467200-1646499600@www.ucsf.edu.ar
SUMMARY:Financiamiento a la investigación\, la innovación y el conocimiento
DESCRIPTION:  \n  \n \nCiencia\, Tecnología e Innovación se busca promover la Ciencia para el Desarrollo\, que implica llevar adelante una agenda de proyectos estratégicos y prioritarios que contribuyan a mejorar la calidad de vida para los santafesinos y santafesinas. \nPara ello\, uno de los ejes estratégicos radica en la generación y gestión de financiamiento propio así como el apoyo y aval a la postulación de proyectos provenientes del sistema científico-tecnológico santafesino a convocatorias provinciales externas y nacionales. \nTodas las líneas de la Provincia de Santa Fe
URL:https://www.ucsf.edu.ar/evento/financiamiento-a-la-investigacion-la-innovacion-y-el-conocimiento/
LOCATION:UCSF\, Echagüe 7151\, Santa Fe Capital\, Santa Fe\, 3000\, Argentina
CATEGORIES:Santa Fe,Rosario,Reconquista,Rafaela,Sedes
END:VEVENT
END:VCALENDAR