BEGIN:VCALENDAR
VERSION:2.0
PRODID:-//UCSF - Universidad Católica de Santa Fe - ECPv5.14.2.1//NONSGML v1.0//EN
CALSCALE:GREGORIAN
METHOD:PUBLISH
X-WR-CALNAME:UCSF - Universidad Católica de Santa Fe
X-ORIGINAL-URL:https://www.ucsf.edu.ar
X-WR-CALDESC:Events for UCSF - Universidad Católica de Santa Fe
REFRESH-INTERVAL;VALUE=DURATION:PT1H
X-Robots-Tag:noindex
X-PUBLISHED-TTL:PT1H
BEGIN:VTIMEZONE
TZID:America/Argentina/Buenos_Aires
BEGIN:STANDARD
TZOFFSETFROM:-0300
TZOFFSETTO:-0300
TZNAME:-03
DTSTART:20220101T000000
END:STANDARD
END:VTIMEZONE
BEGIN:VEVENT
DTSTART;VALUE=DATE:20220321
DTEND;VALUE=DATE:20220322
DTSTAMP:20260420T141623
CREATED:20220320T220146Z
LAST-MODIFIED:20220320T220212Z
UID:50407-1647820800-1647907199@www.ucsf.edu.ar
SUMMARY:Día del Síndrome de Down
DESCRIPTION:Jerome Lejeune\, de quien el Instituto de Bioética de la Universidad lleva su nombre\, cuando estaba examinando los cromosomas de un niño con síndrome de Down\, descubrió la trisomía 21\, la anomalía genética que causa la enfermedad.\nTales estudios lo llevaron a ser considerado el “padre de la genética moderna”.\nSe estima que trató a más de 9.000 pacientes con discapacidad intelectual y analizó alrededor de 30.000 pruebas cromosómicas.
URL:https://www.ucsf.edu.ar/evento/dia-del-sindrome-de-down/
LOCATION:UCSF Santa Fe\, Echagüe 7151\, Santa Fe\, Santa Fe\, Argentina
CATEGORIES:IB Instituto de Bioética Jerome Lejeune
ORGANIZER;CN="Instituto%20de%20Bio%C3%A9tica%20%22J%C3%A8r%C3%B4me%20Lejeune%22":MAILTO:bioetica@ucsf.edu.ar
GEO:-31.6069451;-60.6709418
X-APPLE-STRUCTURED-LOCATION;VALUE=URI;X-ADDRESS=UCSF Santa Fe Echagüe 7151 Santa Fe Santa Fe Argentina;X-APPLE-RADIUS=500;X-TITLE=Echagüe 7151:geo:-60.6709418,-31.6069451
END:VEVENT
BEGIN:VEVENT
DTSTART;TZID=America/Argentina/Buenos_Aires:20220322T180000
DTEND;TZID=America/Argentina/Buenos_Aires:20220322T180000
DTSTAMP:20260420T141623
CREATED:20220316T193801Z
LAST-MODIFIED:20220316T194034Z
UID:50346-1647972000-1647972000@www.ucsf.edu.ar
SUMMARY:Misa en honor a San José y de Acción de Gracias por Arq. Artoni
DESCRIPTION:El próximo Martes 22 de marzo a las 18 hs. celebraremos la “Misa en honor a San José”\, en la Capilla Universitaria de la Sede Santa Fe “Virgen de Guadalupe”.\nEsta Misa también será de acción de gracias por el Arq. José Artoni\, quien fuera Rector de nuestra Casa durante los años 1971-1974.
URL:https://www.ucsf.edu.ar/evento/misa-en-honor-a-san-jose-y-de-accion-de-gracias-por-arq-artoni/
LOCATION:UCSF Santa Fe\, Echagüe 7151\, Santa Fe\, Santa Fe\, Argentina
CATEGORIES:Alumnos,Docentes,Personal UCSF,Vicerrectorado de Formación
ATTACH;FMTTYPE=image/jpeg:https://www.ucsf.edu.ar/wp-content/uploads/2022/03/MISAS-MARZO-FEED-con-frase_SAN-JOSE.jpg
GEO:-31.6069451;-60.6709418
X-APPLE-STRUCTURED-LOCATION;VALUE=URI;X-ADDRESS=UCSF Santa Fe Echagüe 7151 Santa Fe Santa Fe Argentina;X-APPLE-RADIUS=500;X-TITLE=Echagüe 7151:geo:-60.6709418,-31.6069451
END:VEVENT
BEGIN:VEVENT
DTSTART;VALUE=DATE:20220323
DTEND;VALUE=DATE:20220324
DTSTAMP:20260420T141623
CREATED:20211229T195204Z
LAST-MODIFIED:20211229T213419Z
UID:49290-1647993600-1648079999@www.ucsf.edu.ar
SUMMARY:La Católica Investiga: Convocatoria Foncyt.
DESCRIPTION:Fecha límite de presentación: 23 de marzo 2022 \nEl Instituto de Investigaciones en Ciencias de la Salud\, de la Facultad de Ciencias de la Salud\, comparte la siguiente información\, destinado a todas la Unidades académicas y sus institutos: \nLa Agencia Nacional de Promoción de la Investigación\, el Desarrollo Tecnológico y la Innovación (AGENCIA I+D+i)\, a través del Fondo para la Investigación Científica y Tecnológica (FONCyT)\, llama a la presentación de Proyectos de Investigación Científica y Tecnológica para la adjudicación de subsidios a instituciones de investigación públicas o privadas sin fines de lucro\, radicadas en el país (Instituciones Beneficiarias). \nCATEGORIAS \nEn esta convocatoria se llama a la presentación de proyectos en las siguientes categorías: \n\n\n\nTEMAS ABIERTOS: Proyectos de investigación científica y tecnológica abiertos a todas las áreas del conocimiento.\nRAÍCES: Proyectos de investigación científica y tecnológica que incluyan en el Grupo Responsable (GR) al menos un investigador Argentino radicado en el exterior.\n\n\n\n  \nTIPOS DE PRESENTACIÓN \nLos proyectos podrán ser presentados por: \n\nUn/a Investigador/a Inicial.\nUn Grupo de Reciente Formación.\nUn Equipo de Trabajo.\n\nMás Información: \nAgencia I+D+i (mincyt.gob.ar)
URL:https://www.ucsf.edu.ar/evento/la-catolica-investiga-convocatoria-foncyt/
LOCATION:UCSF Santa Fe\, Echagüe 7151\, Santa Fe\, Santa Fe\, Argentina
CATEGORIES:Alumnos,Santa Fe,Docentes,Rosario,Posadas,Reconquista,Rafaela,Gualeguaychú,Sedes,Extensión,Investigación
GEO:-31.6069451;-60.6709418
X-APPLE-STRUCTURED-LOCATION;VALUE=URI;X-ADDRESS=UCSF Santa Fe Echagüe 7151 Santa Fe Santa Fe Argentina;X-APPLE-RADIUS=500;X-TITLE=Echagüe 7151:geo:-60.6709418,-31.6069451
END:VEVENT
BEGIN:VEVENT
DTSTART;TZID=America/Argentina/Buenos_Aires:20220325T120000
DTEND;TZID=America/Argentina/Buenos_Aires:20220325T130000
DTSTAMP:20260420T141623
CREATED:20220314T205154Z
LAST-MODIFIED:20220314T205603Z
UID:50213-1648209600-1648213200@www.ucsf.edu.ar
SUMMARY:Misa de la Anunciación del Señor
DESCRIPTION:25 de Marzo: Solemnidad de la Anunciación del Señor\nEste día la Iglesia recuerda el anuncio del Ángel Gabriel a la Virgen María y el “sí” de Ella a Dios\, concibiendo desde aquel momento a Jesús y convirtiéndose en protectora del Niño que un día nacería y salvaría con amor al mundo.\nTambién se ha elegido esta fecha para celebrar el Día del niño por nacer; a fin de conmemorar\, promover y defender la vida humana desde que ha sido concebida en el vientre de la madre hasta la muerte natural.\nEn nuestra Universidad\, se celebrará la Santa Misa de la Anunciación a las 12 hs.\, en la Capilla. También se realizará bendición de las embarazadas.\n  \n 
URL:https://www.ucsf.edu.ar/evento/misa-de-la-anunciacion-del-senor/
LOCATION:UCSF Santa Fe\, Echagüe 7151\, Santa Fe\, Santa Fe\, Argentina
CATEGORIES:Alumnos,Docentes,Personal UCSF,Vicerrectorado de Formación
ATTACH;FMTTYPE=image/jpeg:https://www.ucsf.edu.ar/wp-content/uploads/2022/03/MISAS-MARZO-FEED-con-frase_ANUNCIACION.jpg
GEO:-31.6069451;-60.6709418
X-APPLE-STRUCTURED-LOCATION;VALUE=URI;X-ADDRESS=UCSF Santa Fe Echagüe 7151 Santa Fe Santa Fe Argentina;X-APPLE-RADIUS=500;X-TITLE=Echagüe 7151:geo:-60.6709418,-31.6069451
END:VEVENT
BEGIN:VEVENT
DTSTART;TZID=America/Argentina/Buenos_Aires:20220325T130000
DTEND;TZID=America/Argentina/Buenos_Aires:20220325T140000
DTSTAMP:20260420T141623
CREATED:20220311T021509Z
LAST-MODIFIED:20220311T022235Z
UID:50193-1648213200-1648216800@www.ucsf.edu.ar
SUMMARY:Día del Niño por Nacer
DESCRIPTION:Nuestro país fue el primero del mundo en declarar el Día del Niño por Nacer mediante Decreto N° 1406/98\, con el fin de conmemorar\, promover y defender la vida humana desde la concepción en el vientre materno. \nLa vida está amparada jurídicamente por nuestra Carta Magna\, en el art. 75° inc. 22\, mediante el cual se le otorga jerarquía constitucional a los Tratados Internacionales sobre Derechos Humanos\, entre ellos\, La Convención sobre los Derechos del Niño\, adoptada por la Asamblea General de las NacionesUnidas en 1989. Nuestro país ratifica esta convención\, haciendo reserva y declaraciones de algunos artículos\, como ser el caso del art. 1° que define al niño: “Con relación al artículo 1º de la CONVENCION SOBRE LOS DERECHOS DEL NIÑO\, la REPUBLICA ARGENTINA declara que el mismo debe interpretarse en el sentido que se entiende por niño todo ser humano desde el momento de su concepción y hasta los 18 años de edad”. Asimismo\, en el preámbulo de dicha Convención queda expresado “el niño\, por su falta de madurez física y mental\, necesita protección y cuidado especiales\, incluso la debida protección legal\, tanto antes como después del nacimiento”. \nEl niño en su etapa prenatal es sumamente frágil\, es importante la protección eficaz del Estado para él\, como a su madre. \nEn todas las decisiones y medidas que tomen o en que intervengan las instituciones públicas o privadas\, así como órganos legislativos\, judiciales o administrativos\, es de consideración primordial el interés superior del niño por nacer. \nResulta fundamental que el Estado brinde el auxilio oportuno y la debida asistencia en beneficio de aquellas personas -nacidas o por nacer- que se encuentran en una situación de especial vulnerabilidad. \nINFORMES: bioetica@ucsf.edu.ar
URL:https://www.ucsf.edu.ar/evento/dia-del-nino-por-nacer/
LOCATION:UCSF Santa Fe\, Echagüe 7151\, Santa Fe\, Santa Fe\, Argentina
CATEGORIES:IB Instituto de Bioética Jerome Lejeune
ORGANIZER;CN="Instituto%20de%20Bio%C3%A9tica%20%22J%C3%A8r%C3%B4me%20Lejeune%22":MAILTO:bioetica@ucsf.edu.ar
GEO:-31.6069451;-60.6709418
X-APPLE-STRUCTURED-LOCATION;VALUE=URI;X-ADDRESS=UCSF Santa Fe Echagüe 7151 Santa Fe Santa Fe Argentina;X-APPLE-RADIUS=500;X-TITLE=Echagüe 7151:geo:-60.6709418,-31.6069451
END:VEVENT
BEGIN:VEVENT
DTSTART;TZID=America/Argentina/Buenos_Aires:20220325T163000
DTEND;TZID=America/Argentina/Buenos_Aires:20220325T173000
DTSTAMP:20260420T141623
CREATED:20220207T164748Z
LAST-MODIFIED:20220323T214049Z
UID:49547-1648225800-1648229400@www.ucsf.edu.ar
SUMMARY:Introducción a la metodología de revisión sistemática de la literatura científica
DESCRIPTION:  \n \n\nEscuela de verano\nEl Programa Universidad Abierta (PUA)\, dependiente de la Secretaría de Ciencia y Técnica\, y Extensión\, de la UCSF\, y el kAAD\, comunican que se encuentra abierta la inscripción para el Seminario: Introducción a la metodología de revisión sistemática de la literatura. \nDía y horario: viernes 25 de marzo\, a las 16:30 hs. \nDisertante: Mter. Luz Marina Leegstra \nDestinatarios: alumnos; investigadores; comunidad de la UCSF en general y de otras Universidades e Instituciones. Público en general interesado en la temática. \nObjetivos generales: \n– Entender la importancia de la revisión sistemática de la literatura en la investigación\n– Distinción entre revisión sistemática y revisión narrativa\n– Pasos en la conducción de la RS\n– Búsqueda de literatura\n– Data managers asociados a la revisión sistemática de la literatura\n– Sesgos a tener en cuenta en la conducción de SR\n– Guías para la escritura de revisión sistemática de la literatura para publicación. \nInscripciones: https://www.eventbrite.com.ar/e/introduccion-a-la-metodologia-de-revision-sistematica-de-la-literatura-tickets-264282605387?aff=Inscripciones \nUnirse a la reunión Zoom\nhttps://zoom.us/j/98230886717 \nID de reunión: 982 3088 6717 \nCV abreviado: Luz Marina Leegstra \nMaster en Salud Internacional\, Universidad de Heidelberg\, Alemania. Especialista en abordaje de problemáticas comunitarias\, Universidad Nacional de Lanús. Licenciada en Psicología\, Universidad Católica de Santa Fe. \nProject Manager del consorcio ORCHESTRA\, en representación de la Universidad de Heidelberg (UKHD). ORCHESTRA: proyecto de investigación internacional destinado a hacer frente a la pandemia de coronavirus\, dirigido por la Universidad de Verona\, en el que participan diversos países como: Alemania\, Argentina\, Bélgica\, Brasil\, Congo\, Eslovaquia\, España\, Francia\, Gabón\, India\, Italia\, Luxemburgo\, Países Bajos\, Rumanía y Venezuela. \nPara informes contactarse vía Email a nsturla@ucsf.edu.ar (Coordinadora PUA: Dra. N. Vanina Sturla)
URL:https://www.ucsf.edu.ar/evento/introduccion-a-la-metodologia-de-revision-sistematica-de-la-literatura/
LOCATION:UCSF Santa Fe\, Echagüe 7151\, Santa Fe\, Santa Fe\, Argentina
CATEGORIES:Alumnos,Santa Fe,Docentes,Rosario,Personal UCSF,Posadas,Reconquista,Rafaela,Gualeguaychú,Sedes,Extensión,Investigación
ORGANIZER;CN="Vicerrectorado%20Acad%C3%A9mico":MAILTO:vrecacad@ucsf.edu.ar
GEO:-31.6069451;-60.6709418
X-APPLE-STRUCTURED-LOCATION;VALUE=URI;X-ADDRESS=UCSF Santa Fe Echagüe 7151 Santa Fe Santa Fe Argentina;X-APPLE-RADIUS=500;X-TITLE=Echagüe 7151:geo:-60.6709418,-31.6069451
END:VEVENT
END:VCALENDAR