BEGIN:VCALENDAR
VERSION:2.0
PRODID:-//UCSF - Universidad Católica de Santa Fe - ECPv5.14.2.1//NONSGML v1.0//EN
CALSCALE:GREGORIAN
METHOD:PUBLISH
X-WR-CALNAME:UCSF - Universidad Católica de Santa Fe
X-ORIGINAL-URL:https://www.ucsf.edu.ar
X-WR-CALDESC:Events for UCSF - Universidad Católica de Santa Fe
REFRESH-INTERVAL;VALUE=DURATION:PT1H
X-Robots-Tag:noindex
X-PUBLISHED-TTL:PT1H
BEGIN:VTIMEZONE
TZID:America/Argentina/Buenos_Aires
BEGIN:STANDARD
TZOFFSETFROM:-0300
TZOFFSETTO:-0300
TZNAME:-03
DTSTART:20220101T000000
END:STANDARD
END:VTIMEZONE
BEGIN:VEVENT
DTSTART;TZID=America/Argentina/Buenos_Aires:20220329T120000
DTEND;TZID=America/Argentina/Buenos_Aires:20220329T124000
DTSTAMP:20260420T045117
CREATED:20220328T165937Z
LAST-MODIFIED:20220328T170222Z
UID:50526-1648555200-1648557600@www.ucsf.edu.ar
SUMMARY:Misa de inicio del ciclo lectivo 2022
DESCRIPTION:Invitamos a toda la Comunidad Universitaria a la Misa de acción de gracias por el inicio del ciclo lectivo 2022. La misma se celebrará a las 12 hs.\, en la Capilla de la Sede “Virgen de Guadalupe” – Santa Fe.
URL:https://www.ucsf.edu.ar/evento/misa-de-inicio-del-ciclo-lectivo-2022/
LOCATION:UCSF Santa Fe\, Echagüe 7151\, Santa Fe\, Santa Fe\, Argentina
CATEGORIES:Alumnos,Docentes,Personal UCSF,Vicerrectorado de Formación
ATTACH;FMTTYPE=image/jpeg:https://www.ucsf.edu.ar/wp-content/uploads/2022/03/MISA-INGRESANTE-feed_-.jpg
GEO:-31.6069451;-60.6709418
X-APPLE-STRUCTURED-LOCATION;VALUE=URI;X-ADDRESS=UCSF Santa Fe Echagüe 7151 Santa Fe Santa Fe Argentina;X-APPLE-RADIUS=500;X-TITLE=Echagüe 7151:geo:-60.6709418,-31.6069451
END:VEVENT
BEGIN:VEVENT
DTSTART;TZID=America/Argentina/Buenos_Aires:20220401T150000
DTEND;TZID=America/Argentina/Buenos_Aires:20220401T170000
DTSTAMP:20260420T045117
CREATED:20220212T221452Z
LAST-MODIFIED:20220316T201010Z
UID:49671-1648825200-1648832400@www.ucsf.edu.ar
SUMMARY:Círculo de reflexión socio-eco-jurídica
DESCRIPTION:  \n \n  \nEspacio de intercambio académico que articula debates actuales sobre derecho\, sociedad y ecología desde enfoques interdisciplinarios. \nMetodológicamente se trabaja a partir de textos difundidos previamente entre los participantes y que son presentados brevemente por uno de ellos al iniciar el encuentro. Tal presentación sirve de disparador para el intercambio abierto y plural. \nConvoca  a participantes de diferentes áreas académicas y otros ámbitos sociales\, y suele funcionar como un rico espacio de inspiración para el trabajo de producción académica. \nInformación para unirse a la reunión de Google Meet\nVínculo a la videollamada: https://meet.google.com/wou-opat-qpj \n  \n  \n  \nen Colaboración con el Programa Ciencia y Técnica en Casa de la Secretaría de Ciencia\, Técnica y Extensión de la UCSF y Fundación Ecoceno \n  \n  \n  \n  \n \n  \n  \n 
URL:https://www.ucsf.edu.ar/evento/circulo-de-reflexion-socio-eco-juridica-4/
LOCATION:UCSF Santa Fe\, Echagüe 7151\, Santa Fe\, Santa Fe\, Argentina
CATEGORIES:Investigación Ecojurídica,Alumnos,Docentes
GEO:-31.6069451;-60.6709418
X-APPLE-STRUCTURED-LOCATION;VALUE=URI;X-ADDRESS=UCSF Santa Fe Echagüe 7151 Santa Fe Santa Fe Argentina;X-APPLE-RADIUS=500;X-TITLE=Echagüe 7151:geo:-60.6709418,-31.6069451
END:VEVENT
BEGIN:VEVENT
DTSTART;TZID=America/Argentina/Buenos_Aires:20220401T190000
DTEND;TZID=America/Argentina/Buenos_Aires:20220401T200000
DTSTAMP:20260420T045117
CREATED:20220401T154312Z
LAST-MODIFIED:20220401T154521Z
UID:50678-1648839600-1648843200@www.ucsf.edu.ar
SUMMARY:Ofimatica para No Docentes. Teams y ventajas sobre Zoom y otros.
DESCRIPTION:  \n3erEncuentro de Ofimatica para no docentes (por Teams) \nTema : Teams y sus ventajas sobre zoom y otras en el ecosistema de la UCSF. \n“Microsoft Teams es una plataforma unificada de comunicación y colaboración\, que facilita la interacción entre colaboradores\, conocido especialmente por ser un centro de trabajo basado en chats.” \nTemario\n1) Conocer la aplicación de Teams para el trabajo colaborativo\n2) Crear equipos de trabajo\n3) El chat como fuente de comunicación intrainstitucional\n4) Teams como modo de organización del trabajo diario\n  \n2 Grupos: \nViernes 1 de abril. de 19 a 20 h. \nSábado 2 de Abril: de 9.30 a 10.30 h \nInscripciones \nCarina Banegas. cbanegas@ucsf.edu.ar
URL:https://www.ucsf.edu.ar/evento/ofimatica-para-no-docentes-teams-y-ventajas-sobre-zoom-y-otros/
LOCATION:UCSF Santa Fe\, Echagüe 7151\, Santa Fe\, Santa Fe\, Argentina
CATEGORIES:Santa Fe,Rosario,Personal UCSF,Posadas,Reconquista,Rafaela,Gualeguaychú,Sedes,Extensión
GEO:-31.6069451;-60.6709418
X-APPLE-STRUCTURED-LOCATION;VALUE=URI;X-ADDRESS=UCSF Santa Fe Echagüe 7151 Santa Fe Santa Fe Argentina;X-APPLE-RADIUS=500;X-TITLE=Echagüe 7151:geo:-60.6709418,-31.6069451
END:VEVENT
BEGIN:VEVENT
DTSTART;VALUE=DATE:20220403
DTEND;VALUE=DATE:20220404
DTSTAMP:20260420T045117
CREATED:20220401T103116Z
LAST-MODIFIED:20220401T103131Z
UID:50662-1648944000-1649030399@www.ucsf.edu.ar
SUMMARY:Aniversario del Fallecimiento de Jerome Lejeune
DESCRIPTION:Aniversario del fallecimiento de Jerome Lejeune \n3 de abril de 1994 \n  \nEl 3 de abril de 1994 fallecía en París el Dr Jerome Lejeune\, dejando a la Iglesia y al mundo un eximio testimonio de ciencia y santidad. \nAl recordarlo en este nuevo aniversario de su pascua\, queremos darnos la oportunidad de recoger su legado y tratar de aprender humildemente\, como él lo hizo\, a practicar el diálogo entre la fe y la razón\, la ciencia y la fe. \nPara cuantos compartimos con Lejeune esta vocación a trabajar por la ciencia y la fe\, su vida es una rica fuente de inspiración. \nSu formación científica como genetista lo llevó a ser un celoso defensor de la vida\, en especial en sus formas más vulnerables. Fue\, precisamente\, un descubrimiento científico\, el que marcó su carrera dotándola de su particular estilo humanista: cuando a la edad de 32 años descubre la primera anomalía cromosómica en el hombre: la trisomía 21 o Síndrome de Down. A partir de ese momento\, su ciencia y su fe inseparables\, estuvieron siempre al servicio de la vida. \nHoy al recordarlo y al honrarlo\, queremos destacar en él esa peculiar síntesis entre fe y razón que lleva la forma de la santidad. \nEn el universo de las ciencias la destacada actuación de un profesional lleva el nombre de “excelencia”; en el universo de la fe\, se llama “santidad”. Lejeune se destacó por ambas. \nLa Iglesia comprendió el valor de este testimonio\, por eso el 28 de junio de 2007 inició la causa de beatificación. El 21 de enero de 2021 fue reconocido como Venerable por el Papa Francisco por “haber vivido las virtudes cristianas de manera heróica”. \nHoy recogemos este rico legado que nos inspira y nos compromete como cristianos. Queremos compartirlo con el mundo y elevamos nuestra oración por su pronta beatificación. \nPbro Mario D’Angelo
URL:https://www.ucsf.edu.ar/evento/aniversario-del-fallecimiento-de-jerome-lejeune/
LOCATION:UCSF Santa Fe\, Echagüe 7151\, Santa Fe\, Santa Fe\, Argentina
CATEGORIES:IB Instituto de Bioética Jerome Lejeune
ORGANIZER;CN="Instituto%20de%20Bio%C3%A9tica%20%22J%C3%A8r%C3%B4me%20Lejeune%22":MAILTO:bioetica@ucsf.edu.ar
GEO:-31.6069451;-60.6709418
X-APPLE-STRUCTURED-LOCATION;VALUE=URI;X-ADDRESS=UCSF Santa Fe Echagüe 7151 Santa Fe Santa Fe Argentina;X-APPLE-RADIUS=500;X-TITLE=Echagüe 7151:geo:-60.6709418,-31.6069451
END:VEVENT
END:VCALENDAR