BEGIN:VCALENDAR
VERSION:2.0
PRODID:-//UCSF - Universidad Católica de Santa Fe - ECPv5.14.2.1//NONSGML v1.0//EN
CALSCALE:GREGORIAN
METHOD:PUBLISH
X-WR-CALNAME:UCSF - Universidad Católica de Santa Fe
X-ORIGINAL-URL:https://www.ucsf.edu.ar
X-WR-CALDESC:Events for UCSF - Universidad Católica de Santa Fe
REFRESH-INTERVAL;VALUE=DURATION:PT1H
X-Robots-Tag:noindex
X-PUBLISHED-TTL:PT1H
BEGIN:VTIMEZONE
TZID:America/Argentina/Buenos_Aires
BEGIN:STANDARD
TZOFFSETFROM:-0300
TZOFFSETTO:-0300
TZNAME:-03
DTSTART:20220101T000000
END:STANDARD
END:VTIMEZONE
BEGIN:VEVENT
DTSTART;TZID=America/Argentina/Buenos_Aires:20220405T170000
DTEND;TZID=America/Argentina/Buenos_Aires:20220405T200000
DTSTAMP:20260420T142024
CREATED:20220311T022101Z
LAST-MODIFIED:20220401T152106Z
UID:50197-1649178000-1649188800@www.ucsf.edu.ar
SUMMARY:Bioética y Docencia
DESCRIPTION:La investigación pretende mostrar la importancia y necesidad de introducir la perspectiva bioética en el nivel secundario de educación\, integrando los contenidos curriculares de 5º Año del Ciclo Orientado del área de Ciencias Naturales y Ciencias Sociales y Humanas en la provincia de Santa Fe\, Argentina. El objetivo es señalar la importancia que esta formación brinda a los adolescentes. Como así también la necesidad de un cambio de perspectiva en cuanto a la docencia de las ciencias experimentales y sociales\, lo que implica considerar introducir en la didáctica las implicancias éticas y morales que produce la investigación científica. La investigación lleva a formular una propuesta que permita la implementación de una modalidad pedagógica que incluye en el desarrollo curricular la perspectiva bioética. \nOBJETIVOS: \n\nSocializar a los representantes legales y rectores de las escuelas de la JAE\, el proyecto sobre la necesidad de introducir la perspectiva bioética en el nivel secundario para favorecer la formación en valores que la disciplina promueve.\nComunicar en qué áreas de los Diseños Curriculares de la Provincia de Santa Fe\, del Nivel Secundario\, se abordan dilemas bioéticos.\n\nINFORMES: bioetica@ucsf.edu.ar
URL:https://www.ucsf.edu.ar/evento/bioetica-y-docencia/
LOCATION:UCSF Santa Fe\, Echagüe 7151\, Santa Fe\, Santa Fe\, Argentina
CATEGORIES:IB Instituto de Bioética Jerome Lejeune
ORGANIZER;CN="Instituto%20de%20Bio%C3%A9tica%20%22J%C3%A8r%C3%B4me%20Lejeune%22":MAILTO:bioetica@ucsf.edu.ar
GEO:-31.6069451;-60.6709418
X-APPLE-STRUCTURED-LOCATION;VALUE=URI;X-ADDRESS=UCSF Santa Fe Echagüe 7151 Santa Fe Santa Fe Argentina;X-APPLE-RADIUS=500;X-TITLE=Echagüe 7151:geo:-60.6709418,-31.6069451
END:VEVENT
BEGIN:VEVENT
DTSTART;TZID=America/Argentina/Buenos_Aires:20220407T170000
DTEND;TZID=America/Argentina/Buenos_Aires:20220407T190000
DTSTAMP:20260420T142024
CREATED:20220330T170050Z
LAST-MODIFIED:20220330T190014Z
UID:50572-1649350800-1649358000@www.ucsf.edu.ar
SUMMARY:Defensa de Tesis - Maestría en Evaluación de Impacto y Gestión Ambiental- Departamento de Posgrado
DESCRIPTION:  \nEl Departamento de Posgrado de la Universidad Católica de Santa Fe invita al acto de Defensa de Tesis que se llevará a cabo el próximo jueves 07 de abril del corriente año\, comprendida dentro del marco de la Carrera de Posgrado\, Maestría en Evaluación de Impacto y Gestión Ambiental. \n  \nCandidato: Raúl Alberto Walker \nDirector de Tesis: Dr. Ignacio Daniel Coria \n  \nTítulo de Tesis: \n“Desarrollo de un sistema local de gestión para el uso de Fitosanitarios en la Comuna de Colonia San José (Dpto. Las Colonias\, Santa Fe)”. \n  \nMiembros del tribunal examinador: \n\nMgter. Lucena Spano Tardivo\nMgter. Jorge Eduardo Ramoneda\nMgter. Adolfo Alfredo Rojas Mors.\n\n  \nHorario de Defensa: 17:00 hs   – Modalidad Zoom \n  \nUnirse a la reunión Zoom  \nhttps://zoom.us/j/98487059893?pwd=Uy9vR25ybU9hNU1qcXM0M1BEY0pGdz09  \n  \nID de reunión: 984 8705 9893  \nCódigo de acceso: 07042022 \n 
URL:https://www.ucsf.edu.ar/evento/defensa-de-tesis-maestria-en-evaluacion-de-impacto-y-gestion-ambiental-departamento-de-posgrado-ucsf/
LOCATION:Vía Zoom\, Argentina
CATEGORIES:Santa Fe,Maestría en Evaluación de Impacto y Gestión Ambiental,Alumnos,Docentes,Personal UCSF,Carreras de Posgrado,Sedes
ATTACH;FMTTYPE=image/png:https://www.ucsf.edu.ar/wp-content/uploads/2022/03/Sin-titulo.png
END:VEVENT
BEGIN:VEVENT
DTSTART;TZID=America/Argentina/Buenos_Aires:20220408T150000
DTEND;TZID=America/Argentina/Buenos_Aires:20220408T170000
DTSTAMP:20260420T142024
CREATED:20220212T221452Z
LAST-MODIFIED:20220228T161707Z
UID:49674-1649430000-1649437200@www.ucsf.edu.ar
SUMMARY:Círculo de reflexión socio-eco-jurídica sobre derecho a un nivel de vida adecuado
DESCRIPTION:  \nEl Viernes 8 de Abril a las 15hs. exponddrán en el Círculo de Reflexión Socio Eco Jurídica Yael Selene Saidler y Paula Benmergui sobre el texto “La primacía de los derechos sociales relacionados con un nivel de vida adecuado” de Bonet; Vidal; Piva y Saidler. \n  \nLink de acceso:  meet.google.com/wou-opat-qpj \n  \n  \n  \n  \n  \nen Colaboración con el Programa Ciencia y Técnica en Casa de la Secretaría de Ciencia\, Técnica y Extensión de la UCSF \nEspacio de intercambio académico que articula debates actuales sobre derecho\, sociedad y ecología desde enfoques interdisciplinarios. \nMetodológicamente se trabaja a partir de textos difundidos previamente entre los participantes y que son presentados brevemente por uno de ellos al iniciar el encuentro. Tal presentación sirve de disparador para el intercambio abierto y plural. \nConvoca  a participantes de diferentes áreas académicas y otros ámbitos sociales\, y suele funcionar como un rico espacio de inspiración para el trabajo de producción académica. \nInformación para unirse a la reunión de Google Meet\nVínculo a la videollamada: https://meet.google.com/wou-opat-qpj
URL:https://www.ucsf.edu.ar/evento/circulo-de-reflexion-socio-eco-juridica-4-2022-04-08/
LOCATION:UCSF Santa Fe\, Echagüe 7151\, Santa Fe\, Santa Fe\, Argentina
CATEGORIES:Investigación Ecojurídica,Alumnos,Docentes
GEO:-31.6069451;-60.6709418
X-APPLE-STRUCTURED-LOCATION;VALUE=URI;X-ADDRESS=UCSF Santa Fe Echagüe 7151 Santa Fe Santa Fe Argentina;X-APPLE-RADIUS=500;X-TITLE=Echagüe 7151:geo:-60.6709418,-31.6069451
END:VEVENT
BEGIN:VEVENT
DTSTART;TZID=America/Argentina/Buenos_Aires:20220408T163000
DTEND;TZID=America/Argentina/Buenos_Aires:20220408T203000
DTSTAMP:20260420T142024
CREATED:20220405T150132Z
LAST-MODIFIED:20220405T161407Z
UID:50760-1649435400-1649449800@www.ucsf.edu.ar
SUMMARY:Actualización en Perspectivas actuales de la lingüística
DESCRIPTION:Perspectivas actuales de la lingüística \nLic. María Inés Rabasedas \nEn el seminario\, se propone un acercamiento a las relaciones entre lengua y sociedad desde los trabajos actuales sobre la temática. En este sentido\, se estudia la diversidad lingüística presente en nuestro país y las representaciones sociales que circulan en torno a dicha diversidad. En función de lograr este objetivo\, se recuperan conocimientos provenientes de la sociolingüística\, como son los conceptos de variedades lingüísticas\, lengua estándar\, norma\, corrección idiomática\, idiolecto\, contacto lingüístico\, entre otros. El marco teórico metodológico desde el que se trabaja es la glotopolítica\, mirada desde la cual se busca analizar las formas en las que la sociedad actúa sobre el lenguaje generando determinadas prácticas lingüísticas y\, de esta manera\, legitima\, reproduce o transforma las estructuras de poder. Se trabaja en torno a diferentes problemas que suscita la temática\, a saber: el idioma nacional y la soberanía lingüística; la enseñanza de español como lengua segunda y extranjera; las representaciones en torno a las lenguas de los pueblos originarios en Argentina; y las lenguas de inmigración y su impacto en las representaciones en torno al español de Argentina. \n  \nLa Actualización es de cursado intensivo los viernes de 16.30 a 20.30 y los sábados de 8.30 a 12.30\, hasta el 21 de mayo\, inclusive. \nLas clases serán en modalidad distribuida\, esto es encuentros presenciales\, sincrónicos a través de Zoom y asincrónicos mediante el Campus UCSF.
URL:https://www.ucsf.edu.ar/evento/actualizacion-en-perspectivas-actuales-de-la-linguistica/
LOCATION:UCSF Sede Gualeguaychú\, Primera Junta 75\, Gualeguaychú\, Entre Ríos\, Argentina
CATEGORIES:Home principal,Graduados,Alumnos,Santa Fe,Facultades,Docentes,Carreras de Grado,Personal UCSF,Filosofía y Humanidades,Gualeguaychú,Licenciatura  en Letras (CCC),Sedes,Extensión
ATTACH;FMTTYPE=image/jpeg:https://www.ucsf.edu.ar/wp-content/uploads/2022/04/Actualizacion-en-lengua-y-literatura_linguistica.jpg
END:VEVENT
BEGIN:VEVENT
DTSTART;TZID=America/Argentina/Buenos_Aires:20220408T180000
DTEND;TZID=America/Argentina/Buenos_Aires:20220408T200000
DTSTAMP:20260420T142024
CREATED:20220402T125218Z
LAST-MODIFIED:20220402T125234Z
UID:50695-1649440800-1649448000@www.ucsf.edu.ar
SUMMARY:Encuentro del IEHyDS
DESCRIPTION:Después de dos años de encuentros virtuales\, retomamos la presencialidad de las reuniones del IEHyDS. \nEl próximo viernes 08 de Abril\, a partir de las 18 hs.\, nos encontraremos en la Sede Virgen de Guadalupe de la UCSF para intercambiar aspectos vinculados a la organización\, proyectos y avances en investigación del Instituto. \nLa actividad será moderada por María Virginia Borga y Elisabet Vidal\, siendo la misma libre y gratuita. \nInformes: iehyds@ucsf.edu.ar
URL:https://www.ucsf.edu.ar/evento/encuentro-del-iehyds/
LOCATION:UCSF Santa Fe\, Echagüe 7151\, Santa Fe\, Santa Fe\, Argentina
CATEGORIES:IEHDS Instituto de Ecología Humana y Desarrollo Sustentable
GEO:-31.6069451;-60.6709418
X-APPLE-STRUCTURED-LOCATION;VALUE=URI;X-ADDRESS=UCSF Santa Fe Echagüe 7151 Santa Fe Santa Fe Argentina;X-APPLE-RADIUS=500;X-TITLE=Echagüe 7151:geo:-60.6709418,-31.6069451
END:VEVENT
BEGIN:VEVENT
DTSTART;TZID=America/Argentina/Buenos_Aires:20220408T190000
DTEND;TZID=America/Argentina/Buenos_Aires:20220408T220000
DTSTAMP:20260420T142024
CREATED:20220216T153926Z
LAST-MODIFIED:20220302T135534Z
UID:49767-1649444400-1649455200@www.ucsf.edu.ar
SUMMARY:Diplomatura en Integralidad de la Educación Sexual
DESCRIPTION:La Diplomatura en Integralidad de la Educación Sexual es una propuesta de formación para docentes\, padres de familia y agentes pastorales. Ofrece una mirada interdisciplinaria y una valoración integral del significado de la sexualidad y afectividad humana. \nModalidad virtual \nInicia el viernes 8 de abril. \nDuración 3 meses \nAcredita 125 hs. 5 (ECTS) \nAdhiere: \nJunta Arquidiocesana de Educación (JAE) \nInstituto Superior Particular Incorporado Fray Francisco de Paula Castañeda. \nJunta de Educación Católica (JUNDEC) Obispado Rafaela \nInscripciones aquí \nDESCARGAR FOLLETO\nPara mayores informes e inscripciones grupales: matyfam@ucsf.edu.ar \n  \n  \n 
URL:https://www.ucsf.edu.ar/evento/diplomatura-en-integralidad-de-la-educacion-sexual-4/2022-04-08/
LOCATION:Virtual\, Argentina
CATEGORIES:Alumnos,Docentes,Personal UCSF,IMF Instituto para el Matrimonio y la Familia
ATTACH;FMTTYPE=image/jpeg:https://www.ucsf.edu.ar/wp-content/uploads/2022/02/Diplomatura-Educacion-Sexual_historia-e1645028459620.jpg
ORGANIZER;CN="Instituto%20para%20el%20Matrimonio%20y%20la%20Familia":MAILTO:matyfam@ucsf.edu.ar
END:VEVENT
BEGIN:VEVENT
DTSTART;TZID=America/Argentina/Buenos_Aires:20220409T000000
DTEND;TZID=America/Argentina/Buenos_Aires:20220719T000000
DTSTAMP:20260420T142024
CREATED:20220202T162825Z
LAST-MODIFIED:20220719T122432Z
UID:49481-1649462400-1658188800@www.ucsf.edu.ar
SUMMARY:Diplomatura en Prácticas Estratégicas (DiPraEs)
DESCRIPTION:El “Programa Universidad Abierta para la Casa Común“\, dependiente de la Secretaría de Ciencia y Técnica\, y Extensión\, en conjunto con la Fundación EPYCA ((Equipo de producción y construcción alternativa) comunican que se encuentra abierta la inscripción para la “Diplomatura en Prácticas Estratégicas”. \nFinalidad\nFormar estratégicamente mediante el desarrollo de ensambles prosumidores. \nTítulo \nCertificado de Aprobación y / o Cursado de la Diplomatura en Prácticas Estratégicas (DiPraEs) \nObjetivos de la Diplomatura \nObjetivo General\nEstrategizar prácticas socioproductivas tendientes al bien común \nObjetivos Específicos \n• Diseñar y desarrollar prácticas socioproductivas con los cursantes.\n• Superar y/o resolver situaciones sociales\, culturales\, políticas\, epistemológicas\, metodológicas y\nproductivas\, estrategizando integralmente.\n• Entramar prácticas locales\, provinciales\, regionales\, nacionales\, latinoamericanas e internacionales. \nDestinatarios\nDiPraEs está dirigida a la población en general: profesionales\, productores\, militantes sociales\, técnicos\, docentes\ny estudiantes. No requiere formación previa. \nComienzo de cursado: sábado 9 de abril (Una vez por mes). Duración: 9 meses \nInscripciones online: https://www.eventbrite.com.ar/e/diplomatura-en-practicas-estrategicas-tickets-261021541457?aff=Inscripciones \nCoordinación general: Dra. Mercedes Gagneten \nCV  abreviado: \nDoctorado UBA\, Facultad de Filosofía y Letras\, 2008 / Maestría en Historia Latinoamericana\, Universidad\nInternacional de Andalucía\, España\, 1999 / Trabajadora Social / Profesora Titular Jubilada “Seminario de Cultura\nPopular”\, Carrera de Trabajo Social\, Facultad de Ciencias Sociales\, Universidad de Buenos Aires\, 1993 a 2016 /\nProfesora Titular Jubilada “Seminario Educación Ambiental y Antropología Cultural”\, Facultad de Bioquímica y\nCiencias Biológicas\, Universidad Nacional del Litoral\, 1999 a 2014 / Profesora Titular “Seminario Observación y\nAnálisis de Problemas Sociales”\, Carrera de Nutrición\, Facultad de Ciencias de la Salud\, Universidad Católica de\nSanta Fe\, 2012 a la fecha / Presidenta Fundación EPyCA (Equipo de Producción y Construcción Alternativa\, 2005\na la fecha). \nCoordinación Académica: Dr. Guillermo Kerz \nCV  abreviado:\nDoctor en Medicina KAAD – BONN – ALEMANIA / Vicerrector Académico de la Universidad Católica de Santa Fe\n/ Miembro de la Comisión de Educación Medica Continua de Postgrado en Colegio de Médicos de Santa Fe /\nDocente titular de la Cátedra de fisiología de la Licenciatura en Obstetricia / Médico Especialista en Ginecología y\nObstetricia. \nPara informes: contactarse vía E-mail a ysilva@epyca.org.ar y/o nmachado@epyca.org.ar
URL:https://www.ucsf.edu.ar/evento/diplomatura-en-practicas-estrategicas-dipraes/
LOCATION:Santa Fe
CATEGORIES:Alumnos,Santa Fe,Docentes,Rosario,Personal UCSF,Posadas,Reconquista,Rafaela,Gualeguaychú,Sedes,Extensión,Investigación
ATTACH;FMTTYPE=image/jpeg:https://www.ucsf.edu.ar/wp-content/uploads/2022/02/Diplomatura-en-Practicas-Estrategicas.jpg
END:VEVENT
BEGIN:VEVENT
DTSTART;TZID=America/Argentina/Buenos_Aires:20220409T083000
DTEND;TZID=America/Argentina/Buenos_Aires:20220409T123000
DTSTAMP:20260420T142024
CREATED:20220405T150402Z
LAST-MODIFIED:20220405T161506Z
UID:50774-1649493000-1649507400@www.ucsf.edu.ar
SUMMARY:Actualización en Perspectivas actuales de la lingüística
DESCRIPTION:Perspectivas actuales de la lingüística \nLic. María Inés Rabasedas \nEn el seminario\, se propone un acercamiento a las relaciones entre lengua y sociedad desde los trabajos actuales sobre la temática. En este sentido\, se estudia la diversidad lingüística presente en nuestro país y las representaciones sociales que circulan en torno a dicha diversidad. En función de lograr este objetivo\, se recuperan conocimientos provenientes de la sociolingüística\, como son los conceptos de variedades lingüísticas\, lengua estándar\, norma\, corrección idiomática\, idiolecto\, contacto lingüístico\, entre otros. El marco teórico metodológico desde el que se trabaja es la glotopolítica\, mirada desde la cual se busca analizar las formas en las que la sociedad actúa sobre el lenguaje generando determinadas prácticas lingüísticas y\, de esta manera\, legitima\, reproduce o transforma las estructuras de poder. Se trabaja en torno a diferentes problemas que suscita la temática\, a saber: el idioma nacional y la soberanía lingüística; la enseñanza de español como lengua segunda y extranjera; las representaciones en torno a las lenguas de los pueblos originarios en Argentina; y las lenguas de inmigración y su impacto en las representaciones en torno al español de Argentina. \n  \nLa Actualización es de cursado intensivo los viernes de 16.30 a 20.30 y los sábados de 8.30 a 12.30\, hasta el 21 de mayo\, inclusive. \nLas clases serán en modalidad distribuida\, esto es encuentros presenciales\, sincrónicos a través de Zoom y asincrónicos mediante el Campus UCSF.
URL:https://www.ucsf.edu.ar/evento/actualizacion-en-perspectivas-actuales-de-la-linguistica-2/
LOCATION:UCSF Sede Gualeguaychú\, Primera Junta 75\, Gualeguaychú\, Entre Ríos\, Argentina
CATEGORIES:Home principal,Graduados,Alumnos,Santa Fe,Facultades,Docentes,Carreras de Grado,Personal UCSF,Filosofía y Humanidades,Gualeguaychú,Licenciatura  en Letras (CCC),Sedes,Extensión
ATTACH;FMTTYPE=image/jpeg:https://www.ucsf.edu.ar/wp-content/uploads/2022/04/Actualizacion-en-lengua-y-literatura_linguistica.jpg
END:VEVENT
END:VCALENDAR