BEGIN:VCALENDAR
VERSION:2.0
PRODID:-//UCSF - Universidad Católica de Santa Fe - ECPv5.14.2.1//NONSGML v1.0//EN
CALSCALE:GREGORIAN
METHOD:PUBLISH
X-WR-CALNAME:UCSF - Universidad Católica de Santa Fe
X-ORIGINAL-URL:https://www.ucsf.edu.ar
X-WR-CALDESC:Events for UCSF - Universidad Católica de Santa Fe
REFRESH-INTERVAL;VALUE=DURATION:PT1H
X-Robots-Tag:noindex
X-PUBLISHED-TTL:PT1H
BEGIN:VTIMEZONE
TZID:America/Argentina/Buenos_Aires
BEGIN:STANDARD
TZOFFSETFROM:-0300
TZOFFSETTO:-0300
TZNAME:-03
DTSTART:20220101T000000
END:STANDARD
END:VTIMEZONE
BEGIN:VEVENT
DTSTART;TZID=America/Argentina/Buenos_Aires:20220409T000000
DTEND;TZID=America/Argentina/Buenos_Aires:20220719T000000
DTSTAMP:20260420T045115
CREATED:20220202T162825Z
LAST-MODIFIED:20220719T122432Z
UID:49481-1649462400-1658188800@www.ucsf.edu.ar
SUMMARY:Diplomatura en Prácticas Estratégicas (DiPraEs)
DESCRIPTION:El “Programa Universidad Abierta para la Casa Común“\, dependiente de la Secretaría de Ciencia y Técnica\, y Extensión\, en conjunto con la Fundación EPYCA ((Equipo de producción y construcción alternativa) comunican que se encuentra abierta la inscripción para la “Diplomatura en Prácticas Estratégicas”. \nFinalidad\nFormar estratégicamente mediante el desarrollo de ensambles prosumidores. \nTítulo \nCertificado de Aprobación y / o Cursado de la Diplomatura en Prácticas Estratégicas (DiPraEs) \nObjetivos de la Diplomatura \nObjetivo General\nEstrategizar prácticas socioproductivas tendientes al bien común \nObjetivos Específicos \n• Diseñar y desarrollar prácticas socioproductivas con los cursantes.\n• Superar y/o resolver situaciones sociales\, culturales\, políticas\, epistemológicas\, metodológicas y\nproductivas\, estrategizando integralmente.\n• Entramar prácticas locales\, provinciales\, regionales\, nacionales\, latinoamericanas e internacionales. \nDestinatarios\nDiPraEs está dirigida a la población en general: profesionales\, productores\, militantes sociales\, técnicos\, docentes\ny estudiantes. No requiere formación previa. \nComienzo de cursado: sábado 9 de abril (Una vez por mes). Duración: 9 meses \nInscripciones online: https://www.eventbrite.com.ar/e/diplomatura-en-practicas-estrategicas-tickets-261021541457?aff=Inscripciones \nCoordinación general: Dra. Mercedes Gagneten \nCV  abreviado: \nDoctorado UBA\, Facultad de Filosofía y Letras\, 2008 / Maestría en Historia Latinoamericana\, Universidad\nInternacional de Andalucía\, España\, 1999 / Trabajadora Social / Profesora Titular Jubilada “Seminario de Cultura\nPopular”\, Carrera de Trabajo Social\, Facultad de Ciencias Sociales\, Universidad de Buenos Aires\, 1993 a 2016 /\nProfesora Titular Jubilada “Seminario Educación Ambiental y Antropología Cultural”\, Facultad de Bioquímica y\nCiencias Biológicas\, Universidad Nacional del Litoral\, 1999 a 2014 / Profesora Titular “Seminario Observación y\nAnálisis de Problemas Sociales”\, Carrera de Nutrición\, Facultad de Ciencias de la Salud\, Universidad Católica de\nSanta Fe\, 2012 a la fecha / Presidenta Fundación EPyCA (Equipo de Producción y Construcción Alternativa\, 2005\na la fecha). \nCoordinación Académica: Dr. Guillermo Kerz \nCV  abreviado:\nDoctor en Medicina KAAD – BONN – ALEMANIA / Vicerrector Académico de la Universidad Católica de Santa Fe\n/ Miembro de la Comisión de Educación Medica Continua de Postgrado en Colegio de Médicos de Santa Fe /\nDocente titular de la Cátedra de fisiología de la Licenciatura en Obstetricia / Médico Especialista en Ginecología y\nObstetricia. \nPara informes: contactarse vía E-mail a ysilva@epyca.org.ar y/o nmachado@epyca.org.ar
URL:https://www.ucsf.edu.ar/evento/diplomatura-en-practicas-estrategicas-dipraes/
LOCATION:Santa Fe
CATEGORIES:Alumnos,Santa Fe,Docentes,Rosario,Personal UCSF,Posadas,Reconquista,Rafaela,Gualeguaychú,Sedes,Extensión,Investigación
ATTACH;FMTTYPE=image/jpeg:https://www.ucsf.edu.ar/wp-content/uploads/2022/02/Diplomatura-en-Practicas-Estrategicas.jpg
END:VEVENT
BEGIN:VEVENT
DTSTART;TZID=America/Argentina/Buenos_Aires:20220427T183000
DTEND;TZID=America/Argentina/Buenos_Aires:20220427T203000
DTSTAMP:20260420T045115
CREATED:20220331T154508Z
LAST-MODIFIED:20220420T121608Z
UID:50623-1651084200-1651091400@www.ucsf.edu.ar
SUMMARY:Curso de Formación en el área pedagógico-didáctica para docentes de la UCSF
DESCRIPTION:La Subsecretaría de Asesoría Pedagógica de la UCSF\, dependiente de la Secretaría Académica de Rectorado\, invita a los docentes de todas las Sedes de la Universidad a participar del “Curso de Formación en el área pedagógico-didáctica para Profesionales en ejercicio de la docencia en nuestra Institución – NIVEL INICIAL”.\nEl mismo se desarrollará bajo la modalidad virtual\, los días Miércoles con una frecuencia semanal\, comenzando el 27 de abril y finalizando el 3 de Agosto.\nPor medio de éste\, los profesores podrán cumplimentar los requisitos establecidos en el Programa de Carrera Docente de esta Casa.\nEs una actividad gratuita para los docentes de la UCSF y se entregarán certificados de aprobación. \nAnte consultas\, escribir a: mrgomez@ucsf.edu.ar
URL:https://www.ucsf.edu.ar/evento/curso-de-formacion-en-el-area-pedagogico-didactica-para-docentes-de-la-ucsf-2/
LOCATION:Virtual\, Argentina
CATEGORIES:Arquitectura y Diseño,Home principal,A distancia,Facultades,Ciencias Agropecuarias,Santa Fe,Ciencias de la Salud,Docentes,Rosario,Ciencias Económicas,Posadas,Derecho y Ciencia Política,Reconquista,Filosofía y Humanidades,Rafaela,Gualeguaychú,Psicología,Concordia,Sedes
ATTACH;FMTTYPE=image/jpeg:https://www.ucsf.edu.ar/wp-content/uploads/2022/03/Curso-docente-web.jpg
END:VEVENT
BEGIN:VEVENT
DTSTART;TZID=America/Argentina/Buenos_Aires:20220427T190000
DTEND;TZID=America/Argentina/Buenos_Aires:20220427T210000
DTSTAMP:20260420T045115
CREATED:20220331T210753Z
LAST-MODIFIED:20220331T214426Z
UID:50656-1651086000-1651093200@www.ucsf.edu.ar
SUMMARY:Defensa de Tesis. Maestría en Evaluación de Impacto y Gestión Ambiental. Departamento de Posgrado
DESCRIPTION:  \nEl Departamento de Posgrado de la Universidad Católica de Santa Fe invita al acto de Defensa de Tesis que se llevará a cabo el próximo miércoles 27 de abril del corriente año\, comprendida dentro del marco de la Carrera de Posgrado\, Maestría en Evaluación de Impacto y Gestión Ambiental. \n  \nCandidato: Esteban Mariano Gutiérrez. \nDirector de Tesis: Dr. Ignacio Daniel Coria. \n  \nTítulo de Tesis: \n“Análisis de Riesgo Ambiental Sistema Prognos III” \n  \nMiembros del tribunal examinador: \n\nDra. Sabrina Noemí Hernández Guiance.\nMgter. Ana Emilia Espinosa.\nMgter. Jorge Eduardo Ramoneda.\n\n  \nHorario de Defensa: 19:00 hs   –  Modalidad Zoom \n  \nUnirse a la reunión Zoom  \nhttps://zoom.us/j/98040269742?pwd=ZXZBVTBUWHUrbm1SbEpYSll3NHU0QT09  \nID de reunión: 980 4026 9742  \nCódigo de acceso: 27042022  \n  \n  \n 
URL:https://www.ucsf.edu.ar/evento/defensa-de-tesis-maestria-en-evaluacion-de-impacto-y-gestion-ambiental-departamento-de-posgrado-f/
LOCATION:Vía Zoom\, Argentina
CATEGORIES:Santa Fe,Maestría en Evaluación de Impacto y Gestión Ambiental,Alumnos,Docentes,Personal UCSF,Carreras de Posgrado,Sedes
ATTACH;FMTTYPE=image/png:https://www.ucsf.edu.ar/wp-content/uploads/2022/03/8.png
END:VEVENT
BEGIN:VEVENT
DTSTART;TZID=America/Argentina/Buenos_Aires:20220428T183000
DTEND;TZID=America/Argentina/Buenos_Aires:20220428T183000
DTSTAMP:20260420T045115
CREATED:20220421T040043Z
LAST-MODIFIED:20220421T040043Z
UID:50999-1651170600-1651170600@www.ucsf.edu.ar
SUMMARY:Peregrinación a Guadalupe
DESCRIPTION:La UCSF peregrina a Guadalupe\nEl próximo Jueves 28 de abril a las 18.40 hs.\, nos reunimos en el hall central de la Sede “Virgen de Guadalupe” para ir hasta la Basílica\, donde participaremos de la Novena y Misa.
URL:https://www.ucsf.edu.ar/evento/peregrinacion-a-guadalupe/
LOCATION:UCSF Santa Fe\, Echagüe 7151\, Santa Fe\, Santa Fe\, Argentina
CATEGORIES:Alumnos,Docentes,Personal UCSF,Vicerrectorado de Formación
ATTACH;FMTTYPE=image/jpeg:https://www.ucsf.edu.ar/wp-content/uploads/2022/04/Peregrinacion-Guadalupe-web.jpg
GEO:-31.6069451;-60.6709418
X-APPLE-STRUCTURED-LOCATION;VALUE=URI;X-ADDRESS=UCSF Santa Fe Echagüe 7151 Santa Fe Santa Fe Argentina;X-APPLE-RADIUS=500;X-TITLE=Echagüe 7151:geo:-60.6709418,-31.6069451
END:VEVENT
BEGIN:VEVENT
DTSTART;TZID=America/Argentina/Buenos_Aires:20220429T150000
DTEND;TZID=America/Argentina/Buenos_Aires:20220429T170000
DTSTAMP:20260420T045115
CREATED:20220212T220127Z
LAST-MODIFIED:20220427T010856Z
UID:49652-1651244400-1651251600@www.ucsf.edu.ar
SUMMARY:Cátedra abierta de Derechos Humanos sobre Derecho a un nivel de vida adecuado
DESCRIPTION:El Viernes 29 de Abril a las 15 hs. tendrá lugar el primer encuentro de la Edición 2022 de la Cátedra Abierta de Derecho Humanos de la UCSF. En este encuentro participarán la Dra. Mercedes Gagneten y el Dr. Carlos María Pagano Fernández compartiendo sus experiencias sobre el Derecho Humano a un nivel de vida adecuado desde la práctica territorial. \nModerarán el encuentro Yael Selene Saidler y María Cristina Alé. \n  \n  \nLa Cátedra Abierta de Derechos Humanos  procura instaurar una ‘plataforma horizontal de intercambio de saberes’ sobre problemáticas actuales relacionadas con los Derechos Humanos. Este proyecto de extensión surge a partir de la necesidad y conveniencia no sólo de comunicar y difundir los avances y resultados obtenidos\, sino ante todo de consolidar lazos con otras instituciones académicas\, así como de intercambiar perspectivas con otros ámbitos\, incluso no estríctamente académicos como la política\, la economía y la práctica jurídica. \n  \nInformación para unirse a la reunión de Google Meet\nVínculo a la videollamada: https://meet.google.com/wou-opat-qpj \n  \n  \nen Colaboración con el Programa Universidad para la Casa Común de la Secretaría de Ciencia\, Técnica y Extensión de la UCSF
URL:https://www.ucsf.edu.ar/evento/catedra-abierta-de-derechos-humanos-4/
LOCATION:UCSF Santa Fe\, Echagüe 7151\, Santa Fe\, Santa Fe\, Argentina
CATEGORIES:Investigación Ecojurídica,Alumnos,Docentes,Personal UCSF
ORGANIZER;CN="Equipo%20de%20Investigaci%C3%B3n%20Socio-Eco-Jur%C3%ADdica":MAILTO:ecojurinvestiga@ucsf.edu.ar
GEO:-31.6069451;-60.6709418
X-APPLE-STRUCTURED-LOCATION;VALUE=URI;X-ADDRESS=UCSF Santa Fe Echagüe 7151 Santa Fe Santa Fe Argentina;X-APPLE-RADIUS=500;X-TITLE=Echagüe 7151:geo:-60.6709418,-31.6069451
END:VEVENT
BEGIN:VEVENT
DTSTART;TZID=America/Argentina/Buenos_Aires:20220429T180000
DTEND;TZID=America/Argentina/Buenos_Aires:20220429T190000
DTSTAMP:20260420T045115
CREATED:20220425T200807Z
LAST-MODIFIED:20220425T202433Z
UID:51091-1651255200-1651258800@www.ucsf.edu.ar
SUMMARY:Entrega de diplomas a estudiantes becados por la JAE
DESCRIPTION:La Universidad otorga anualmente becas de estudios a alumnos provenientes de escuelas medias que dependen de la Junta Arquidiocesana de Educación. Esta oportunidad se gestó en el año 2004\, y permanece gracias al trabajo colaborativo entre la UCSF y la JAE. \n 
URL:https://www.ucsf.edu.ar/evento/entrega-de-diplomas-a-estudiantes-becados-por-la-jae/
LOCATION:UCSF Santa Fe\, Echagüe 7151\, Santa Fe\, Santa Fe\, Argentina
CATEGORIES:Home principal,Arquitectura y Diseño,Alumnos,Facultades,Carreras de Grado,Ciencias de la Salud,Becas,Ciencias Económicas,Derecho y Ciencia Política,Filosofía y Humanidades,Psicología,Vicerrectorado de Formación,Sedes,Extensión
ATTACH;FMTTYPE=image/jpeg:https://www.ucsf.edu.ar/wp-content/uploads/2022/04/IMG_2634.jpg
GEO:-31.6069451;-60.6709418
X-APPLE-STRUCTURED-LOCATION;VALUE=URI;X-ADDRESS=UCSF Santa Fe Echagüe 7151 Santa Fe Santa Fe Argentina;X-APPLE-RADIUS=500;X-TITLE=Echagüe 7151:geo:-60.6709418,-31.6069451
END:VEVENT
BEGIN:VEVENT
DTSTART;TZID=America/Argentina/Buenos_Aires:20220429T190000
DTEND;TZID=America/Argentina/Buenos_Aires:20220429T190000
DTSTAMP:20260420T045115
CREATED:20220424T215248Z
LAST-MODIFIED:20220424T215712Z
UID:51051-1651258800-1651258800@www.ucsf.edu.ar
SUMMARY:4to. encuentro: Ofimatica para no docentes
DESCRIPTION:  \nOfimatica para no docentes \nViernes  29 de abril: 19 a 20 h \nSábado 30 de abril: de 9 a 10 h\, \nCoordinación e Inscripciones: Carina Banegas. cbanegas@ucsf.edu.ar \nPlataforma:  A través de Teams del ecosistema virtual de la UCSF. \n  \nTemario: \n1. Repaso de Teams.  \nEjercicio por participantes. \nComo utilizar el chat de Teams para enviar un emoticón. \nComo cargo el calendario de Teams y lo visualizo en Calendario de Outlook 365. \n2. Visualización de planilla Excel y Word para el trabajo colaborativo\, en tiempo sicrónico y asincrónico.
URL:https://www.ucsf.edu.ar/evento/4to-encuentro-ofimatica-para-no-docentes/
LOCATION:UCSF Santa Fe\, Echagüe 7151\, Santa Fe\, Santa Fe\, Argentina
CATEGORIES:Santa Fe,Rosario,Personal UCSF,Posadas,Reconquista,Rafaela,Gualeguaychú,Sedes,Extensión
ORGANIZER;CN="Secretaria%20de%20Ciencia%2C%20T%C3%A9cnica%20y%20Extensi%C3%B3n":MAILTO:cbanegas@ucsf.edu.ar
GEO:-31.6069451;-60.6709418
X-APPLE-STRUCTURED-LOCATION;VALUE=URI;X-ADDRESS=UCSF Santa Fe Echagüe 7151 Santa Fe Santa Fe Argentina;X-APPLE-RADIUS=500;X-TITLE=Echagüe 7151:geo:-60.6709418,-31.6069451
END:VEVENT
BEGIN:VEVENT
DTSTART;TZID=America/Argentina/Buenos_Aires:20220430T090000
DTEND;TZID=America/Argentina/Buenos_Aires:20220430T103000
DTSTAMP:20260420T045115
CREATED:20220425T174035Z
LAST-MODIFIED:20220426T191814Z
UID:51081-1651309200-1651314600@www.ucsf.edu.ar
SUMMARY:Cómo convertir tus producciones en artículos académicos
DESCRIPTION:Asesoramiento en escritura para publicar en revistas científicas \n\n\nDestinada a estudiantes\, docentes e investigadores. \n\n\nSábado 30 de abril a las 9 hs. (Argentina) \nVía Zoom: https://zoom.us/j/99418879382 \nID de reunión: 994 1887 9382 \n\n\nInscripciones: https://forms.office.com/r/JskCAu8yim
URL:https://www.ucsf.edu.ar/evento/como-convertir-tus-producciones-en-articulos-academicos/
LOCATION:UCSF Santa Fe\, Echagüe 7151\, Santa Fe\, Santa Fe\, Argentina
CATEGORIES:Alumnos,Docentes,Personal UCSF
ATTACH;FMTTYPE=image/jpeg:https://www.ucsf.edu.ar/wp-content/uploads/2022/04/Como-convertir-tus-producciones-en-articulos-academicos-web_1.jpg
GEO:-31.6069451;-60.6709418
X-APPLE-STRUCTURED-LOCATION;VALUE=URI;X-ADDRESS=UCSF Santa Fe Echagüe 7151 Santa Fe Santa Fe Argentina;X-APPLE-RADIUS=500;X-TITLE=Echagüe 7151:geo:-60.6709418,-31.6069451
END:VEVENT
END:VCALENDAR