BEGIN:VCALENDAR
VERSION:2.0
PRODID:-//UCSF - Universidad Católica de Santa Fe - ECPv5.14.2.1//NONSGML v1.0//EN
CALSCALE:GREGORIAN
METHOD:PUBLISH
X-WR-CALNAME:UCSF - Universidad Católica de Santa Fe
X-ORIGINAL-URL:https://www.ucsf.edu.ar
X-WR-CALDESC:Events for UCSF - Universidad Católica de Santa Fe
REFRESH-INTERVAL;VALUE=DURATION:PT1H
X-Robots-Tag:noindex
X-PUBLISHED-TTL:PT1H
BEGIN:VTIMEZONE
TZID:America/Argentina/Buenos_Aires
BEGIN:STANDARD
TZOFFSETFROM:-0300
TZOFFSETTO:-0300
TZNAME:-03
DTSTART:20220101T000000
END:STANDARD
END:VTIMEZONE
BEGIN:VEVENT
DTSTART;TZID=America/Argentina/Buenos_Aires:20220409T000000
DTEND;TZID=America/Argentina/Buenos_Aires:20220719T000000
DTSTAMP:20260420T045048
CREATED:20220202T162825Z
LAST-MODIFIED:20220719T122432Z
UID:49481-1649462400-1658188800@www.ucsf.edu.ar
SUMMARY:Diplomatura en Prácticas Estratégicas (DiPraEs)
DESCRIPTION:El “Programa Universidad Abierta para la Casa Común“\, dependiente de la Secretaría de Ciencia y Técnica\, y Extensión\, en conjunto con la Fundación EPYCA ((Equipo de producción y construcción alternativa) comunican que se encuentra abierta la inscripción para la “Diplomatura en Prácticas Estratégicas”. \nFinalidad\nFormar estratégicamente mediante el desarrollo de ensambles prosumidores. \nTítulo \nCertificado de Aprobación y / o Cursado de la Diplomatura en Prácticas Estratégicas (DiPraEs) \nObjetivos de la Diplomatura \nObjetivo General\nEstrategizar prácticas socioproductivas tendientes al bien común \nObjetivos Específicos \n• Diseñar y desarrollar prácticas socioproductivas con los cursantes.\n• Superar y/o resolver situaciones sociales\, culturales\, políticas\, epistemológicas\, metodológicas y\nproductivas\, estrategizando integralmente.\n• Entramar prácticas locales\, provinciales\, regionales\, nacionales\, latinoamericanas e internacionales. \nDestinatarios\nDiPraEs está dirigida a la población en general: profesionales\, productores\, militantes sociales\, técnicos\, docentes\ny estudiantes. No requiere formación previa. \nComienzo de cursado: sábado 9 de abril (Una vez por mes). Duración: 9 meses \nInscripciones online: https://www.eventbrite.com.ar/e/diplomatura-en-practicas-estrategicas-tickets-261021541457?aff=Inscripciones \nCoordinación general: Dra. Mercedes Gagneten \nCV  abreviado: \nDoctorado UBA\, Facultad de Filosofía y Letras\, 2008 / Maestría en Historia Latinoamericana\, Universidad\nInternacional de Andalucía\, España\, 1999 / Trabajadora Social / Profesora Titular Jubilada “Seminario de Cultura\nPopular”\, Carrera de Trabajo Social\, Facultad de Ciencias Sociales\, Universidad de Buenos Aires\, 1993 a 2016 /\nProfesora Titular Jubilada “Seminario Educación Ambiental y Antropología Cultural”\, Facultad de Bioquímica y\nCiencias Biológicas\, Universidad Nacional del Litoral\, 1999 a 2014 / Profesora Titular “Seminario Observación y\nAnálisis de Problemas Sociales”\, Carrera de Nutrición\, Facultad de Ciencias de la Salud\, Universidad Católica de\nSanta Fe\, 2012 a la fecha / Presidenta Fundación EPyCA (Equipo de Producción y Construcción Alternativa\, 2005\na la fecha). \nCoordinación Académica: Dr. Guillermo Kerz \nCV  abreviado:\nDoctor en Medicina KAAD – BONN – ALEMANIA / Vicerrector Académico de la Universidad Católica de Santa Fe\n/ Miembro de la Comisión de Educación Medica Continua de Postgrado en Colegio de Médicos de Santa Fe /\nDocente titular de la Cátedra de fisiología de la Licenciatura en Obstetricia / Médico Especialista en Ginecología y\nObstetricia. \nPara informes: contactarse vía E-mail a ysilva@epyca.org.ar y/o nmachado@epyca.org.ar
URL:https://www.ucsf.edu.ar/evento/diplomatura-en-practicas-estrategicas-dipraes/
LOCATION:Santa Fe
CATEGORIES:Santa Fe,Alumnos,Docentes,Rosario,Posadas,Personal UCSF,Reconquista,Rafaela,Gualeguaychú,Sedes,Extensión,Investigación
ATTACH;FMTTYPE=image/jpeg:https://www.ucsf.edu.ar/wp-content/uploads/2022/02/Diplomatura-en-Practicas-Estrategicas.jpg
END:VEVENT
BEGIN:VEVENT
DTSTART;TZID=America/Argentina/Buenos_Aires:20220509T080000
DTEND;TZID=America/Argentina/Buenos_Aires:20220509T170000
DTSTAMP:20260420T045048
CREATED:20220509T205334Z
LAST-MODIFIED:20220509T205334Z
UID:51544-1652083200-1652115600@www.ucsf.edu.ar
SUMMARY:Cátedra Abierta sobre “Esclavitud ´clásica´ y ´moderna´ en Alemania
DESCRIPTION:Heiner Fechner (Uni-Bremen) expondrá sobre “Esclavitud ´clásica´ y ´moderna´ en Alemania: servidumbre\, trabajo forzoso\, formas extremas de exploitación y su reflexión en el derecho” . \n15 hs. por meet: meet.google.com/wou-opat-qpjjujuridica \n 
URL:https://www.ucsf.edu.ar/evento/catedra-abierta-sobre-esclavitud-clasica-y-moderna-en-alemania/
LOCATION:UCSF Santa Fe\, Echagüe 7151\, Santa Fe\, Santa Fe\, Argentina
CATEGORIES:Investigación Ecojurídica,Alumnos,Docentes,Personal UCSF
GEO:-31.6069451;-60.6709418
X-APPLE-STRUCTURED-LOCATION;VALUE=URI;X-ADDRESS=UCSF Santa Fe Echagüe 7151 Santa Fe Santa Fe Argentina;X-APPLE-RADIUS=500;X-TITLE=Echagüe 7151:geo:-60.6709418,-31.6069451
END:VEVENT
BEGIN:VEVENT
DTSTART;TZID=America/Argentina/Buenos_Aires:20220509T170000
DTEND;TZID=America/Argentina/Buenos_Aires:20220509T200000
DTSTAMP:20260420T045048
CREATED:20220505T215154Z
LAST-MODIFIED:20220505T215154Z
UID:51482-1652115600-1652126400@www.ucsf.edu.ar
SUMMARY:Energías Renovables - RAFAELA
DESCRIPTION:En la Facultad de Arquitectura y Diseño\, Sede Rafaela\, se llevará a cabo una Charla sobre Energías Renovables a cargo de la Empresa Akku Energy\, como actividad de extensión de la cátedra Construcciones I. \nSe expondrán equipamientos relacionados con las energías renovables: paneles solares\, colectores solares\, calefacción solar; así como medios de movilidad sustentable. De manera que los alumnos puedan interiorizarse en el funcionamiento de cada uno de los productos y al mismo tiempo reconocer su relación e importancia al momento de desarrollar proyectos arquitectónicos sustentables. \nEsta charla es el inicio de una serie de jornadas que la Facultad de Arquitectura y Diseño llevará a cabo reflejo de su interés por generar ámbitos propicios para la investigación de nuevos materiales\, técnicas y estrategias constructivas con el fin de proyectar y construir una Arquitectura a favor del medio ambiente.
URL:https://www.ucsf.edu.ar/evento/energias-renovables-rafaela/
LOCATION:UCSF Sede Rafaela\, Saavedra 472\, Rafaela\, Santa Fe\, Argentina
CATEGORIES:Arquitectura,Alumnos,Rafaela
ATTACH;FMTTYPE=image/jpeg:https://www.ucsf.edu.ar/wp-content/uploads/2022/05/energias-renovables-rafaela_feed-1.jpg
ORGANIZER;CN="Facultad%20de%20Arquitectura%20y%20Dise%C3%B1o-%20Santa%20Fe":MAILTO:arquitec@ucsf.edu.ar
END:VEVENT
BEGIN:VEVENT
DTSTART;TZID=America/Argentina/Buenos_Aires:20220512T090000
DTEND;TZID=America/Argentina/Buenos_Aires:20220513T210000
DTSTAMP:20260420T045048
CREATED:20220510T150657Z
LAST-MODIFIED:20220510T150657Z
UID:51546-1652346000-1652475600@www.ucsf.edu.ar
SUMMARY:Workshop de Arquitectura e Ingeniería: “Encuentros”
DESCRIPTION:La propuesta tiene por objeto fortalecer las herramientas proyectuales de los alumnos. De esta manera se busca profundizar en los criterios y conceptos propios de las lógicas proyectuales\, reforzando  la idea de que los procesos abarcan y contemplan un número amplio de variables que deben ser atendidas y consideradas. Variables que además operan de manera sinérgica en estas instancias\, conduciendo a resultados de síntesis y complejidad que redundan en proyectos de valía y calidad. \nAl mismo tiempo se pretende ponderar el valor del trabajo interdisciplinario\, asociativo\, colaborativo y participativo entre profesionales de diversas áreas\, comprendiendo que la complejidad de los problemas cotidianos y del mundo contemporáneo exigen esta mirada holística. \nObjetivos: \n\nFortalecer la idea del proceso proyectual desde una mirada holística y vinculada a los conceptos estructurales\nAbordar un proceso proyectual desde la lógica estructural como principio rector\nPonderar el trabajo interdisciplinario\, comprendiendo que los resultados derivados de este resultan superadores y acordes a la complejidad de las necesidad y demandas contemporáneas\nFomentar la relación vertical entre los distintos talleres de arquitectura de cada año\nVincular al alumnado de ambas carrearas con sus pares con quienes el día de mañana compartirán el ejercicio profesional y el mundo laboral\nTrabajar y abordar problemáticas y desafíos reales\, concretos y tangibles del ámbito profesional\nFortalecer los vínculos de la institución con las demás casas de estudio de la ciudad\, con la municipalidad de Rafaela y con el Colegio de Arquitectos\n\nDestinatarios: \nAlumnos de la carrera de arquitectura que se encuentren cursando de primer a quinto año los talleres de arquitectura pertenecientes a la Sede Rafaela. \nAgenda: \nCantidad de encuentros: DOS \nDías y Horarios: jueves 12 y viernes 13 de mayo de 2022 / de 9hs a 21hs \nCupo máximo de alumnos: 35 alumnos \nCarga horaria total: 24 horas \nModalidad:  \nEl taller se lleva a cabo durante el plazo de dos jornadas completas\, siendo de carácter intensivo\, desde las 9:00 AM hasta las 21:00PM. En el marco del mismo\, se plantea un problema arquitectónico/estructural que deberá ser tratado y abordado por los diferentes equipos mixtos de estudiantes que participan. \nAl final de la segunda jornada\, se realiza la presentación y recopilación de los trabajos de los distintos equipos\, los cuales serán observados y evaluados por un jurado de distinguidos a los fines de realizar una premiación. \nEquipo Docente FAD-UCSF: \nArq. Gastón Ferreyra; Arq. Alexis Berardi; Ing. Héctor Mónaco; Ing. Claudia Imfeld; Ing. José Gallo; Arq. Gonzalo Guerrero; Arq. Florencia Donatti; Arq. Mauricio Morra; Arq. Diego Degiovanni; Arq. Cecilia Seffino; Arq. Daniel Henzenn; Arq. María Celeste Aiassa.
URL:https://www.ucsf.edu.ar/evento/workshop-de-arquitectura-e-ingenieria-encuentros/
LOCATION:UCSF Sede Rafaela\, Saavedra 472\, Rafaela\, Santa Fe\, Argentina
CATEGORIES:Arquitectura,Alumnos,Docentes,Rafaela
ATTACH;FMTTYPE=image/jpeg:https://www.ucsf.edu.ar/wp-content/uploads/2022/05/Workshop-entre-Arquitectos-e-ingenieros_1.jpg
ORGANIZER;CN="Facultad%20de%20Arquitectura%20y%20Dise%C3%B1o-%20Santa%20Fe":MAILTO:arquitec@ucsf.edu.ar
END:VEVENT
BEGIN:VEVENT
DTSTART;TZID=America/Argentina/Buenos_Aires:20220512T093000
DTEND;TZID=America/Argentina/Buenos_Aires:20220514T170000
DTSTAMP:20260420T045048
CREATED:20220406T130832Z
LAST-MODIFIED:20220512T122239Z
UID:50809-1652347800-1652547600@www.ucsf.edu.ar
SUMMARY:Jornadas Internacionales de Audiología Avanzada
DESCRIPTION:El objetivo general de estas jornadas es proporcionar formación acreditada y actualizada en diagnóstico/s audiológico/s y ORL\, estudios objetivos y clínicos audiológicos\, dispositivos de corrección (Audífonos e Implantes cocleares) y rehabilitación\, a todos aquellos profesionales con interés en la audiología. \nDirigido a: Fonoaudiólogos\, Otorrinolaringólogos\, neurólogos y otras profesiones médicas con interés en la audiología. Estudiantes de la Lic Fonoaudiología\, y residentes de ORL. \nDisertantes: \nDr. Manuel Manrique. España. \nDoctor en Medicina y Cirugía con calificación “Apto Cum Laude” por la\nUniversidad de Navarra.\nDr. Juan García Valdecasas Bernal. España. \nPresidente de la Asociación Española de Audiología (AEDA). \nMSc. José Luis Blanco López. España. \nMaster of Science Technical Audiology por la University College of London. Investigador Asociado del Instituto de Neurociencias de Castilla y León. Organizador\, Colaborador docente y Tutor en el Curso de Experto de Audiología de la Universidad de Salamanca. \nDr. Mariano Blake. Argentina\nDoctor en Medicina por la Universidad de Buenos Aires. Profesor Titular de la\nCátedra de Neuroanatomía y Fisiología Audiológica en la Universidad del\nMuseo Social Argentino. \nFga. Silvia Mastroiani. Argentina\nProf. en la Especialización en Audiología (módulo Implantes Cocleares). Docente en la Carrera de Especialistas en ORL de la Universidad de Buenos Aires. \nProf. Dra. Verónica Del Vechio. Argentina\nDoctora en Fonoaudiología.\nProf. Titular de Cátedra en la Especialización en Audiología en la\nUniversidad del Museo Social Argentino \nInscripción: completar formulario https://forms.office.com/r/xpSveCQrxy\nAULA 3.51 \nAranceles diferenciales: \nProfesionales: $26.000.- \nResidentes y estudiantes: $20.000.- \n  \nFormas de pago: \n-Pago en caja  Universidad Católica de Santa Fe \n-Transferencia bancaria (solicitar CBU de la UCSF) \n-Eventbrite (pago con tarjeta de crédito) https://www.eventbrite.com.ar/e/jornadas-internacionales-de-audiologia-avanzada-tickets-311957391957?aff=affiliate1 \n  \nPara mayor información y remitir comprobantes de pagos: \nvaleserra@ucsf.edu.ar          mferrando@ucsf.edu.ar
URL:https://www.ucsf.edu.ar/evento/jornadas-internacionales-de-audiologia-avanzada/
LOCATION:UCSF Santa Fe\, Echagüe 7151\, Santa Fe\, Santa Fe\, Argentina
CATEGORIES:Santa Fe,Alumnos,Rosario,Carreras de Grado,Docentes,Reconquista,Rafaela,Sedes,Licenciatura en Fonoaudiología,IIFCS Instituto de Investigación de la Facultad de Ciencias de la Salud
ATTACH;FMTTYPE=image/jpeg:https://www.ucsf.edu.ar/wp-content/uploads/2022/04/JORNADA-AUDOLOGIA-2022_-web.jpg
ORGANIZER;CN="Facultad%20de%20Ciencias%20de%20la%20Salud":MAILTO:salud@ucsf.edu.ar
GEO:-31.6069451;-60.6709418
X-APPLE-STRUCTURED-LOCATION;VALUE=URI;X-ADDRESS=UCSF Santa Fe Echagüe 7151 Santa Fe Santa Fe Argentina;X-APPLE-RADIUS=500;X-TITLE=Echagüe 7151:geo:-60.6709418,-31.6069451
END:VEVENT
BEGIN:VEVENT
DTSTART;TZID=America/Argentina/Buenos_Aires:20220512T150000
DTEND;TZID=America/Argentina/Buenos_Aires:20220512T170000
DTSTAMP:20260420T045048
CREATED:20220404T214300Z
LAST-MODIFIED:20220404T214300Z
UID:50744-1652367600-1652374800@www.ucsf.edu.ar
SUMMARY:Defensa de Tesis - Doctorado en Derecho - Departamento de Posgrado UCSF
DESCRIPTION:El Departamento de Posgrado de la Universidad Católica de Santa Fe invita al acto de Defensa de Tesis que se llevará a cabo el próximo jueves 12 de mayo del corriente año\, comprendida dentro del marco de la Carrera de Posgrado\, Doctorado en Derecho. \n  \nCandidata: Evanete Batista Frota. \n  \nTítulo de Tesis: \n“Análisis de la teoría de la justicia de Rawls y los aspectos sociales de la Constitución Brasileña”. \n  \nMiembros del tribunal examinador: \nDr. Luciano Damián Laise. \nDra. Débora Rainieri. \nDr. Juan Manuel Villarruel. \n  \nHorario de Defensa: 15:00 hs   –  Modalidad Zoom \n  \nUnirse a la reunión Zoom \nhttps://zoom.us/j/92735057493?pwd=WUpOdjBoSlJ1Ulp1TDJDVWtZK0xPdz09 \n\nID de reunión: 927 3505 7493 \nCódigo de acceso: 12052022
URL:https://www.ucsf.edu.ar/evento/defensa-de-tesis-doctorado-en-derecho-departamento-de-posgrado-ucsf/
LOCATION:Vía Zoom\, Argentina
CATEGORIES:Santa Fe,Alumnos,Docentes,Personal UCSF,Carreras de Posgrado,Doctorado en Ciencias Jurídicas,Sedes
ATTACH;FMTTYPE=image/jpeg:https://www.ucsf.edu.ar/wp-content/uploads/2022/04/WEB-POSGRADO_DOCTORADO-CIENCIA-JURIDICA-3.jpg
END:VEVENT
END:VCALENDAR