BEGIN:VCALENDAR
VERSION:2.0
PRODID:-//UCSF - Universidad Católica de Santa Fe - ECPv5.14.2.1//NONSGML v1.0//EN
CALSCALE:GREGORIAN
METHOD:PUBLISH
X-WR-CALNAME:UCSF - Universidad Católica de Santa Fe
X-ORIGINAL-URL:https://www.ucsf.edu.ar
X-WR-CALDESC:Events for UCSF - Universidad Católica de Santa Fe
REFRESH-INTERVAL;VALUE=DURATION:PT1H
X-Robots-Tag:noindex
X-PUBLISHED-TTL:PT1H
BEGIN:VTIMEZONE
TZID:America/Argentina/Buenos_Aires
BEGIN:STANDARD
TZOFFSETFROM:-0300
TZOFFSETTO:-0300
TZNAME:-03
DTSTART:20220101T000000
END:STANDARD
END:VTIMEZONE
BEGIN:VEVENT
DTSTART;TZID=America/Argentina/Buenos_Aires:20220409T000000
DTEND;TZID=America/Argentina/Buenos_Aires:20220719T000000
DTSTAMP:20260420T045026
CREATED:20220202T162825Z
LAST-MODIFIED:20220719T122432Z
UID:49481-1649462400-1658188800@www.ucsf.edu.ar
SUMMARY:Diplomatura en Prácticas Estratégicas (DiPraEs)
DESCRIPTION:El “Programa Universidad Abierta para la Casa Común“\, dependiente de la Secretaría de Ciencia y Técnica\, y Extensión\, en conjunto con la Fundación EPYCA ((Equipo de producción y construcción alternativa) comunican que se encuentra abierta la inscripción para la “Diplomatura en Prácticas Estratégicas”. \nFinalidad\nFormar estratégicamente mediante el desarrollo de ensambles prosumidores. \nTítulo \nCertificado de Aprobación y / o Cursado de la Diplomatura en Prácticas Estratégicas (DiPraEs) \nObjetivos de la Diplomatura \nObjetivo General\nEstrategizar prácticas socioproductivas tendientes al bien común \nObjetivos Específicos \n• Diseñar y desarrollar prácticas socioproductivas con los cursantes.\n• Superar y/o resolver situaciones sociales\, culturales\, políticas\, epistemológicas\, metodológicas y\nproductivas\, estrategizando integralmente.\n• Entramar prácticas locales\, provinciales\, regionales\, nacionales\, latinoamericanas e internacionales. \nDestinatarios\nDiPraEs está dirigida a la población en general: profesionales\, productores\, militantes sociales\, técnicos\, docentes\ny estudiantes. No requiere formación previa. \nComienzo de cursado: sábado 9 de abril (Una vez por mes). Duración: 9 meses \nInscripciones online: https://www.eventbrite.com.ar/e/diplomatura-en-practicas-estrategicas-tickets-261021541457?aff=Inscripciones \nCoordinación general: Dra. Mercedes Gagneten \nCV  abreviado: \nDoctorado UBA\, Facultad de Filosofía y Letras\, 2008 / Maestría en Historia Latinoamericana\, Universidad\nInternacional de Andalucía\, España\, 1999 / Trabajadora Social / Profesora Titular Jubilada “Seminario de Cultura\nPopular”\, Carrera de Trabajo Social\, Facultad de Ciencias Sociales\, Universidad de Buenos Aires\, 1993 a 2016 /\nProfesora Titular Jubilada “Seminario Educación Ambiental y Antropología Cultural”\, Facultad de Bioquímica y\nCiencias Biológicas\, Universidad Nacional del Litoral\, 1999 a 2014 / Profesora Titular “Seminario Observación y\nAnálisis de Problemas Sociales”\, Carrera de Nutrición\, Facultad de Ciencias de la Salud\, Universidad Católica de\nSanta Fe\, 2012 a la fecha / Presidenta Fundación EPyCA (Equipo de Producción y Construcción Alternativa\, 2005\na la fecha). \nCoordinación Académica: Dr. Guillermo Kerz \nCV  abreviado:\nDoctor en Medicina KAAD – BONN – ALEMANIA / Vicerrector Académico de la Universidad Católica de Santa Fe\n/ Miembro de la Comisión de Educación Medica Continua de Postgrado en Colegio de Médicos de Santa Fe /\nDocente titular de la Cátedra de fisiología de la Licenciatura en Obstetricia / Médico Especialista en Ginecología y\nObstetricia. \nPara informes: contactarse vía E-mail a ysilva@epyca.org.ar y/o nmachado@epyca.org.ar
URL:https://www.ucsf.edu.ar/evento/diplomatura-en-practicas-estrategicas-dipraes/
LOCATION:Santa Fe
CATEGORIES:Alumnos,Santa Fe,Docentes,Rosario,Personal UCSF,Posadas,Reconquista,Rafaela,Gualeguaychú,Sedes,Extensión,Investigación
ATTACH;FMTTYPE=image/jpeg:https://www.ucsf.edu.ar/wp-content/uploads/2022/02/Diplomatura-en-Practicas-Estrategicas.jpg
END:VEVENT
BEGIN:VEVENT
DTSTART;TZID=America/Argentina/Buenos_Aires:20220516T190000
DTEND;TZID=America/Argentina/Buenos_Aires:20220516T200000
DTSTAMP:20260420T045026
CREATED:20220511T154336Z
LAST-MODIFIED:20220511T154336Z
UID:51598-1652727600-1652731200@www.ucsf.edu.ar
SUMMARY:Taller Cómo presentar un proyecto de investigación
DESCRIPTION:El Programa Universidad Abierta dependiente de la Secretearía de Ciencia y Técnica\, y Extensión\, la Facultad de Ciencias de la Salud y el Instituto de Investigaciones en Ciencias de la Salud\, invitan al Taller: ¿Cómo presentar un Proyecto de Investigación? \nObjetivos: \nElaborar proyectos de iniciación\, de promoción y de formados \nDestinatarios: público en general. Comunidad de la UCSF \nDía y Horario: lunes 16 de mayo\, 19 hs. \nModalidad: virtual \nInscripciones:  https://www.eventbrite.com.ar/e/taller-de-presentacion-de-proyecto-de-investigacion-tickets-338219452487?aff=Inscripciones \nUnirse a la reunión Zoom\nhttps://zoom.us/j/99833350298 \nID de reunión: 998 3335 0298 \nInformes: iicisa@ucsf.edu.ar
URL:https://www.ucsf.edu.ar/evento/taller-como-presentar-un-proyecto-de-investigacion/
LOCATION:UCSF Santa Fe\, Echagüe 7151\, Santa Fe\, Santa Fe\, Argentina
ORGANIZER;CN="Vicerrectorado%20Acad%C3%A9mico":MAILTO:vrecacad@ucsf.edu.ar
GEO:-31.6069451;-60.6709418
X-APPLE-STRUCTURED-LOCATION;VALUE=URI;X-ADDRESS=UCSF Santa Fe Echagüe 7151 Santa Fe Santa Fe Argentina;X-APPLE-RADIUS=500;X-TITLE=Echagüe 7151:geo:-60.6709418,-31.6069451
END:VEVENT
BEGIN:VEVENT
DTSTART;TZID=America/Argentina/Buenos_Aires:20220517T160000
DTEND;TZID=America/Argentina/Buenos_Aires:20220517T180000
DTSTAMP:20260420T045026
CREATED:20220509T142204Z
LAST-MODIFIED:20220509T142713Z
UID:51534-1652803200-1652810400@www.ucsf.edu.ar
SUMMARY:Sistema de Protección de Derechos en niñez\, adolescencia y género en el primer nivel de atención
DESCRIPTION:  \nATENEO: ” Sistema de Protección de Derechos en niñez\, adolescencia y género en el primer nivel de atención” \n\nDisertantes: Lic. Ruth Viale – Lic. Mario Otazzo \nInscribite y solicitá el link: fdelossantos@ucsf.edu.ar \n\n\n  \n  \nTemario:  \n\n\nMarco normativo internacional\, nacional y provincial \n\nPromoción y Protección de Derechos en el primer nivel de atención \n\n\nProtección Integral de Niñas\, Niños y Adolescentes \n\n\nProtección Integral de Mujeres \n\n\nInterdisciplina e Intersectorialidad \n\n\nTrabajo en Red \n\nRol del psicólogo/a en el primer nivel de atención\n \nModalidad presencial e híbrida
URL:https://www.ucsf.edu.ar/evento/sistema-de-proteccion-de-derechos-en-ninez-adolescencia-y-genero-en-el-primer-nivel-de-atencion/
LOCATION:UCSF Santa Fe\, Echagüe 7151\, Santa Fe\, Santa Fe\, Argentina
CATEGORIES:Alumnos,Santa Fe,Facultades,Psicología,Sedes,Licenciatura en Psicología,Licenciatura en Psicopedagogía
ORGANIZER;CN="Facultad%20de%20Psicolog%C3%ADa":MAILTO:ralarcon@ucsf.edu.ar
GEO:-31.6069451;-60.6709418
X-APPLE-STRUCTURED-LOCATION;VALUE=URI;X-ADDRESS=UCSF Santa Fe Echagüe 7151 Santa Fe Santa Fe Argentina;X-APPLE-RADIUS=500;X-TITLE=Echagüe 7151:geo:-60.6709418,-31.6069451
END:VEVENT
BEGIN:VEVENT
DTSTART;TZID=America/Argentina/Buenos_Aires:20220517T193000
DTEND;TZID=America/Argentina/Buenos_Aires:20220517T210000
DTSTAMP:20260420T045026
CREATED:20220513T161232Z
LAST-MODIFIED:20220516T180246Z
UID:51674-1652815800-1652821200@www.ucsf.edu.ar
SUMMARY:Inauguración Cátedra Abierta de la Empresa “Enrique Shaw” - Sede Rafaela
DESCRIPTION:Salón del Centro Comercial e Industrial de Rafaela y la Región  \nDisertaciones\n– “Liderazgo empresario con valores como aporte al bien común” a cargo del Mag. Lic. Gonzalo Tanoira (Presidente de ACDE Argentina).\n– “El imprevisto cambio en mi vida ante el llamado de la causa de Enrique Shaw” a cargo del Lic. Fernán De Elizalde (Empresario).  \nLa Cátedra Abierta de la Empresa “Enrique Shaw” tiene por objetivo incorporar a las Empresas y Asociaciones Empresariales a participar activamente en la Academia\, sugiriendo los contenidos teóricos y prácticos que signifiquen un aporte concreto a la formación\, capacitación y desarrollo de habilidades para la dirección y gestión de la empresa contemporánea\, como a compartir la formación teórica como la experiencia y los conocimientos prácticos alcanzados. \nLa Cátedra se inserta en el Programa Universidad y Empresa que promueve la creación de canales concretos y eficaces para la vinculación de la Universidad Católica de Santa Fe con el mundo empresarial que desarrolla su actividad en las distintas áreas geográficas en las que despliega su actividad docente\, de investigación y extensión universitaria. \nMás información: Ariel Trinadori – atrinadori@ucsf.edu.ar
URL:https://www.ucsf.edu.ar/evento/inauguracion-catedra-abierta-de-la-empresa-enrique-shaw-sede-rafaela/
LOCATION:Centro Comercial e Industrial de Rafaela y la Región\, Necochea 84\, Rafaela\, Santa Fe\, 2300\, Argentina
CATEGORIES:UVT, Unidad de Vincullación Tecnológica
ATTACH;FMTTYPE=image/jpeg:https://www.ucsf.edu.ar/wp-content/uploads/2022/05/PUE-Rafaela-cuadrada.jpg
ORGANIZER;CN="UVT%20Rafaela":MAILTO:atrinadori@ucsf.edu.ar
END:VEVENT
BEGIN:VEVENT
DTSTART;TZID=America/Argentina/Buenos_Aires:20220520T160000
DTEND;TZID=America/Argentina/Buenos_Aires:20220520T180000
DTSTAMP:20260420T045026
CREATED:20220330T201603Z
LAST-MODIFIED:20220330T205938Z
UID:50577-1653062400-1653069600@www.ucsf.edu.ar
SUMMARY:Defensa de Tesis - Maestría en Relaciones Internacionales- Departamento de Posgrado UCSF
DESCRIPTION:  \nEl Departamento de Posgrado de la Universidad Católica de Santa Fe invita al acto de Defensa de Tesis que se llevará a cabo el próximo viernes 20 de mayo del corriente año\, comprendida dentro del marco de la Carrera de Posgrado\, Maestría en Relaciones Internacionales. \n  \nCandidata: María Victoria Roverano. \nDirectora de Tesis: Dra. Clarisa Giacagglia. \n  \nTítulo de Tesis: \n“La enseñanza de problemáticas contemporáneas mundiales desde los aportes académicos de las Relaciones Internacionales. Propuestas didácticas para su abordaje en los quintos años de Ciencias Sociales y Ciencias Sociales y Humanidades de la Educación Secundaria Orientada de la Provincia de Santa Fe”. \n  \nMiembros del tribunal examinador: \nDra. María Noel Dussort. \nDra. Laura Lucía Bogado Bordazar. \nMgter. Ignacio José de la Torre. \n  \nHorario de Defensa:  16:00 hs   –  Modalidad Zoom\n  \nUnirse a la reunión Zoom  \nhttps://zoom.us/j/99092496599?pwd=VUJHSDd2N1I2NUlCMzVYa1ZoQkJVQT09  \n  \nID de reunión: 990 9249 6599  \nCódigo de acceso: 20052022  \n 
URL:https://www.ucsf.edu.ar/evento/defensa-de-tesis-maestria-en-relaciones-internacionales-departamento-de-posgrado-ucsf/
LOCATION:Vía Zoom\, Argentina
CATEGORIES:Santa Fe,Alumnos,Docentes,Personal UCSF,Carreras de Posgrado,Doctorado en Educación,Sedes,Maestría en Relaciones Internacionales
ATTACH;FMTTYPE=image/jpeg:https://www.ucsf.edu.ar/wp-content/uploads/2022/03/BROCHURE-RELACIONES-INTERNACIONALES-2022-1_page-0001.jpg
END:VEVENT
END:VCALENDAR