BEGIN:VCALENDAR
VERSION:2.0
PRODID:-//UCSF - Universidad Católica de Santa Fe - ECPv5.14.2.1//NONSGML v1.0//EN
CALSCALE:GREGORIAN
METHOD:PUBLISH
X-WR-CALNAME:UCSF - Universidad Católica de Santa Fe
X-ORIGINAL-URL:https://www.ucsf.edu.ar
X-WR-CALDESC:Events for UCSF - Universidad Católica de Santa Fe
REFRESH-INTERVAL;VALUE=DURATION:PT1H
X-Robots-Tag:noindex
X-PUBLISHED-TTL:PT1H
BEGIN:VTIMEZONE
TZID:America/Argentina/Buenos_Aires
BEGIN:STANDARD
TZOFFSETFROM:-0300
TZOFFSETTO:-0300
TZNAME:-03
DTSTART:20220101T000000
END:STANDARD
END:VTIMEZONE
BEGIN:VEVENT
DTSTART;TZID=America/Argentina/Buenos_Aires:20220409T000000
DTEND;TZID=America/Argentina/Buenos_Aires:20220719T000000
DTSTAMP:20260420T045037
CREATED:20220202T162825Z
LAST-MODIFIED:20220719T122432Z
UID:49481-1649462400-1658188800@www.ucsf.edu.ar
SUMMARY:Diplomatura en Prácticas Estratégicas (DiPraEs)
DESCRIPTION:El “Programa Universidad Abierta para la Casa Común“\, dependiente de la Secretaría de Ciencia y Técnica\, y Extensión\, en conjunto con la Fundación EPYCA ((Equipo de producción y construcción alternativa) comunican que se encuentra abierta la inscripción para la “Diplomatura en Prácticas Estratégicas”. \nFinalidad\nFormar estratégicamente mediante el desarrollo de ensambles prosumidores. \nTítulo \nCertificado de Aprobación y / o Cursado de la Diplomatura en Prácticas Estratégicas (DiPraEs) \nObjetivos de la Diplomatura \nObjetivo General\nEstrategizar prácticas socioproductivas tendientes al bien común \nObjetivos Específicos \n• Diseñar y desarrollar prácticas socioproductivas con los cursantes.\n• Superar y/o resolver situaciones sociales\, culturales\, políticas\, epistemológicas\, metodológicas y\nproductivas\, estrategizando integralmente.\n• Entramar prácticas locales\, provinciales\, regionales\, nacionales\, latinoamericanas e internacionales. \nDestinatarios\nDiPraEs está dirigida a la población en general: profesionales\, productores\, militantes sociales\, técnicos\, docentes\ny estudiantes. No requiere formación previa. \nComienzo de cursado: sábado 9 de abril (Una vez por mes). Duración: 9 meses \nInscripciones online: https://www.eventbrite.com.ar/e/diplomatura-en-practicas-estrategicas-tickets-261021541457?aff=Inscripciones \nCoordinación general: Dra. Mercedes Gagneten \nCV  abreviado: \nDoctorado UBA\, Facultad de Filosofía y Letras\, 2008 / Maestría en Historia Latinoamericana\, Universidad\nInternacional de Andalucía\, España\, 1999 / Trabajadora Social / Profesora Titular Jubilada “Seminario de Cultura\nPopular”\, Carrera de Trabajo Social\, Facultad de Ciencias Sociales\, Universidad de Buenos Aires\, 1993 a 2016 /\nProfesora Titular Jubilada “Seminario Educación Ambiental y Antropología Cultural”\, Facultad de Bioquímica y\nCiencias Biológicas\, Universidad Nacional del Litoral\, 1999 a 2014 / Profesora Titular “Seminario Observación y\nAnálisis de Problemas Sociales”\, Carrera de Nutrición\, Facultad de Ciencias de la Salud\, Universidad Católica de\nSanta Fe\, 2012 a la fecha / Presidenta Fundación EPyCA (Equipo de Producción y Construcción Alternativa\, 2005\na la fecha). \nCoordinación Académica: Dr. Guillermo Kerz \nCV  abreviado:\nDoctor en Medicina KAAD – BONN – ALEMANIA / Vicerrector Académico de la Universidad Católica de Santa Fe\n/ Miembro de la Comisión de Educación Medica Continua de Postgrado en Colegio de Médicos de Santa Fe /\nDocente titular de la Cátedra de fisiología de la Licenciatura en Obstetricia / Médico Especialista en Ginecología y\nObstetricia. \nPara informes: contactarse vía E-mail a ysilva@epyca.org.ar y/o nmachado@epyca.org.ar
URL:https://www.ucsf.edu.ar/evento/diplomatura-en-practicas-estrategicas-dipraes/
LOCATION:Santa Fe
CATEGORIES:Alumnos,Santa Fe,Docentes,Rosario,Personal UCSF,Posadas,Reconquista,Rafaela,Gualeguaychú,Sedes,Extensión,Investigación
ATTACH;FMTTYPE=image/jpeg:https://www.ucsf.edu.ar/wp-content/uploads/2022/02/Diplomatura-en-Practicas-Estrategicas.jpg
END:VEVENT
BEGIN:VEVENT
DTSTART;TZID=America/Argentina/Buenos_Aires:20220602T100000
DTEND;TZID=America/Argentina/Buenos_Aires:20220622T220221
DTSTAMP:20260420T045037
CREATED:20220622T220218Z
LAST-MODIFIED:20220622T220218Z
UID:52508-1654164000-1655935341@www.ucsf.edu.ar
SUMMARY:Conmemoración de la Guerra de Malvinas
DESCRIPTION:A los 40 años del hundimiento del Crucero General Belgrano en la Guerra de Malvinas\, realizaremos un acto en el hall de la Universidad\, sede Virgen de Guadalupe\, al que invitamos a toda la comunidad. \nNos acompañarán Veteranos y familiares de caídos en Malvinas\, a quienes queremos recordar y homenajear\, en este aniversario y por siempre. \n¡Los esperamos!
URL:https://www.ucsf.edu.ar/evento/conmemoracion-de-la-guerra-de-malvinas/
LOCATION:UCSF Santa Fe\, Echagüe 7151\, Santa Fe\, Santa Fe\, Argentina
CATEGORIES:Home principal,Santa Fe,Facultades,Alumnos,Docentes,Carreras de Grado,Personal UCSF,Sedes,Extensión
ATTACH;FMTTYPE=image/png:https://www.ucsf.edu.ar/wp-content/uploads/2022/06/malvinas.png
GEO:-31.6069451;-60.6709418
X-APPLE-STRUCTURED-LOCATION;VALUE=URI;X-ADDRESS=UCSF Santa Fe Echagüe 7151 Santa Fe Santa Fe Argentina;X-APPLE-RADIUS=500;X-TITLE=Echagüe 7151:geo:-60.6709418,-31.6069451
END:VEVENT
BEGIN:VEVENT
DTSTART;TZID=America/Argentina/Buenos_Aires:20220602T180000
DTEND;TZID=America/Argentina/Buenos_Aires:20220602T200000
DTSTAMP:20260420T045037
CREATED:20220513T160715Z
LAST-MODIFIED:20220516T151102Z
UID:51672-1654192800-1654200000@www.ucsf.edu.ar
SUMMARY:Encuentro - PROGRAMA FOGA 2022
DESCRIPTION:El “Programa de Formación en Gestión Académica – FOGA”\, se propone abordar y profundizar anualmente diversas temáticas que tienen injerencia directa para la gestión académica. \nAhora\, en su edición 2022\, se propone generar un espacio en el que los equipos de conducción de la UCSF: Rector\, Vicerrectores\, Secretarios de Rectorado\, Decanos\, Secretarios Académicos\, Secretarios de Ciencia y Extensión\, Directores y Coordinadores de Carrera puedan reflexionar sobre la gestión académica a la luz de los desafíos que implica la toma de decisiones y criterios para crear y sostener propuestas formativas y los conocimientos y las competencias que dicha tarea demanda.
URL:https://www.ucsf.edu.ar/evento/encuentro-programa-foga-2022/
LOCATION:Virtual\, Argentina
CATEGORIES:Asesoría Pedagógica
ATTACH;FMTTYPE=image/jpeg:https://www.ucsf.edu.ar/wp-content/uploads/2022/05/FOGA-2022-web-1.jpg
END:VEVENT
BEGIN:VEVENT
DTSTART;TZID=America/Argentina/Buenos_Aires:20220602T180000
DTEND;TZID=America/Argentina/Buenos_Aires:20220602T210000
DTSTAMP:20260420T045037
CREATED:20220519T182402Z
LAST-MODIFIED:20220526T155843Z
UID:51835-1654192800-1654203600@www.ucsf.edu.ar
SUMMARY:Seminario “Educación tributaria para la inclusión”
DESCRIPTION:Seminario Universitario “EDUCACIÓN TRIBUTARIA PARA LA INCLUSION” – Actualización 2022\, a cargo de docentes especializados de la AFIP-DGI\, que conjuntamente con la Facultad de Ciencias Económicas de la Universidad Católica de Santa Fe\, brindaran una introducción a las principales funciones de este organismo y presentaran herramientas digitales relevantes para la formación integral del estudiante / graduado. \nSe realizarán encuentros presenciales con profesionales de los diferentes organismos tributarios (A.F.I.P.\, A.P.I. y Municipalidad de Santa Fe)\, donde se abordarán los contenidos teóricos y se propondrán\, actividades prácticas sobre los mismos. \nDará comienzo el día jueves 2 de junio en el horario de 18 a 21 hs. de manera presencial en la UCSF\, considerando un total de ocho encuentros.  \nCRONOGRAMA: \n\n\n\nFecha\nHorario\nContenidos\nDocentes/Profesionales\n\n\n02/06/2022\n18 a 21 hs.\nLa Administración Tributaria. Presupuesto\, gastos y recursos. Sistema tributario. Capacidad contributiva.\nProf. Daniela Sotelo\n\n\n09/06/2022\n18 a 21 hs.\nAspectos generales de los principales impuestos. Funcionalidades página web de AFIP.\nMa. Gladis Rome – Prof. Daniela Sotelo\n\n\n16/06/2022\n18 a 21 hs.\nRégimen de Seguridad Social. Prestaciones. Trabajo registrado. Herramientas de asistencia al trabajador . Siradig. Régimen Especial para el personal de casas particulares.\nProf. Daniela Sotelo\n\n\n23/06/2022\n18 a 21 hs.\nAdministración Provincial de Impuestos (API). Aspectos básicos de los tributos provinciales. Estructura tributaria de la provincia.\nCra. Laura Gervasoni\n\n\n30/06/2022\n18 a 21 hs.\nMunicipalidad de Santa Fe. Inscripción en el ámbito municipal. Sujetos obligados. DREI. Inspecciones\nCr. Santiago Bernasconi\n\n\n07/07/2022\n18 a 21 hs.\nPrácticas fraudulentas: consecuencias económicas y sociales. Ley de procedimiento tributario y ley penal tributaria.\nAbg. Ricardo Abelendo\n\n\n11/08/2022\n18 a 21 hs.\nEl desarrollo profesional y su vínculo con la administración tributaria. Responsabilidad ciudadana.\nProf. Daniela Sotelo\n\n\n18/08/2022\n18 21 hs.\nEvaluación\n\n\n\n\nEste Seminario es de suma importancia para jóvenes graduados y alumnos avanzados en la Carrera de Contador Público (especialmente para los alumnos que se encuentren cursando Taller de Integración Profesional). \nLa actividad es gratuita. \nPor consultas e inscripciones enviar un mail a: lramirez@ucsf.edu.ar
URL:https://www.ucsf.edu.ar/evento/seminario-educacion-tributaria-inclusion/
LOCATION:UCSF Santa Fe\, Echagüe 7151\, Santa Fe\, Santa Fe\, Argentina
CATEGORIES:Home principal,Graduados,Alumnos,Santa Fe,Facultades,Docentes,Ciencias Económicas,Reconquista,Gualeguaychú,Sedes
ATTACH;FMTTYPE=image/jpeg:https://www.ucsf.edu.ar/wp-content/uploads/2022/05/EDUCACION-TRIBUTARIA-PARA-LA-INCLUSION_evento-web.jpg
ORGANIZER;CN="Facultad%20de%20Ciencias%20Econ%C3%B3micas":MAILTO:gvelazquez@ucsf.edu.ar
GEO:-31.6069451;-60.6709418
X-APPLE-STRUCTURED-LOCATION;VALUE=URI;X-ADDRESS=UCSF Santa Fe Echagüe 7151 Santa Fe Santa Fe Argentina;X-APPLE-RADIUS=500;X-TITLE=Echagüe 7151:geo:-60.6709418,-31.6069451
END:VEVENT
BEGIN:VEVENT
DTSTART;TZID=America/Argentina/Buenos_Aires:20220603T173000
DTEND;TZID=America/Argentina/Buenos_Aires:20220603T190000
DTSTAMP:20260420T045037
CREATED:20220528T153553Z
LAST-MODIFIED:20220528T163459Z
UID:51908-1654277400-1654282800@www.ucsf.edu.ar
SUMMARY:Taller de lectura y debate sobre "Devorando el planeta" de Patricia Aguirre
DESCRIPTION:  \n  \n  \nEspacio de intercambio académico que articula debates actuales sobre derecho\, sociedad y ecología desde enfoques interdisciplinarios. \nMetodológicamente se trabaja a partir de textos difundidos previamente entre los participantes y que son presentados brevemente por uno de ellos al iniciar el encuentro. Tal presentación sirve de disparador para el intercambio abierto y plural. \nConvoca  a participantes de diferentes áreas académicas y otros ámbitos sociales\, y suele funcionar como un rico espacio de inspiración para el trabajo de producción académica. \n  \ncoorganizado por Fundación Ecoceno \nen Colaboración con el Programa Ciencia y Técnica en Casa de la Secretaría de Ciencia\, Técnica y Extensión de la UCSF
URL:https://www.ucsf.edu.ar/evento/circulo-de-reflexion-socio-eco-juridica-5/
LOCATION:FCJS-UNL\, Candido Pujato 2751\, Santa Fe\, Santa Fe\, Argentina
CATEGORIES:Investigación Ecojurídica,Alumnos,Docentes
ORGANIZER;CN="Equipo%20de%20Investigaci%C3%B3n%20Socio-Eco-Jur%C3%ADdica":MAILTO:ecojurinvestiga@ucsf.edu.ar
END:VEVENT
BEGIN:VEVENT
DTSTART;TZID=America/Argentina/Buenos_Aires:20220603T180000
DTEND;TZID=America/Argentina/Buenos_Aires:20220603T200000
DTSTAMP:20260420T045037
CREATED:20220530T225122Z
LAST-MODIFIED:20220530T225123Z
UID:52038-1654279200-1654286400@www.ucsf.edu.ar
SUMMARY:Defensa de Tesis - Rubén Eduardo Molinelli - Maestría en Evaluación de Impacto y Gestión Ambiental
DESCRIPTION:  \nEl Departamento de Posgrado de la Universidad Católica de Santa Fe invita al acto de Defensa de Tesis que se llevará a cabo el próximo viernes 03 de junio del corriente año\, comprendida dentro del marco de la Carrera de Posgrado\, Maestría en Evaluación de Impacto y Gestión Ambiental. \nCandidato: Rubén Eduardo Molinelli. \nTítulo de Tesis: \n“Análisis de factibilidad de reemplazo de laguna anaérobica primaria existente por reactores anaeróbicos\, para el tratamiento de los efluentes líquidos de una planta frigorífica\, en Aldea María Luisa\, Entre Ríos”- \nDirector: Dr. Ignacio Daniel Coria \nMiembros del Tribunal: \n– Mgter. Marta Micaela Gómez. \n– Mgter. Ignacio José de la Torre. \n– Mgter. Jerónimo Juan Buccolini. \n  \nHORARIO DE DEFENSA: 18:00 HS  –  MODALIDAD ZOOM \n  \nUnirse a la reunión Zoom \nhttps://zoom.us/j/96112572487?pwd=S3JpQ3QwRVNrbGpIYTF4VWduZURUdz09 \n  \nID de reunión: 961 1257 2487 \nCódigo de acceso: 03062022 \n  \n 
URL:https://www.ucsf.edu.ar/evento/defensa-de-tesis-ruben-eduardo-molinelli-maestria-en-evaluacion-de-impacto-y-gestion-ambiental/
LOCATION:Vía Zoom\, Argentina
CATEGORIES:Santa Fe,Maestría en Evaluación de Impacto y Gestión Ambiental,Alumnos,Docentes,Personal UCSF,Carreras de Posgrado,Sedes
ATTACH;FMTTYPE=image/png:https://www.ucsf.edu.ar/wp-content/uploads/2022/05/Molinell.png
END:VEVENT
BEGIN:VEVENT
DTSTART;TZID=America/Argentina/Buenos_Aires:20220604T083000
DTEND;TZID=America/Argentina/Buenos_Aires:20220604T123000
DTSTAMP:20260420T045037
CREATED:20220512T134826Z
LAST-MODIFIED:20220512T135125Z
UID:51626-1654331400-1654345800@www.ucsf.edu.ar
SUMMARY:Complot y paranoia: el inquietante mundo de Thomas Pynchon
DESCRIPTION:Continuando con los encuentros literarios y mientras esperamos el dictado del segundo módulo del Ciclo Borges \, escritor de clásicos\, la FFyH los invita a conocer – o seguir conociendo – a uno de los novelistas más notables de la literatura estadounidense\, de la mano del Dr. Bruno Grossi.\nAunque nunca concedió una entrevista\, no aparece en las ceremonias en las que premian sus novelas\, no se deja fotografiar y nadie sabe exactamente quién es\, Thomas Pynchon es uno de los novelistas vivos más importantes y su nombre figura en la lista no oficial de candidatos al Premio Nobel.\nComplot y paranoia: el inquietante mundo de Thomas Pynchon\nDel asesinato de Kennedy a Área 51\, pasando por Watergate a Qanon\, la lógica de la conspiración parece penetrar cada rincón de la vida norteamericana\, convirtiéndose en un género idiosincrático con sus marcas narrativas y sus prácticas de lectura específicas. La obra de Thomas Pynchon bebe fructíferamente de esa tradición: detrás de todo evento\, acto o personaje oficial -parece decir su autor- yace un mundo oculto y siniestro de complots que digitan nuestros comportamientos\, deseos y miedos. La subasta del lote 49 escenifica la paranoia social a partir de una retórica que oscila entre las sublimidades de las ficciones de vanguardia europea y los pastiches de la cultura de masas yanquis.\nContenidos a desarrollar en el encuentro:\n– La conspiración\, género norteamericano.\n– Pynchon (falso) teórico de la entropía.\n– La tradición anarco-liberal en La subasta del lote 49.\n– La paranoia y la esquizofrenia como método interpretativo.\n– ¿Ficción posmoderna? Entre el pop y la vanguardia.\n\n\nDestinatarios Docentes\, estudiantes\, público en general interesado en la temática.\nModalidad: presencial\nProfesores y alumnos de la Facultad de Filosofía y Humanidades: sin costo.\nImportante: con inscripción previa\nCupos limitados por recomendaciones sanitarias.\nInformes e inscripción: nverde@ucsf.edu.ar\nOrganizan: Ciclo de Licenciatura en Letras y Profesorado Universitario en Enseñanza Superior en Lengua y Literatura.  Coordinadora: Lic. Norma Verde.
URL:https://www.ucsf.edu.ar/evento/complot-y-paranoia-el-inquietante-mundo-de-thomas-pynchon/
LOCATION:UCSF Santa Fe\, Echagüe 7151\, Santa Fe\, Santa Fe\, Argentina
CATEGORIES:Ingreso,Home principal,Graduados,Alumnos,Santa Fe,Facultades,Editorial,Docentes,Carreras de Grado,Personal UCSF,Filosofía y Humanidades,Licenciatura  en Letras (CCC),Sedes,Extensión
ATTACH;FMTTYPE=image/jpeg:https://www.ucsf.edu.ar/wp-content/uploads/2022/05/Clase-abierta-Complot-y-paranoia_evento-web.jpg
GEO:-31.6069451;-60.6709418
X-APPLE-STRUCTURED-LOCATION;VALUE=URI;X-ADDRESS=UCSF Santa Fe Echagüe 7151 Santa Fe Santa Fe Argentina;X-APPLE-RADIUS=500;X-TITLE=Echagüe 7151:geo:-60.6709418,-31.6069451
END:VEVENT
END:VCALENDAR