BEGIN:VCALENDAR
VERSION:2.0
PRODID:-//UCSF - Universidad Católica de Santa Fe - ECPv5.14.2.1//NONSGML v1.0//EN
CALSCALE:GREGORIAN
METHOD:PUBLISH
X-WR-CALNAME:UCSF - Universidad Católica de Santa Fe
X-ORIGINAL-URL:https://www.ucsf.edu.ar
X-WR-CALDESC:Events for UCSF - Universidad Católica de Santa Fe
REFRESH-INTERVAL;VALUE=DURATION:PT1H
X-Robots-Tag:noindex
X-PUBLISHED-TTL:PT1H
BEGIN:VTIMEZONE
TZID:America/Argentina/Buenos_Aires
BEGIN:STANDARD
TZOFFSETFROM:-0300
TZOFFSETTO:-0300
TZNAME:-03
DTSTART:20220101T000000
END:STANDARD
END:VTIMEZONE
BEGIN:VEVENT
DTSTART;TZID=America/Argentina/Buenos_Aires:20220409T000000
DTEND;TZID=America/Argentina/Buenos_Aires:20220719T000000
DTSTAMP:20260420T031422
CREATED:20220202T162825Z
LAST-MODIFIED:20220719T122432Z
UID:49481-1649462400-1658188800@www.ucsf.edu.ar
SUMMARY:Diplomatura en Prácticas Estratégicas (DiPraEs)
DESCRIPTION:El “Programa Universidad Abierta para la Casa Común“\, dependiente de la Secretaría de Ciencia y Técnica\, y Extensión\, en conjunto con la Fundación EPYCA ((Equipo de producción y construcción alternativa) comunican que se encuentra abierta la inscripción para la “Diplomatura en Prácticas Estratégicas”. \nFinalidad\nFormar estratégicamente mediante el desarrollo de ensambles prosumidores. \nTítulo \nCertificado de Aprobación y / o Cursado de la Diplomatura en Prácticas Estratégicas (DiPraEs) \nObjetivos de la Diplomatura \nObjetivo General\nEstrategizar prácticas socioproductivas tendientes al bien común \nObjetivos Específicos \n• Diseñar y desarrollar prácticas socioproductivas con los cursantes.\n• Superar y/o resolver situaciones sociales\, culturales\, políticas\, epistemológicas\, metodológicas y\nproductivas\, estrategizando integralmente.\n• Entramar prácticas locales\, provinciales\, regionales\, nacionales\, latinoamericanas e internacionales. \nDestinatarios\nDiPraEs está dirigida a la población en general: profesionales\, productores\, militantes sociales\, técnicos\, docentes\ny estudiantes. No requiere formación previa. \nComienzo de cursado: sábado 9 de abril (Una vez por mes). Duración: 9 meses \nInscripciones online: https://www.eventbrite.com.ar/e/diplomatura-en-practicas-estrategicas-tickets-261021541457?aff=Inscripciones \nCoordinación general: Dra. Mercedes Gagneten \nCV  abreviado: \nDoctorado UBA\, Facultad de Filosofía y Letras\, 2008 / Maestría en Historia Latinoamericana\, Universidad\nInternacional de Andalucía\, España\, 1999 / Trabajadora Social / Profesora Titular Jubilada “Seminario de Cultura\nPopular”\, Carrera de Trabajo Social\, Facultad de Ciencias Sociales\, Universidad de Buenos Aires\, 1993 a 2016 /\nProfesora Titular Jubilada “Seminario Educación Ambiental y Antropología Cultural”\, Facultad de Bioquímica y\nCiencias Biológicas\, Universidad Nacional del Litoral\, 1999 a 2014 / Profesora Titular “Seminario Observación y\nAnálisis de Problemas Sociales”\, Carrera de Nutrición\, Facultad de Ciencias de la Salud\, Universidad Católica de\nSanta Fe\, 2012 a la fecha / Presidenta Fundación EPyCA (Equipo de Producción y Construcción Alternativa\, 2005\na la fecha). \nCoordinación Académica: Dr. Guillermo Kerz \nCV  abreviado:\nDoctor en Medicina KAAD – BONN – ALEMANIA / Vicerrector Académico de la Universidad Católica de Santa Fe\n/ Miembro de la Comisión de Educación Medica Continua de Postgrado en Colegio de Médicos de Santa Fe /\nDocente titular de la Cátedra de fisiología de la Licenciatura en Obstetricia / Médico Especialista en Ginecología y\nObstetricia. \nPara informes: contactarse vía E-mail a ysilva@epyca.org.ar y/o nmachado@epyca.org.ar
URL:https://www.ucsf.edu.ar/evento/diplomatura-en-practicas-estrategicas-dipraes/
LOCATION:Santa Fe
CATEGORIES:Santa Fe,Alumnos,Rosario,Docentes,Posadas,Personal UCSF,Reconquista,Rafaela,Gualeguaychú,Sedes,Extensión,Investigación
ATTACH;FMTTYPE=image/jpeg:https://www.ucsf.edu.ar/wp-content/uploads/2022/02/Diplomatura-en-Practicas-Estrategicas.jpg
END:VEVENT
BEGIN:VEVENT
DTSTART;TZID=America/Argentina/Buenos_Aires:20220602T100000
DTEND;TZID=America/Argentina/Buenos_Aires:20220622T220221
DTSTAMP:20260420T031422
CREATED:20220622T220218Z
LAST-MODIFIED:20220622T220218Z
UID:52508-1654164000-1655935341@www.ucsf.edu.ar
SUMMARY:Conmemoración de la Guerra de Malvinas
DESCRIPTION:A los 40 años del hundimiento del Crucero General Belgrano en la Guerra de Malvinas\, realizaremos un acto en el hall de la Universidad\, sede Virgen de Guadalupe\, al que invitamos a toda la comunidad. \nNos acompañarán Veteranos y familiares de caídos en Malvinas\, a quienes queremos recordar y homenajear\, en este aniversario y por siempre. \n¡Los esperamos!
URL:https://www.ucsf.edu.ar/evento/conmemoracion-de-la-guerra-de-malvinas/
LOCATION:UCSF Santa Fe\, Echagüe 7151\, Santa Fe\, Santa Fe\, Argentina
CATEGORIES:Home principal,Santa Fe,Facultades,Alumnos,Carreras de Grado,Docentes,Personal UCSF,Sedes,Extensión
ATTACH;FMTTYPE=image/png:https://www.ucsf.edu.ar/wp-content/uploads/2022/06/malvinas.png
GEO:-31.6069451;-60.6709418
X-APPLE-STRUCTURED-LOCATION;VALUE=URI;X-ADDRESS=UCSF Santa Fe Echagüe 7151 Santa Fe Santa Fe Argentina;X-APPLE-RADIUS=500;X-TITLE=Echagüe 7151:geo:-60.6709418,-31.6069451
END:VEVENT
BEGIN:VEVENT
DTSTART;VALUE=DATE:20220606
DTEND;VALUE=DATE:20220607
DTSTAMP:20260420T031422
CREATED:20220606T233444Z
LAST-MODIFIED:20220606T233552Z
UID:52170-1654473600-1654559999@www.ucsf.edu.ar
SUMMARY:Semana de Oración por la Unidad de los Cristianos
DESCRIPTION:La Semana de Oración por la Unidad de los Cristianos se celebra en torno a Pentecostés y lleva por lema “Nosotros hemos visto aparecer su estrella en el Oriente y venimos a adorarlo”\, una cita tomada del Evangelio de San Mateo sobre los Reyes Magos que buscaban a Jesús\, el Salvador recién nacido. \nSobre el tema elegido\, el Pontificio Consejo para la Promoción de la Unidad de los Cristianos señala que “más que nunca\, en estos tiempos difíciles\, necesitamos una luz que brille en las tinieblas\, y esa luz que proclaman los cristianos se ha manifestado ya en Jesucristo”.
URL:https://www.ucsf.edu.ar/evento/semana-de-oracion-por-la-unidad-de-los-cristianos/
LOCATION:UCSF Santa Fe\, Echagüe 7151\, Santa Fe\, Santa Fe\, Argentina
CATEGORIES:IB Instituto de Bioética Jerome Lejeune
ORGANIZER;CN="Instituto%20de%20Bio%C3%A9tica%20%22J%C3%A8r%C3%B4me%20Lejeune%22":MAILTO:bioetica@ucsf.edu.ar
GEO:-31.6069451;-60.6709418
X-APPLE-STRUCTURED-LOCATION;VALUE=URI;X-ADDRESS=UCSF Santa Fe Echagüe 7151 Santa Fe Santa Fe Argentina;X-APPLE-RADIUS=500;X-TITLE=Echagüe 7151:geo:-60.6709418,-31.6069451
END:VEVENT
BEGIN:VEVENT
DTSTART;TZID=America/Argentina/Buenos_Aires:20220607T150000
DTEND;TZID=America/Argentina/Buenos_Aires:20220607T170000
DTSTAMP:20260420T031422
CREATED:20220604T223208Z
LAST-MODIFIED:20220605T012902Z
UID:52137-1654614000-1654621200@www.ucsf.edu.ar
SUMMARY:Defensa de Tesis - Abog. Ricardo José Veglia - Doctorado en Ciencia Jurídica - Posgrado UCSF
DESCRIPTION:  \nEl Departamento de Posgrado de la Universidad Católica de Santa Fe invita al acto de Defensa de Tesis que se llevará a cabo el próximo martes 07 de junio del corriente año\, comprendida dentro del marco de la carrera de Posgrado: Doctorado en Ciencia Jurídica. \nCandidato: Abog. Ricardo José Veglia. \nDirección de Tesis: Dr. Fernando Gentile Bersano \nTítulo de Tesis: \n“FUNDAMENTOS JURÍDICOS DE LA TIPIFICACIÓN PENAL DEL CORRETAJE INMOBILIARIO ILEGAL Y EL FACILITAMIENTO DE MATRÍCULA: SU VINCULACIÓN CON EL LAVADO DE ACTIVOS”. \n  \nMiembros del tribunal examinador: \nDr. Carlos Mauricio González Guerra \nDr. Hernán Munilla Lacasa \nDr. Claudio Marcelo Palacín  \nHorario de Defensa: 15:00 hs  –  Modalidad Zoom \n  \nUnirse a la reunión Zoom \nhttps://zoom.us/j/93652765232?pwd=MmVnUjcrSGpyTHVZUk92bHFSbG9MZz09 \nID de reunión: 936 5276 5232 \nCódigo de acceso: 07062022 \n 
URL:https://www.ucsf.edu.ar/evento/defensa-de-tesis-abog-ricardo-jose-veglia-doctorado-en-ciencia-juridica-posgrado-ucsf/
LOCATION:Vía Zoom\, Argentina
CATEGORIES:Santa Fe,Alumnos,Docentes,Personal UCSF,Carreras de Posgrado,Doctorado en Ciencias Jurídicas,Sedes
ATTACH;FMTTYPE=image/jpeg:https://www.ucsf.edu.ar/wp-content/uploads/2022/06/IMG-20220604-WA0029.jpg
END:VEVENT
BEGIN:VEVENT
DTSTART;TZID=America/Argentina/Buenos_Aires:20220607T160000
DTEND;TZID=America/Argentina/Buenos_Aires:20220607T170000
DTSTAMP:20260420T031422
CREATED:20220602T235354Z
LAST-MODIFIED:20220603T000358Z
UID:52125-1654617600-1654621200@www.ucsf.edu.ar
SUMMARY:Hora Santa de Pentecostés
DESCRIPTION:Para celebrar la venida del Espíritu Santo en nuestra Universidad\, nos reuniremos para realizar una Hora Santa en la Capilla de la Sede “Virgen de Guadalupe” de Santa Fe\, a las 16 hs.\nTe invitamos a acercarte aunque sea unos minutos y vivir este momento en comunidad.\n  \n“Dios de aquel Pentecostés: Se como viento que libremente mueve y anima dándonos fuerza. Reaviva el fuego que dio tu llama y convencenos de tu Palabra. Y danos coraje para salir.”\n(Pablo Martínez)\n  \n 
URL:https://www.ucsf.edu.ar/evento/hora-santa-de-pentecostes/
LOCATION:UCSF Santa Fe\, Echagüe 7151\, Santa Fe\, Santa Fe\, Argentina
CATEGORIES:Alumnos,Docentes,Personal UCSF,Vicerrectorado de Formación
ATTACH;FMTTYPE=image/jpeg:https://www.ucsf.edu.ar/wp-content/uploads/2022/06/Pentecostes_web.jpg
GEO:-31.6069451;-60.6709418
X-APPLE-STRUCTURED-LOCATION;VALUE=URI;X-ADDRESS=UCSF Santa Fe Echagüe 7151 Santa Fe Santa Fe Argentina;X-APPLE-RADIUS=500;X-TITLE=Echagüe 7151:geo:-60.6709418,-31.6069451
END:VEVENT
BEGIN:VEVENT
DTSTART;TZID=America/Argentina/Buenos_Aires:20220609T073000
DTEND;TZID=America/Argentina/Buenos_Aires:20220622T210448
DTSTAMP:20260420T031422
CREATED:20220622T210445Z
LAST-MODIFIED:20220622T210445Z
UID:52490-1654759800-1655931888@www.ucsf.edu.ar
SUMMARY:Chocolatada por los 65 años de la Universidad
DESCRIPTION:Con motivo de los 65 baños de nuestra Universidad\, queremos celebrar en comunidad\, compartiendo una chocolatada en cada una de las sedes. \nLos horarios son los siguientes: \nSanta Fe: 10 y 16hs\nRafaela: 10 y 17hs\nRosario: 10 y 17.30hs\nPosadas: 9.30 y 16.30hs\nReconquista: 10 y 17.30hs\nGualeguaychú: 18hs \n¡Los esperamos a todos!
URL:https://www.ucsf.edu.ar/evento/chocolatada-por-los-65-anos-de-la-universidad/
LOCATION:UCSF\, Echagüe 7151\, Santa Fe Capital\, Santa Fe\, 3000\, Argentina
CATEGORIES:Home principal,Santa Fe,Facultades,Alumnos,Docentes,Rosario,Carreras de Grado,Personal UCSF,Posadas,Reconquista,Rafaela,Gualeguaychú,Sedes,Extensión
ATTACH;FMTTYPE=image/jpeg:https://www.ucsf.edu.ar/wp-content/uploads/2022/06/CHOCOLATE-novedades-2.jpg
END:VEVENT
BEGIN:VEVENT
DTSTART;TZID=America/Argentina/Buenos_Aires:20220609T180000
DTEND;TZID=America/Argentina/Buenos_Aires:20220609T200000
DTSTAMP:20260420T031422
CREATED:20220622T212832Z
LAST-MODIFIED:20220622T212832Z
UID:52493-1654797600-1654804800@www.ucsf.edu.ar
SUMMARY:Acto por los 65 años de la Universidad
DESCRIPTION:Los festejos en la sede Virgen de Guadalupe\, comenzarán a las 18hs con una misa presidida por el Vice Canciller\, Pbro. Lic. Ernesto Agüera\, en agradecimiento por la historia recorrida. Será en la Capilla Universitaria. \nLuego\, a las 19hs se realizará un acto en el aula 1.27\, que finalizará con la participación del Coro Universitario\, y un Vino de Honor. \n¡Los esperamos para compartir juntos esta fiesta!
URL:https://www.ucsf.edu.ar/evento/acto-por-los-65-anos-de-la-universidad/
LOCATION:UCSF Santa Fe\, Echagüe 7151\, Santa Fe\, Santa Fe\, Argentina
CATEGORIES:Home principal,UVT, Unidad de Vincullación Tecnológica,Santa Fe,Facultades,Alumnos,Carreras de Grado,Docentes,Personal UCSF,Sedes,Extensión
ATTACH;FMTTYPE=image/png:https://www.ucsf.edu.ar/wp-content/uploads/2022/06/logo-65-azul-png.png
GEO:-31.6069451;-60.6709418
X-APPLE-STRUCTURED-LOCATION;VALUE=URI;X-ADDRESS=UCSF Santa Fe Echagüe 7151 Santa Fe Santa Fe Argentina;X-APPLE-RADIUS=500;X-TITLE=Echagüe 7151:geo:-60.6709418,-31.6069451
END:VEVENT
BEGIN:VEVENT
DTSTART;VALUE=DATE:20220610
DTEND;VALUE=DATE:20220611
DTSTAMP:20260420T031422
CREATED:20220609T114404Z
LAST-MODIFIED:20220609T114423Z
UID:52214-1654819200-1654905599@www.ucsf.edu.ar
SUMMARY:Semana de Oración por la Unidad de los Cristianos
DESCRIPTION:La Semana de Oración por la Unidad de los Cristianos se celebra en torno a Pentecostés y lleva por lema “Nosotros hemos visto aparecer su estrella en el Oriente y venimos a adorarlo”\, una cita tomada del Evangelio de San Mateo sobre los Reyes Magos que buscaban a Jesús\, el Salvador recién nacido. \nEn esta región del mundo donde los derechos humanos son habitualmente pisoteados por intereses políticos y económicos injustos\, afectada por la actual crisis sanitaria internacional sin precedentes y que sufre por las pérdidas materiales y humanas se hace necesario unirnos en oración para afrontar estas adversidades.
URL:https://www.ucsf.edu.ar/evento/semana-de-oracion-por-la-unidad-de-los-cristianos-2/
LOCATION:UCSF Santa Fe\, Echagüe 7151\, Santa Fe\, Santa Fe\, Argentina
CATEGORIES:IB Instituto de Bioética Jerome Lejeune
ORGANIZER;CN="Instituto%20de%20Bio%C3%A9tica%20%22J%C3%A8r%C3%B4me%20Lejeune%22":MAILTO:bioetica@ucsf.edu.ar
GEO:-31.6069451;-60.6709418
X-APPLE-STRUCTURED-LOCATION;VALUE=URI;X-ADDRESS=UCSF Santa Fe Echagüe 7151 Santa Fe Santa Fe Argentina;X-APPLE-RADIUS=500;X-TITLE=Echagüe 7151:geo:-60.6709418,-31.6069451
END:VEVENT
BEGIN:VEVENT
DTSTART;TZID=America/Argentina/Buenos_Aires:20220610T150000
DTEND;TZID=America/Argentina/Buenos_Aires:20220610T160000
DTSTAMP:20260420T031422
CREATED:20220528T153553Z
LAST-MODIFIED:20220528T160039Z
UID:51912-1654873200-1654876800@www.ucsf.edu.ar
SUMMARY:Círculo de reflexión socio-eco-jurídica
DESCRIPTION:  \nEspacio de intercambio académico que articula debates actuales sobre derecho\, sociedad y ecología desde enfoques interdisciplinarios. \nMetodológicamente se trabaja a partir de textos difundidos previamente entre los participantes y que son presentados brevemente por uno de ellos al iniciar el encuentro. Tal presentación sirve de disparador para el intercambio abierto y plural. \nConvoca  a participantes de diferentes áreas académicas y otros ámbitos sociales\, y suele funcionar como un rico espacio de inspiración para el trabajo de producción académica. \n  \n  \n  \n  \n  \n  \n  \n  \n  \ndere \ncoorganizado por Fundación Ecoceno \nen Colaboración con el Programa Ciencia y Técnica en Casa de la Secretaría de Ciencia\, Técnica y Extensión de la UCSF
URL:https://www.ucsf.edu.ar/evento/circulo-de-reflexion-socio-eco-juridica-5-2022-06-10/2022-06-10/
LOCATION:UCSF Santa Fe\, Echagüe 7151\, Santa Fe\, Santa Fe\, Argentina
CATEGORIES:Investigación Ecojurídica,Alumnos,Docentes
ORGANIZER;CN="Equipo%20de%20Investigaci%C3%B3n%20Socio-Eco-Jur%C3%ADdica":MAILTO:ecojurinvestiga@ucsf.edu.ar
GEO:-31.6069451;-60.6709418
X-APPLE-STRUCTURED-LOCATION;VALUE=URI;X-ADDRESS=UCSF Santa Fe Echagüe 7151 Santa Fe Santa Fe Argentina;X-APPLE-RADIUS=500;X-TITLE=Echagüe 7151:geo:-60.6709418,-31.6069451
END:VEVENT
BEGIN:VEVENT
DTSTART;TZID=America/Argentina/Buenos_Aires:20220610T160000
DTEND;TZID=America/Argentina/Buenos_Aires:20220610T170000
DTSTAMP:20260420T031422
CREATED:20220603T145244Z
LAST-MODIFIED:20220609T160203Z
UID:52133-1654876800-1654880400@www.ucsf.edu.ar
SUMMARY:El CVar como organizador del CV docente
DESCRIPTION:El Programa Universidad Abierta\, en conjunto con la Secretaría de Gestión Estratégica\, comunican que se encuentra abierta la inscripción al Seminario: “El CVar como organizador del CV docente”. \nObjetivos: \nObjetivo General: \n· Organizar y mantener un registro unificado y normalizado de antecedentes curriculares del personal científico y tecnológico\, con actualización permanente y en línea\, con el fin de producir información estadística detallada\, confiable y actualizada en tiempo real. \nObjetivos Específicos: \n· Brindar las herramientas básicas para la preparación\, selección y clasificación de la información para el llenado del formulario del currículo normalizado «CVar. \n· Ofrecer la posibilidad de realizar y participar en convocatorias institucionales\, utilizando información cargada en el CVar y evitando que el investigador tenga que completar nuevamente su currículum vitae en los formularios y bases de datos de las convocatorias. \nDisertante: Dra. Laura Oitana \nDestinatarios: Docentes de la UCSF \nDía y horario: viernes 10 de junio\, a las 16 hs. Duración aproximada 1 hora. \nModalidad: virtual \nInscripciones: https://www.eventbrite.com.ar/e/el-cvar-como-organizador-del-cv-docente-tickets-356347694547?aff=Inscripciones \nUnirse a la reunión Zoom\nhttps://zoom.us/j/98210818789 \nID de reunión: 982 1081 8789 \nCV abreviado: Dra. Laura Oitana \nDra. en Educación. UCSF. 2005 \nEspecialización: Curso de Especialización: “Coordinadores de grupos operativos”. 1992. \nIntegrante del equipo de la Secretaría de Gestión Estratégica\, y responsable de los procesos de Autoevaluación Institucional y Acreditación de Carreras de Grado. UCSF. 2020-2021. \nSecretaria Académica de la Facultad de Ciencias Agropecuarias. UCSF. 2015-2016-2017. \nCoordinadora de la Comisión de Seguimiento de los alumnos de 1º y 2º años. Facultad de Psicología. UCSF. 2012-2015. \nSecretaria Académica de la Facultad de Psicología. UCSF. 2007-2015. \nSecretario de Gestión de la Facultad de Humanidades. UCSF. 2000-2007. \nProfesor Titular de la Práctica de la Enseñanza en el Nivel Medio y Superior Universitario\, de la Carrera de Profesorado Superior. UCSF. \nProfesor Titular: Prof. Titular de la Asignatura: Psicología de la Educación en las Carreras de Lic. en Psicopedagogía-Lic. en Ciencias de la Educación y Profesorado en Ciencias de la Educación. Sedes: Santa Fe y Reconquista.  Entre otros antecedentes. \n  \nInformes: Dra. Vanina Sturla: Coordinadora PUA. nsturla@ucsf.edu.ar
URL:https://www.ucsf.edu.ar/evento/el-cvar-como-organizador-del-cv-docente/
LOCATION:Santa Fe
CATEGORIES:Santa Fe,Alumnos,Rosario,Docentes,Posadas,Personal UCSF,Reconquista,Rafaela,Gualeguaychú,Sedes,Extensión,Investigación
ATTACH;FMTTYPE=image/jpeg:https://www.ucsf.edu.ar/wp-content/uploads/2022/06/IMAGEN-DESTACADA-CVar.jpg
END:VEVENT
BEGIN:VEVENT
DTSTART;TZID=America/Argentina/Buenos_Aires:20220611T090000
DTEND;TZID=America/Argentina/Buenos_Aires:20220611T100000
DTSTAMP:20260420T031422
CREATED:20220607T213106Z
LAST-MODIFIED:20220607T213629Z
UID:52196-1654938000-1654941600@www.ucsf.edu.ar
SUMMARY:5to Encuentro: Ofimática para no docentes
DESCRIPTION:5to Encuentro de Ofimática para no Docentes\nEcosistema de la Católica de Santa Fe:\nMicrosoft 365/ Office 365/Outlook 365 \n  \nRepaso de Outlook 365: Correo electrónico ucsf.edu.ar. Calendario. To Do. Adjuntos \nMicrosoft 365: Teams (Chat- Equipos- Calendario)\, One drive (Subir documentos y carpetas. Sincronizar\, compartir) \nRepaso de Office 365: Word- Excel. \nNuevo: Cociendo Share point. Delve. \n  \nInscripciones: Carina Banegas: cbanegas@ucsf.edu.ar
URL:https://www.ucsf.edu.ar/evento/5to-encuentro-ofimatica-para-no-docentes/
LOCATION:UCSF Santa Fe\, Echagüe 7151\, Santa Fe\, Santa Fe\, Argentina
CATEGORIES:Santa Fe,Rosario,Posadas,Personal UCSF,Reconquista,Rafaela,Gualeguaychú,Sedes,Extensión
GEO:-31.6069451;-60.6709418
X-APPLE-STRUCTURED-LOCATION;VALUE=URI;X-ADDRESS=UCSF Santa Fe Echagüe 7151 Santa Fe Santa Fe Argentina;X-APPLE-RADIUS=500;X-TITLE=Echagüe 7151:geo:-60.6709418,-31.6069451
END:VEVENT
END:VCALENDAR